BEGIN:VCALENDAR
VERSION:2.0
PRODID:-//Plaza Arthouse Cinema - ECPv5.14.1//NONSGML v1.0//EN
CALSCALE:GREGORIAN
METHOD:PUBLISH
X-WR-CALNAME:Plaza Arthouse Cinema
X-ORIGINAL-URL:https://plaza-mons.be
X-WR-CALDESC:Events for Plaza Arthouse Cinema
REFRESH-INTERVAL;VALUE=DURATION:PT1H
X-Robots-Tag:noindex
X-PUBLISHED-TTL:PT1H
BEGIN:VTIMEZONE
TZID:Europe/Brussels
BEGIN:DAYLIGHT
TZOFFSETFROM:+0100
TZOFFSETTO:+0200
TZNAME:CEST
DTSTART:20260329T010000
END:DAYLIGHT
BEGIN:STANDARD
TZOFFSETFROM:+0200
TZOFFSETTO:+0100
TZNAME:CET
DTSTART:20261025T010000
END:STANDARD
END:VTIMEZONE
BEGIN:VEVENT
DTSTART;TZID=Europe/Brussels:20260427T140000
DTEND;TZID=Europe/Brussels:20260427T151000
DTSTAMP:20260425T141631
CREATED:20260414T075414Z
LAST-MODIFIED:20260425T121348Z
UID:107042-1777298400-1777302600@plaza-mons.be
SUMMARY:Les contes du pommier
DESCRIPTION:Die my Love\n\n\n\n\n\n			\n				Bande annonce\n			\n		 \n\n\n\n\n\n\n\n\n\n\n\n\n\n\n\n\n\n\n\n\n\n\n\n\n\n\n\n\n\n\n\n\n\n\n\n\n\n\n\n\n\n\n\n\n\n\n\n\n\n\n\n\n\nBande annonce
URL:https://plaza-mons.be/film/les-contes-du-pommier/2026-04-27
ATTACH;FMTTYPE=image/jpeg:https://plaza-mons.be/wp-content/uploads/2026/03/les-contes-du-pommier-2.jpg
END:VEVENT
BEGIN:VEVENT
DTSTART;TZID=Europe/Brussels:20260427T140000
DTEND;TZID=Europe/Brussels:20260427T152200
DTSTAMP:20260425T141631
CREATED:20260421T114855Z
LAST-MODIFIED:20260425T121359Z
UID:107048-1777298400-1777303320@plaza-mons.be
SUMMARY:Super Charlie
DESCRIPTION:Die my Love\n\n\n\n\n\n			\n				Bande annonce\n			\n		 \n\n\n\n\n\n\n\n\n\n\n\n\n\n\n\n\n\n\n\n\n\n\n\n\n\n\n\n\n\n\n\n\n\n\n\n\n\n\n\n\n\n\n\n\n\n\n\n\n\n\n\n\n\nBande annonce
URL:https://plaza-mons.be/film/super-charlie/2026-04-27
ATTACH;FMTTYPE=image/jpeg:https://plaza-mons.be/wp-content/uploads/2026/04/super.jpg
END:VEVENT
BEGIN:VEVENT
DTSTART;TZID=Europe/Brussels:20260427T140000
DTEND;TZID=Europe/Brussels:20260427T153300
DTSTAMP:20260425T141631
CREATED:20260127T152216Z
LAST-MODIFIED:20260425T000130Z
UID:107029-1777298400-1777303980@plaza-mons.be
SUMMARY:Le chant des forêts
DESCRIPTION:Die my Love\n\n\n\n\n\n			\n				Bande annonce\n			\n		 \n\n\n\n\n\n\n\n\n\n\n\n\n\n\n\n\n\n\n\n\n\n\n\n\n\n\n\n\n\n\n\n\n\n\n\n\n\n\n\n\n\n\n\n\n\n\n\n\n\n\n\n\n\nBande annonce
URL:https://plaza-mons.be/film/le-chant-des-forets/2026-04-27
ATTACH;FMTTYPE=image/jpeg:https://plaza-mons.be/wp-content/uploads/2026/01/lechantdesforets-cineart-70x100-fr-original.jpg
END:VEVENT
BEGIN:VEVENT
DTSTART;TZID=Europe/Brussels:20260427T150000
DTEND;TZID=Europe/Brussels:20260427T163400
DTSTAMP:20260425T141632
CREATED:20260408T121953Z
LAST-MODIFIED:20260425T000203Z
UID:106966-1777302000-1777307640@plaza-mons.be
SUMMARY:Christy and his Brother
DESCRIPTION:Die my Love\n\n\n\n\n\n			\n				Bande annonce\n			\n		 \n\n\n\n\n\n\n\n\n\n\n\n\n\n\n\n\n\n\n\n\n\n\n\n\n\n\n\n\n\n\n\n\n\n\n\n\n\n\n\n\n\n\n\n\n\n\n\n\n\n\n\n\n\nBande annonce
URL:https://plaza-mons.be/film/christy-and-his-brother/2026-04-27
ATTACH;FMTTYPE=image/jpeg:https://plaza-mons.be/wp-content/uploads/2026/04/christy-and-his-brother.jpg
END:VEVENT
BEGIN:VEVENT
DTSTART;TZID=Europe/Brussels:20260427T160000
DTEND;TZID=Europe/Brussels:20260427T174000
DTSTAMP:20260425T141632
CREATED:20260421T113952Z
LAST-MODIFIED:20260425T121525Z
UID:106997-1777305600-1777311600@plaza-mons.be
SUMMARY:Alter ego
DESCRIPTION:Die my Love\n\n\n\n\n\n			\n				Bande annonce\n			\n		 \n\n\n\n\n\n\n\n\n\n\n\n\n\n\n\n\n\n\n\n\n\n\n\n\n\n\n\n\n\n\n\n\n\n\n\n\n\n\n\n\n\n\n\n\n\n\n\n\n\n\n\n\n\nBande annonce
URL:https://plaza-mons.be/film/alter-ego/2026-04-27
ATTACH;FMTTYPE=image/jpeg:https://plaza-mons.be/wp-content/uploads/2026/04/alter-ego.jpg
END:VEVENT
BEGIN:VEVENT
DTSTART;TZID=Europe/Brussels:20260427T160000
DTEND;TZID=Europe/Brussels:20260427T175300
DTSTAMP:20260425T141632
CREATED:20260408T122335Z
LAST-MODIFIED:20260425T000502Z
UID:106961-1777305600-1777312380@plaza-mons.be
SUMMARY:If I Had Legs I'd Kick You
DESCRIPTION:Die my Love
URL:https://plaza-mons.be/film/if-i-had-legs-id-kick-you/2026-04-27
ATTACH;FMTTYPE=image/jpeg:https://plaza-mons.be/wp-content/uploads/2026/04/if-i-had-legs-70x100-fr-original-1.jpg
END:VEVENT
BEGIN:VEVENT
DTSTART;TZID=Europe/Brussels:20260427T160000
DTEND;TZID=Europe/Brussels:20260427T180100
DTSTAMP:20260425T141632
CREATED:20260317T113154Z
LAST-MODIFIED:20260425T000458Z
UID:106958-1777305600-1777312860@plaza-mons.be
SUMMARY:I swear
DESCRIPTION:Die my Love\n\n\n\n\n\n			\n				Bande annonce\n			\n		 \n\n\n\n\n\n\n\n\n\n\n\n\n\n\n\n\n\n\n\n\n\n\n\n\n\n\n\n\n\n\n\n\n\n\n\n\n\n\n\n\n\n\n\n\n\n\n\n\n\n\n\n\n\nBande annonce
URL:https://plaza-mons.be/film/i-swear/2026-04-27
ATTACH;FMTTYPE=image/jpeg:https://plaza-mons.be/wp-content/uploads/2026/03/i-swear-1.jpg
END:VEVENT
BEGIN:VEVENT
DTSTART;TZID=Europe/Brussels:20260427T180000
DTEND;TZID=Europe/Brussels:20260427T193600
DTSTAMP:20260425T141632
CREATED:20260414T075755Z
LAST-MODIFIED:20260425T000307Z
UID:106952-1777312800-1777318560@plaza-mons.be
SUMMARY:Beginnings
DESCRIPTION:Die my Love\n\n\n\n\n\n			\n				Bande annonce\n			\n		 \n\n\n\n\n\n\n\n\n\n\n\n\n\n\n\n\n\n\n\n\n\n\n\n\n\n\n\n\n\n\n\n\n\n\n\n\n\n\n\n\n\n\n\n\n\n\n\n\n\n\n\n\n\nBande annonce
URL:https://plaza-mons.be/film/beginnings/2026-04-27
ATTACH;FMTTYPE=image/webp:https://plaza-mons.be/wp-content/uploads/2026/04/beginnings.webp
END:VEVENT
BEGIN:VEVENT
DTSTART;TZID=Europe/Brussels:20260427T181500
DTEND;TZID=Europe/Brussels:20260427T200000
DTSTAMP:20260425T141632
CREATED:20260414T080306Z
LAST-MODIFIED:20260425T000226Z
UID:106972-1777313700-1777320000@plaza-mons.be
SUMMARY:La corde au cou (Dead Man's Wire)
DESCRIPTION:Die my Love\n\n\n\n\n\n			\n				Bande annonce\n			\n		 \n\n\n\n\n\n\n\n\n\n\n\n\n\n\n\n\n\n\n\n\n\n\n\n\n\n\n\n\n\n\n\n\n\n\n\n\n\n\n\n\n\n\n\n\n\n\n\n\n\n\n\n\n\nBande annonce
URL:https://plaza-mons.be/film/la-corde-au-cou-dead-mans-wire/2026-04-27
ATTACH;FMTTYPE=image/jpeg:https://plaza-mons.be/wp-content/uploads/2026/04/la-corde-au-coup-1sheet-fr-large-1.jpg
END:VEVENT
BEGIN:VEVENT
DTSTART;TZID=Europe/Brussels:20260427T183000
DTEND;TZID=Europe/Brussels:20260427T200600
DTSTAMP:20260425T141632
CREATED:20260414T080106Z
LAST-MODIFIED:20260425T000150Z
UID:106986-1777314600-1777320360@plaza-mons.be
SUMMARY:Ceux qui comptent
DESCRIPTION:Die my Love\n\n\n\n\n\n			\n				Bande annonce\n			\n		 \n\n\n\n\n\n\n\n\n\n\n\n\n\n\n\n\n\n\n\n\n\n\n\n\n\n\n\n\n\n\n\n\n\n\n\n\n\n\n\n\n\n\n\n\n\n\n\n\n\n\n\n\n\nBande annonce
URL:https://plaza-mons.be/film/ceux-qui-comptent/2026-04-27
ATTACH;FMTTYPE=image/jpeg:https://plaza-mons.be/wp-content/uploads/2026/04/ceux-qui-comptent2.jpg
END:VEVENT
BEGIN:VEVENT
DTSTART;TZID=Europe/Brussels:20260427T193000
DTEND;TZID=Europe/Brussels:20260427T224500
DTSTAMP:20260425T141632
CREATED:20260331T113653Z
LAST-MODIFIED:20260425T000441Z
UID:106978-1777318200-1777329900@plaza-mons.be
SUMMARY:Les rayons et les ombres
DESCRIPTION:Die my Love\n\n\n\n\n\n			\n				Bande annonce\n			\n		 \n\n\n\n\n\n\n\n\n\n\n\n\n\n\n\n\n\n\n\n\n\n\n\n\n\n\n\n\n\n\n\n\n\n\n\n\n\n\n\n\n\n\n\n\n\n\n\n\n\n\n\n\n\nBande annonce
URL:https://plaza-mons.be/film/les-rayons-et-les-ombres/2026-04-27
ATTACH;FMTTYPE=image/jpeg:https://plaza-mons.be/wp-content/uploads/2026/03/lesrayonsetlesombres-cineart-def-original.jpg
END:VEVENT
BEGIN:VEVENT
DTSTART;TZID=Europe/Brussels:20260427T203000
DTEND;TZID=Europe/Brussels:20260427T220600
DTSTAMP:20260425T141632
CREATED:20260421T114445Z
LAST-MODIFIED:20260425T121348Z
UID:107024-1777321800-1777327560@plaza-mons.be
SUMMARY:La guerre des prix
DESCRIPTION:Die my Love\n\n\n\n\n\n			\n				Bande annonce\n			\n		 \n\n\n\n\n\n\n\n\n\n\n\n\n\n\n\n\n\n\n\n\n\n\n\n\n\n\n\n\n\n\n\n\n\n\n\n\n\n\n\n\n\n\n\n\n\n\n\n\n\n\n\n\n\nBande annonce
URL:https://plaza-mons.be/film/la-guerre-des-prix/2026-04-27
ATTACH;FMTTYPE=image/png:https://plaza-mons.be/wp-content/uploads/2026/04/la-guerre-des-prix.png
END:VEVENT
BEGIN:VEVENT
DTSTART;TZID=Europe/Brussels:20260427T203000
DTEND;TZID=Europe/Brussels:20260427T221600
DTSTAMP:20260425T141632
CREATED:20260421T114317Z
LAST-MODIFIED:20260425T000157Z
UID:107010-1777321800-1777328160@plaza-mons.be
SUMMARY:The Drama
DESCRIPTION:Die my Love\n\n\n\n\n\n			\n				Bande annonce\n			\n		 \n\n\n\n\n\n\n\n\n\n\n\n\n\n\n\n\n\n\n\n\n\n\n\n\n\n\n\n\n\n\n\n\n\n\n\n\n\n\n\n\n\n\n\n\n\n\n\n\n\n\n\n\n\nBande annonce
URL:https://plaza-mons.be/film/the-drama/2026-04-27
CATEGORIES:Nouveauté
ATTACH;FMTTYPE=image/jpeg:https://plaza-mons.be/wp-content/uploads/2026/04/the-drama.jpg
END:VEVENT
BEGIN:VEVENT
DTSTART;TZID=Europe/Brussels:20260427T203000
DTEND;TZID=Europe/Brussels:20260427T223800
DTSTAMP:20260425T141632
CREATED:20260421T114115Z
LAST-MODIFIED:20260425T121355Z
UID:107017-1777321800-1777329480@plaza-mons.be
SUMMARY:Yellow Letters
DESCRIPTION:Die my Love\n\n\n\n\n\n			\n				Bande annonce\n			\n		 \n\n\n\n\n\n\n\n\n\n\n\n\n\n\n\n\n\n\n\n\n\n\n\n\n\n\n\n\n\n\n\n\n\n\n\n\n\n\n\n\n\n\n\n\n\n\n\n\n\n\n\n\n\nBande annonce
URL:https://plaza-mons.be/film/yellow-letters/2026-04-27
ATTACH;FMTTYPE=image/jpeg:https://plaza-mons.be/wp-content/uploads/2026/04/yellow-letters-1.jpg
END:VEVENT
BEGIN:VEVENT
DTSTART;TZID=Europe/Brussels:20260428T140000
DTEND;TZID=Europe/Brussels:20260428T140000
DTSTAMP:20260425T141632
CREATED:20260331T114759Z
LAST-MODIFIED:20260425T000024Z
UID:107038-1777384800-1777384800@plaza-mons.be
SUMMARY:L'ourse et l'oiseau
DESCRIPTION:Die my Love\n\n\n\n\n\n			\n				Bande annonce\n			\n		 \n\n\n\n\n\n\n\n\n\n\n\n\n\n\n\n\n\n\n\n\n\n\n\n\n\n\n\n\n\n\n\n\n\n\n\n\n\n\n\n\n\n\n\n\n\n\n\n\n\n\n\n\n\nBande annonce
URL:https://plaza-mons.be/film/lourse-et-loiseau/2026-04-28
ATTACH;FMTTYPE=image/jpeg:https://plaza-mons.be/wp-content/uploads/2026/03/ourse-et-oiseau-affiche-original-1.jpg
END:VEVENT
BEGIN:VEVENT
DTSTART;TZID=Europe/Brussels:20260428T140000
DTEND;TZID=Europe/Brussels:20260428T153400
DTSTAMP:20260425T141632
CREATED:20260408T122157Z
LAST-MODIFIED:20260425T000208Z
UID:106991-1777384800-1777390440@plaza-mons.be
SUMMARY:Les filles du ciel
DESCRIPTION:Die my Love\n\n\n\n\n\n			\n				Bande annonce\n			\n		 \n\n\n\n\n\n\n\n\n\n\n\n\n\n\n\n\n\n\n\n\n\n\n\n\n\n\n\n\n\n\n\n\n\n\n\n\n\n\n\n\n\n\n\n\n\n\n\n\n\n\n\n\n\nBande annonce
URL:https://plaza-mons.be/film/les-filles-du-ciel/2026-04-28
ATTACH;FMTTYPE=image/jpeg:https://plaza-mons.be/wp-content/uploads/2026/04/lesfillesduciel-cineart-def-original.jpg
END:VEVENT
BEGIN:VEVENT
DTSTART;TZID=Europe/Brussels:20260428T140000
DTEND;TZID=Europe/Brussels:20260428T153600
DTSTAMP:20260425T141632
CREATED:20260414T080106Z
LAST-MODIFIED:20260425T000150Z
UID:106987-1777384800-1777390560@plaza-mons.be
SUMMARY:Ceux qui comptent
DESCRIPTION:Die my Love\n\n\n\n\n\n			\n				Bande annonce\n			\n		 \n\n\n\n\n\n\n\n\n\n\n\n\n\n\n\n\n\n\n\n\n\n\n\n\n\n\n\n\n\n\n\n\n\n\n\n\n\n\n\n\n\n\n\n\n\n\n\n\n\n\n\n\n\nBande annonce
URL:https://plaza-mons.be/film/ceux-qui-comptent/2026-04-28
ATTACH;FMTTYPE=image/jpeg:https://plaza-mons.be/wp-content/uploads/2026/04/ceux-qui-comptent2.jpg
END:VEVENT
BEGIN:VEVENT
DTSTART;TZID=Europe/Brussels:20260428T143000
DTEND;TZID=Europe/Brussels:20260428T160600
DTSTAMP:20260425T141632
CREATED:20260421T114445Z
LAST-MODIFIED:20260425T121348Z
UID:107025-1777386600-1777392360@plaza-mons.be
SUMMARY:La guerre des prix
DESCRIPTION:Die my Love\n\n\n\n\n\n			\n				Bande annonce\n			\n		 \n\n\n\n\n\n\n\n\n\n\n\n\n\n\n\n\n\n\n\n\n\n\n\n\n\n\n\n\n\n\n\n\n\n\n\n\n\n\n\n\n\n\n\n\n\n\n\n\n\n\n\n\n\nBande annonce
URL:https://plaza-mons.be/film/la-guerre-des-prix/2026-04-28
ATTACH;FMTTYPE=image/png:https://plaza-mons.be/wp-content/uploads/2026/04/la-guerre-des-prix.png
END:VEVENT
BEGIN:VEVENT
DTSTART;TZID=Europe/Brussels:20260428T153000
DTEND;TZID=Europe/Brussels:20260428T172200
DTSTAMP:20260425T141632
CREATED:20260331T114602Z
LAST-MODIFIED:20260425T000154Z
UID:107034-1777390200-1777396920@plaza-mons.be
SUMMARY:Une histoire vraie
DESCRIPTION:Die my Love
URL:https://plaza-mons.be/film/une-histoire-vraie/2026-04-28
ATTACH;FMTTYPE=image/jpeg:https://plaza-mons.be/wp-content/uploads/2026/03/une-histoire-vraie-retrospective-david-lynch.jpg
END:VEVENT
BEGIN:VEVENT
DTSTART;TZID=Europe/Brussels:20260428T160000
DTEND;TZID=Europe/Brussels:20260428T171000
DTSTAMP:20260425T141632
CREATED:20260414T075414Z
LAST-MODIFIED:20260425T121348Z
UID:107043-1777392000-1777396200@plaza-mons.be
SUMMARY:Les contes du pommier
DESCRIPTION:Die my Love\n\n\n\n\n\n			\n				Bande annonce\n			\n		 \n\n\n\n\n\n\n\n\n\n\n\n\n\n\n\n\n\n\n\n\n\n\n\n\n\n\n\n\n\n\n\n\n\n\n\n\n\n\n\n\n\n\n\n\n\n\n\n\n\n\n\n\n\nBande annonce
URL:https://plaza-mons.be/film/les-contes-du-pommier/2026-04-28
ATTACH;FMTTYPE=image/jpeg:https://plaza-mons.be/wp-content/uploads/2026/03/les-contes-du-pommier-2.jpg
END:VEVENT
BEGIN:VEVENT
DTSTART;TZID=Europe/Brussels:20260428T161500
DTEND;TZID=Europe/Brussels:20260428T173700
DTSTAMP:20260425T141632
CREATED:20260421T114855Z
LAST-MODIFIED:20260425T121359Z
UID:107049-1777392900-1777397820@plaza-mons.be
SUMMARY:Super Charlie
DESCRIPTION:Die my Love\n\n\n\n\n\n			\n				Bande annonce\n			\n		 \n\n\n\n\n\n\n\n\n\n\n\n\n\n\n\n\n\n\n\n\n\n\n\n\n\n\n\n\n\n\n\n\n\n\n\n\n\n\n\n\n\n\n\n\n\n\n\n\n\n\n\n\n\nBande annonce
URL:https://plaza-mons.be/film/super-charlie/2026-04-28
ATTACH;FMTTYPE=image/jpeg:https://plaza-mons.be/wp-content/uploads/2026/04/super.jpg
END:VEVENT
BEGIN:VEVENT
DTSTART;TZID=Europe/Brussels:20260428T171500
DTEND;TZID=Europe/Brussels:20260428T190100
DTSTAMP:20260425T141632
CREATED:20260421T114317Z
LAST-MODIFIED:20260425T000157Z
UID:107011-1777396500-1777402860@plaza-mons.be
SUMMARY:The Drama
DESCRIPTION:Die my Love\n\n\n\n\n\n			\n				Bande annonce\n			\n		 \n\n\n\n\n\n\n\n\n\n\n\n\n\n\n\n\n\n\n\n\n\n\n\n\n\n\n\n\n\n\n\n\n\n\n\n\n\n\n\n\n\n\n\n\n\n\n\n\n\n\n\n\n\nBande annonce
URL:https://plaza-mons.be/film/the-drama/2026-04-28
CATEGORIES:Nouveauté
ATTACH;FMTTYPE=image/jpeg:https://plaza-mons.be/wp-content/uploads/2026/04/the-drama.jpg
END:VEVENT
BEGIN:VEVENT
DTSTART;TZID=Europe/Brussels:20260428T173000
DTEND;TZID=Europe/Brussels:20260428T193600
DTSTAMP:20260425T141632
CREATED:20260408T121844Z
LAST-MODIFIED:20260425T000507Z
UID:107001-1777397400-1777404960@plaza-mons.be
SUMMARY:The Bride !
DESCRIPTION:Die my Love\n\n\n\n\n\n			\n				Bande annonce\n			\n		 \n\n\n\n\n\n\n\n\n\n\n\n\n\n\n\n\n\n\n\n\n\n\n\n\n\n\n\n\n\n\n\n\n\n\n\n\n\n\n\n\n\n\n\n\n\n\n\n\n\n\n\n\n\nBande annonce
URL:https://plaza-mons.be/film/the-bride/2026-04-28
ATTACH;FMTTYPE=image/jpeg:https://plaza-mons.be/wp-content/uploads/2026/04/the-bride.jpg
END:VEVENT
BEGIN:VEVENT
DTSTART;TZID=Europe/Brussels:20260428T180000
DTEND;TZID=Europe/Brussels:20260428T192800
DTSTAMP:20260425T141632
CREATED:20260320T191532Z
LAST-MODIFIED:20260425T000508Z
UID:106122-1777399200-1777404480@plaza-mons.be
SUMMARY:Séance-débat : Ceux qui veillent
DESCRIPTION:Die my Love
URL:https://plaza-mons.be/film/seance-debat-ceux-qui-veillent/2026-04-28
CATEGORIES:Avant-première
ATTACH;FMTTYPE=image/jpeg:https://plaza-mons.be/wp-content/uploads/2026/03/ceux-qui.jpeg
END:VEVENT
BEGIN:VEVENT
DTSTART;TZID=Europe/Brussels:20260428T180000
DTEND;TZID=Europe/Brussels:20260428T195300
DTSTAMP:20260425T141632
CREATED:20260408T122335Z
LAST-MODIFIED:20260425T000503Z
UID:106962-1777399200-1777405980@plaza-mons.be
SUMMARY:If I Had Legs I'd Kick You
DESCRIPTION:Die my Love
URL:https://plaza-mons.be/film/if-i-had-legs-id-kick-you/2026-04-28
ATTACH;FMTTYPE=image/jpeg:https://plaza-mons.be/wp-content/uploads/2026/04/if-i-had-legs-70x100-fr-original-1.jpg
END:VEVENT
BEGIN:VEVENT
DTSTART;TZID=Europe/Brussels:20260428T193000
DTEND;TZID=Europe/Brussels:20260428T224500
DTSTAMP:20260425T141632
CREATED:20260331T113653Z
LAST-MODIFIED:20260425T000443Z
UID:106979-1777404600-1777416300@plaza-mons.be
SUMMARY:Les rayons et les ombres
DESCRIPTION:Die my Love\n\n\n\n\n\n			\n				Bande annonce\n			\n		 \n\n\n\n\n\n\n\n\n\n\n\n\n\n\n\n\n\n\n\n\n\n\n\n\n\n\n\n\n\n\n\n\n\n\n\n\n\n\n\n\n\n\n\n\n\n\n\n\n\n\n\n\n\nBande annonce
URL:https://plaza-mons.be/film/les-rayons-et-les-ombres/2026-04-28
ATTACH;FMTTYPE=image/jpeg:https://plaza-mons.be/wp-content/uploads/2026/03/lesrayonsetlesombres-cineart-def-original.jpg
END:VEVENT
BEGIN:VEVENT
DTSTART;TZID=Europe/Brussels:20260428T203000
DTEND;TZID=Europe/Brussels:20260428T223800
DTSTAMP:20260425T141632
CREATED:20260421T114115Z
LAST-MODIFIED:20260425T121355Z
UID:107018-1777408200-1777415880@plaza-mons.be
SUMMARY:Yellow Letters
DESCRIPTION:Die my Love\n\n\n\n\n\n			\n				Bande annonce\n			\n		 \n\n\n\n\n\n\n\n\n\n\n\n\n\n\n\n\n\n\n\n\n\n\n\n\n\n\n\n\n\n\n\n\n\n\n\n\n\n\n\n\n\n\n\n\n\n\n\n\n\n\n\n\n\nBande annonce
URL:https://plaza-mons.be/film/yellow-letters/2026-04-28
ATTACH;FMTTYPE=image/jpeg:https://plaza-mons.be/wp-content/uploads/2026/04/yellow-letters-1.jpg
END:VEVENT
BEGIN:VEVENT
DTSTART;TZID=Europe/Brussels:20260428T204500
DTEND;TZID=Europe/Brussels:20260428T222100
DTSTAMP:20260425T141632
CREATED:20260414T075755Z
LAST-MODIFIED:20260425T000311Z
UID:106953-1777409100-1777414860@plaza-mons.be
SUMMARY:Beginnings
DESCRIPTION:Die my Love\n\n\n\n\n\n			\n				Bande annonce\n			\n		 \n\n\n\n\n\n\n\n\n\n\n\n\n\n\n\n\n\n\n\n\n\n\n\n\n\n\n\n\n\n\n\n\n\n\n\n\n\n\n\n\n\n\n\n\n\n\n\n\n\n\n\n\n\nBande annonce
URL:https://plaza-mons.be/film/beginnings/2026-04-28
ATTACH;FMTTYPE=image/webp:https://plaza-mons.be/wp-content/uploads/2026/04/beginnings.webp
END:VEVENT
BEGIN:VEVENT
DTSTART;TZID=Europe/Brussels:20260429T103000
DTEND;TZID=Europe/Brussels:20260429T125700
DTSTAMP:20260425T141632
CREATED:20260425T120407Z
LAST-MODIFIED:20260425T120408Z
UID:107346-1777458600-1777467420@plaza-mons.be
SUMMARY:Mulholland Drive
DESCRIPTION:Die my Love
URL:https://plaza-mons.be/film/mulholland-drive/2026-04-29
CATEGORIES:Nouveauté
ATTACH;FMTTYPE=image/webp:https://plaza-mons.be/wp-content/uploads/2026/04/mulholland-drive.webp
END:VEVENT
BEGIN:VEVENT
DTSTART;TZID=Europe/Brussels:20260429T110000
DTEND;TZID=Europe/Brussels:20260429T110000
DTSTAMP:20260425T141632
CREATED:20260331T114759Z
LAST-MODIFIED:20260331T114759Z
UID:107211-1777460400-1777460400@plaza-mons.be
SUMMARY:L'ourse et l'oiseau
DESCRIPTION:Die my Love\n\n\n\n\n\n			\n				Bande annonce\n			\n		 \n\n\n\n\n\n\n\n\n\n\n\n\n\n\n\n\n\n\n\n\n\n\n\n\n\n\n\n\n\n\n\n\n\n\n\n\n\n\n\n\n\n\n\n\n\n\n\n\n\n\n\n\n\nBande annonce
URL:https://plaza-mons.be/film/lourse-et-loiseau/2026-04-29
ATTACH;FMTTYPE=image/jpeg:https://plaza-mons.be/wp-content/uploads/2026/03/ourse-et-oiseau-affiche-original-1.jpg
END:VEVENT
END:VCALENDAR