BEGIN:VCALENDAR
VERSION:2.0
PRODID:-//Plaza Arthouse Cinema - ECPv5.14.1//NONSGML v1.0//EN
CALSCALE:GREGORIAN
METHOD:PUBLISH
X-WR-CALNAME:Plaza Arthouse Cinema
X-ORIGINAL-URL:https://plaza-mons.be
X-WR-CALDESC:Events for Plaza Arthouse Cinema
REFRESH-INTERVAL;VALUE=DURATION:PT1H
X-Robots-Tag:noindex
X-PUBLISHED-TTL:PT1H
BEGIN:VTIMEZONE
TZID:Europe/Brussels
BEGIN:DAYLIGHT
TZOFFSETFROM:+0100
TZOFFSETTO:+0200
TZNAME:CEST
DTSTART:20260329T010000
END:DAYLIGHT
BEGIN:STANDARD
TZOFFSETFROM:+0200
TZOFFSETTO:+0100
TZNAME:CET
DTSTART:20261025T010000
END:STANDARD
END:VTIMEZONE
BEGIN:VEVENT
DTSTART;TZID=Europe/Brussels:20260420T140000
DTEND;TZID=Europe/Brussels:20260420T171500
DTSTAMP:20260423T174240
CREATED:20260331T113653Z
LAST-MODIFIED:20260423T000311Z
UID:106688-1776693600-1776705300@plaza-mons.be
SUMMARY:Les rayons et les ombres
DESCRIPTION:Super Charlie\n\n\n\n\n\n			\n				Bande annonce\n			\n		 \n\n\n\n\n\n\n\n\n\n\n\n\n\n\n\n\n\n\n\n\n\n\n\n\n\n\n\n\n\n\n\n\n\n\n\n\n\n\n\n\n\n\n\n\n\n\n\n\n\n\n\n\n\nBande annonce
URL:https://plaza-mons.be/film/les-rayons-et-les-ombres/2026-04-20
ATTACH;FMTTYPE=image/jpeg:https://plaza-mons.be/wp-content/uploads/2026/03/lesrayonsetlesombres-cineart-def-original.jpg
END:VEVENT
BEGIN:VEVENT
DTSTART;TZID=Europe/Brussels:20260420T143000
DTEND;TZID=Europe/Brussels:20260420T163100
DTSTAMP:20260423T174240
CREATED:20260317T113154Z
LAST-MODIFIED:20260423T000118Z
UID:106701-1776695400-1776702660@plaza-mons.be
SUMMARY:I swear
DESCRIPTION:Super Charlie\n\n\n\n\n\n			\n				Bande annonce\n			\n		 \n\n\n\n\n\n\n\n\n\n\n\n\n\n\n\n\n\n\n\n\n\n\n\n\n\n\n\n\n\n\n\n\n\n\n\n\n\n\n\n\n\n\n\n\n\n\n\n\n\n\n\n\n\nBande annonce
URL:https://plaza-mons.be/film/i-swear/2026-04-20
ATTACH;FMTTYPE=image/jpeg:https://plaza-mons.be/wp-content/uploads/2026/03/i-swear-1.jpg
END:VEVENT
BEGIN:VEVENT
DTSTART;TZID=Europe/Brussels:20260420T150000
DTEND;TZID=Europe/Brussels:20260420T163600
DTSTAMP:20260423T174240
CREATED:20260414T075755Z
LAST-MODIFIED:20260423T000147Z
UID:106741-1776697200-1776702960@plaza-mons.be
SUMMARY:Beginnings
DESCRIPTION:Super Charlie\n\n\n\n\n\n			\n				Bande annonce\n			\n		 \n\n\n\n\n\n\n\n\n\n\n\n\n\n\n\n\n\n\n\n\n\n\n\n\n\n\n\n\n\n\n\n\n\n\n\n\n\n\n\n\n\n\n\n\n\n\n\n\n\n\n\n\n\nBande annonce
URL:https://plaza-mons.be/film/beginnings/2026-04-20
ATTACH;FMTTYPE=image/webp:https://plaza-mons.be/wp-content/uploads/2026/04/beginnings.webp
END:VEVENT
BEGIN:VEVENT
DTSTART;TZID=Europe/Brussels:20260420T150000
DTEND;TZID=Europe/Brussels:20260420T165200
DTSTAMP:20260423T174240
CREATED:20260331T114602Z
LAST-MODIFIED:20260423T000122Z
UID:106681-1776697200-1776703920@plaza-mons.be
SUMMARY:Une histoire vraie
DESCRIPTION:Super Charlie
URL:https://plaza-mons.be/film/une-histoire-vraie/2026-04-20
ATTACH;FMTTYPE=image/jpeg:https://plaza-mons.be/wp-content/uploads/2026/03/une-histoire-vraie-retrospective-david-lynch.jpg
END:VEVENT
BEGIN:VEVENT
DTSTART;TZID=Europe/Brussels:20260420T171500
DTEND;TZID=Europe/Brussels:20260420T185100
DTSTAMP:20260423T174240
CREATED:20260414T080106Z
LAST-MODIFIED:20260423T000234Z
UID:106748-1776705300-1776711060@plaza-mons.be
SUMMARY:Ceux qui comptent
DESCRIPTION:Super Charlie\n\n\n\n\n\n			\n				Bande annonce\n			\n		 \n\n\n\n\n\n\n\n\n\n\n\n\n\n\n\n\n\n\n\n\n\n\n\n\n\n\n\n\n\n\n\n\n\n\n\n\n\n\n\n\n\n\n\n\n\n\n\n\n\n\n\n\n\nBande annonce
URL:https://plaza-mons.be/film/ceux-qui-comptent/2026-04-20
ATTACH;FMTTYPE=image/jpeg:https://plaza-mons.be/wp-content/uploads/2026/04/ceux-qui-comptent2.jpg
END:VEVENT
BEGIN:VEVENT
DTSTART;TZID=Europe/Brussels:20260420T174500
DTEND;TZID=Europe/Brussels:20260420T195100
DTSTAMP:20260423T174240
CREATED:20260408T121844Z
LAST-MODIFIED:20260423T000134Z
UID:106720-1776707100-1776714660@plaza-mons.be
SUMMARY:The Bride !
DESCRIPTION:Super Charlie\n\n\n\n\n\n			\n				Bande annonce\n			\n		 \n\n\n\n\n\n\n\n\n\n\n\n\n\n\n\n\n\n\n\n\n\n\n\n\n\n\n\n\n\n\n\n\n\n\n\n\n\n\n\n\n\n\n\n\n\n\n\n\n\n\n\n\n\nBande annonce
URL:https://plaza-mons.be/film/the-bride/2026-04-20
ATTACH;FMTTYPE=image/jpeg:https://plaza-mons.be/wp-content/uploads/2026/04/the-bride.jpg
END:VEVENT
BEGIN:VEVENT
DTSTART;TZID=Europe/Brussels:20260420T180000
DTEND;TZID=Europe/Brussels:20260420T195300
DTSTAMP:20260423T174240
CREATED:20260408T122335Z
LAST-MODIFIED:20260423T000129Z
UID:106732-1776708000-1776714780@plaza-mons.be
SUMMARY:If I Had Legs I'd Kick You
DESCRIPTION:Super Charlie
URL:https://plaza-mons.be/film/if-i-had-legs-id-kick-you/2026-04-20
ATTACH;FMTTYPE=image/jpeg:https://plaza-mons.be/wp-content/uploads/2026/04/if-i-had-legs-70x100-fr-original-1.jpg
END:VEVENT
BEGIN:VEVENT
DTSTART;TZID=Europe/Brussels:20260420T180000
DTEND;TZID=Europe/Brussels:20260420T195600
DTSTAMP:20260423T174240
CREATED:20260317T112950Z
LAST-MODIFIED:20260421T000921Z
UID:106695-1776708000-1776714960@plaza-mons.be
SUMMARY:Calle Malaga
DESCRIPTION:Super Charlie\n\n\n\n\n\n			\n				Bande annonce\n			\n		 \n\n\n\n\n\n\n\n\n\n\n\n\n\n\n\n\n\n\n\n\n\n\n\n\n\n\n\n\n\n\n\n\n\n\n\n\n\n\n\n\n\n\n\n\n\n\n\n\n\n\n\n\n\nBande annonce
URL:https://plaza-mons.be/film/calle-malaga/2026-04-20
ATTACH;FMTTYPE=image/jpeg:https://plaza-mons.be/wp-content/uploads/2026/03/callemalaga-cineart-def-original.jpg
END:VEVENT
BEGIN:VEVENT
DTSTART;TZID=Europe/Brussels:20260420T193000
DTEND;TZID=Europe/Brussels:20260420T224500
DTSTAMP:20260423T174240
CREATED:20260331T113653Z
LAST-MODIFIED:20260423T000313Z
UID:106689-1776713400-1776725100@plaza-mons.be
SUMMARY:Les rayons et les ombres
DESCRIPTION:Super Charlie\n\n\n\n\n\n			\n				Bande annonce\n			\n		 \n\n\n\n\n\n\n\n\n\n\n\n\n\n\n\n\n\n\n\n\n\n\n\n\n\n\n\n\n\n\n\n\n\n\n\n\n\n\n\n\n\n\n\n\n\n\n\n\n\n\n\n\n\nBande annonce
URL:https://plaza-mons.be/film/les-rayons-et-les-ombres/2026-04-20/3
ATTACH;FMTTYPE=image/jpeg:https://plaza-mons.be/wp-content/uploads/2026/03/lesrayonsetlesombres-cineart-def-original.jpg
END:VEVENT
BEGIN:VEVENT
DTSTART;TZID=Europe/Brussels:20260420T203000
DTEND;TZID=Europe/Brussels:20260420T220400
DTSTAMP:20260423T174240
CREATED:20260408T121953Z
LAST-MODIFIED:20260423T000338Z
UID:106711-1776717000-1776722640@plaza-mons.be
SUMMARY:Christy and his Brother
DESCRIPTION:Super Charlie\n\n\n\n\n\n			\n				Bande annonce\n			\n		 \n\n\n\n\n\n\n\n\n\n\n\n\n\n\n\n\n\n\n\n\n\n\n\n\n\n\n\n\n\n\n\n\n\n\n\n\n\n\n\n\n\n\n\n\n\n\n\n\n\n\n\n\n\nBande annonce
URL:https://plaza-mons.be/film/christy-and-his-brother/2026-04-20
ATTACH;FMTTYPE=image/jpeg:https://plaza-mons.be/wp-content/uploads/2026/04/christy-and-his-brother.jpg
END:VEVENT
BEGIN:VEVENT
DTSTART;TZID=Europe/Brussels:20260420T203000
DTEND;TZID=Europe/Brussels:20260420T220400
DTSTAMP:20260423T174240
CREATED:20260408T122157Z
LAST-MODIFIED:20260423T000402Z
UID:106707-1776717000-1776722640@plaza-mons.be
SUMMARY:Les filles du ciel
DESCRIPTION:Super Charlie\n\n\n\n\n\n			\n				Bande annonce\n			\n		 \n\n\n\n\n\n\n\n\n\n\n\n\n\n\n\n\n\n\n\n\n\n\n\n\n\n\n\n\n\n\n\n\n\n\n\n\n\n\n\n\n\n\n\n\n\n\n\n\n\n\n\n\n\nBande annonce
URL:https://plaza-mons.be/film/les-filles-du-ciel/2026-04-20
ATTACH;FMTTYPE=image/jpeg:https://plaza-mons.be/wp-content/uploads/2026/04/lesfillesduciel-cineart-def-original.jpg
END:VEVENT
BEGIN:VEVENT
DTSTART;TZID=Europe/Brussels:20260420T203000
DTEND;TZID=Europe/Brussels:20260420T221500
DTSTAMP:20260423T174240
CREATED:20260414T080306Z
LAST-MODIFIED:20260423T000223Z
UID:106755-1776717000-1776723300@plaza-mons.be
SUMMARY:La corde au cou (Dead Man's Wire)
DESCRIPTION:Super Charlie\n\n\n\n\n\n			\n				Bande annonce\n			\n		 \n\n\n\n\n\n\n\n\n\n\n\n\n\n\n\n\n\n\n\n\n\n\n\n\n\n\n\n\n\n\n\n\n\n\n\n\n\n\n\n\n\n\n\n\n\n\n\n\n\n\n\n\n\nBande annonce
URL:https://plaza-mons.be/film/la-corde-au-cou-dead-mans-wire/2026-04-20
ATTACH;FMTTYPE=image/jpeg:https://plaza-mons.be/wp-content/uploads/2026/04/la-corde-au-coup-1sheet-fr-large-1.jpg
END:VEVENT
BEGIN:VEVENT
DTSTART;TZID=Europe/Brussels:20260421T140000
DTEND;TZID=Europe/Brussels:20260421T152800
DTSTAMP:20260423T174240
CREATED:20260320T122711Z
LAST-MODIFIED:20260421T000102Z
UID:106120-1776780000-1776785280@plaza-mons.be
SUMMARY:Ciné Pour Tous : Victor comme tout le monde
DESCRIPTION:Super Charlie\n\n\n\n\n\n			\n				Bande annonce\n			\n		 \n\n\n\n\n\n\n\n\n\n\n\n\n\n\n\n\n\n\n\n\n\n\n\n\n\n\n\n\n\n\n\n\n\n\n\n\n\n\n\n\n\n\n\n\n\n\n\n\n\n\n\n\n\nBande annonce
URL:https://plaza-mons.be/film/cine-pour-tous-victor-comme-tout-le-monde/2026-04-21
CATEGORIES:Avant-première
ATTACH;FMTTYPE=image/jpeg:https://plaza-mons.be/wp-content/uploads/2026/03/victor-120x160-scaled-original.jpg
END:VEVENT
BEGIN:VEVENT
DTSTART;TZID=Europe/Brussels:20260421T140000
DTEND;TZID=Europe/Brussels:20260421T162000
DTSTAMP:20260423T174241
CREATED:20260226T122616Z
LAST-MODIFIED:20260421T000752Z
UID:106675-1776780000-1776788400@plaza-mons.be
SUMMARY:Marty Supreme
DESCRIPTION:Super Charlie\n\n\n\n\n\n			\n				Bande annonce\n			\n		 \n\n\n\n\n\n\n\n\n\n\n\n\n\n\n\n\n\n\n\n\n\n\n\n\n\n\n\n\n\n\n\n\n\n\n\n\n\n\n\n\n\n\n\n\n\n\n\n\n\n\n\n\n\nBande annonce
URL:https://plaza-mons.be/film/marty-supreme/2026-04-21
CATEGORIES:Biopic,Drame
ATTACH;FMTTYPE=image/jpeg:https://plaza-mons.be/wp-content/uploads/2026/02/martysupreme-finalposter-vf-original.jpg
END:VEVENT
BEGIN:VEVENT
DTSTART;TZID=Europe/Brussels:20260421T150000
DTEND;TZID=Europe/Brussels:20260421T163600
DTSTAMP:20260423T174241
CREATED:20260414T075755Z
LAST-MODIFIED:20260423T000152Z
UID:106742-1776783600-1776789360@plaza-mons.be
SUMMARY:Beginnings
DESCRIPTION:Super Charlie\n\n\n\n\n\n			\n				Bande annonce\n			\n		 \n\n\n\n\n\n\n\n\n\n\n\n\n\n\n\n\n\n\n\n\n\n\n\n\n\n\n\n\n\n\n\n\n\n\n\n\n\n\n\n\n\n\n\n\n\n\n\n\n\n\n\n\n\nBande annonce
URL:https://plaza-mons.be/film/beginnings/2026-04-21
ATTACH;FMTTYPE=image/webp:https://plaza-mons.be/wp-content/uploads/2026/04/beginnings.webp
END:VEVENT
BEGIN:VEVENT
DTSTART;TZID=Europe/Brussels:20260421T150000
DTEND;TZID=Europe/Brussels:20260421T165600
DTSTAMP:20260423T174241
CREATED:20260317T112950Z
LAST-MODIFIED:20260421T000922Z
UID:106696-1776783600-1776790560@plaza-mons.be
SUMMARY:Calle Malaga
DESCRIPTION:Super Charlie\n\n\n\n\n\n			\n				Bande annonce\n			\n		 \n\n\n\n\n\n\n\n\n\n\n\n\n\n\n\n\n\n\n\n\n\n\n\n\n\n\n\n\n\n\n\n\n\n\n\n\n\n\n\n\n\n\n\n\n\n\n\n\n\n\n\n\n\nBande annonce
URL:https://plaza-mons.be/film/calle-malaga/2026-04-21
ATTACH;FMTTYPE=image/jpeg:https://plaza-mons.be/wp-content/uploads/2026/03/callemalaga-cineart-def-original.jpg
END:VEVENT
BEGIN:VEVENT
DTSTART;TZID=Europe/Brussels:20260421T163000
DTEND;TZID=Europe/Brussels:20260421T183100
DTSTAMP:20260423T174241
CREATED:20260317T113154Z
LAST-MODIFIED:20260423T000118Z
UID:106702-1776789000-1776796260@plaza-mons.be
SUMMARY:I swear
DESCRIPTION:Super Charlie\n\n\n\n\n\n			\n				Bande annonce\n			\n		 \n\n\n\n\n\n\n\n\n\n\n\n\n\n\n\n\n\n\n\n\n\n\n\n\n\n\n\n\n\n\n\n\n\n\n\n\n\n\n\n\n\n\n\n\n\n\n\n\n\n\n\n\n\nBande annonce
URL:https://plaza-mons.be/film/i-swear/2026-04-21
ATTACH;FMTTYPE=image/jpeg:https://plaza-mons.be/wp-content/uploads/2026/03/i-swear-1.jpg
END:VEVENT
BEGIN:VEVENT
DTSTART;TZID=Europe/Brussels:20260421T170000
DTEND;TZID=Europe/Brussels:20260421T185300
DTSTAMP:20260423T174241
CREATED:20260408T122335Z
LAST-MODIFIED:20260423T000129Z
UID:106733-1776790800-1776797580@plaza-mons.be
SUMMARY:If I Had Legs I'd Kick You
DESCRIPTION:Super Charlie
URL:https://plaza-mons.be/film/if-i-had-legs-id-kick-you/2026-04-21
ATTACH;FMTTYPE=image/jpeg:https://plaza-mons.be/wp-content/uploads/2026/04/if-i-had-legs-70x100-fr-original-1.jpg
END:VEVENT
BEGIN:VEVENT
DTSTART;TZID=Europe/Brussels:20260421T180000
DTEND;TZID=Europe/Brussels:20260421T193400
DTSTAMP:20260423T174241
CREATED:20260408T121953Z
LAST-MODIFIED:20260423T000338Z
UID:106712-1776794400-1776800040@plaza-mons.be
SUMMARY:Christy and his Brother
DESCRIPTION:Super Charlie\n\n\n\n\n\n			\n				Bande annonce\n			\n		 \n\n\n\n\n\n\n\n\n\n\n\n\n\n\n\n\n\n\n\n\n\n\n\n\n\n\n\n\n\n\n\n\n\n\n\n\n\n\n\n\n\n\n\n\n\n\n\n\n\n\n\n\n\nBande annonce
URL:https://plaza-mons.be/film/christy-and-his-brother/2026-04-21
ATTACH;FMTTYPE=image/jpeg:https://plaza-mons.be/wp-content/uploads/2026/04/christy-and-his-brother.jpg
END:VEVENT
BEGIN:VEVENT
DTSTART;TZID=Europe/Brussels:20260421T180000
DTEND;TZID=Europe/Brussels:20260421T194500
DTSTAMP:20260423T174241
CREATED:20260414T080306Z
LAST-MODIFIED:20260423T000224Z
UID:106756-1776794400-1776800700@plaza-mons.be
SUMMARY:La corde au cou (Dead Man's Wire)
DESCRIPTION:Super Charlie\n\n\n\n\n\n			\n				Bande annonce\n			\n		 \n\n\n\n\n\n\n\n\n\n\n\n\n\n\n\n\n\n\n\n\n\n\n\n\n\n\n\n\n\n\n\n\n\n\n\n\n\n\n\n\n\n\n\n\n\n\n\n\n\n\n\n\n\nBande annonce
URL:https://plaza-mons.be/film/la-corde-au-cou-dead-mans-wire/2026-04-21
ATTACH;FMTTYPE=image/jpeg:https://plaza-mons.be/wp-content/uploads/2026/04/la-corde-au-coup-1sheet-fr-large-1.jpg
END:VEVENT
BEGIN:VEVENT
DTSTART;TZID=Europe/Brussels:20260421T193000
DTEND;TZID=Europe/Brussels:20260421T224500
DTSTAMP:20260423T174241
CREATED:20260331T113653Z
LAST-MODIFIED:20260423T000315Z
UID:106690-1776799800-1776811500@plaza-mons.be
SUMMARY:Les rayons et les ombres
DESCRIPTION:Super Charlie\n\n\n\n\n\n			\n				Bande annonce\n			\n		 \n\n\n\n\n\n\n\n\n\n\n\n\n\n\n\n\n\n\n\n\n\n\n\n\n\n\n\n\n\n\n\n\n\n\n\n\n\n\n\n\n\n\n\n\n\n\n\n\n\n\n\n\n\nBande annonce
URL:https://plaza-mons.be/film/les-rayons-et-les-ombres/2026-04-21
ATTACH;FMTTYPE=image/jpeg:https://plaza-mons.be/wp-content/uploads/2026/03/lesrayonsetlesombres-cineart-def-original.jpg
END:VEVENT
BEGIN:VEVENT
DTSTART;TZID=Europe/Brussels:20260421T203000
DTEND;TZID=Europe/Brussels:20260421T220400
DTSTAMP:20260423T174241
CREATED:20260408T122157Z
LAST-MODIFIED:20260423T000402Z
UID:106708-1776803400-1776809040@plaza-mons.be
SUMMARY:Les filles du ciel
DESCRIPTION:Super Charlie\n\n\n\n\n\n			\n				Bande annonce\n			\n		 \n\n\n\n\n\n\n\n\n\n\n\n\n\n\n\n\n\n\n\n\n\n\n\n\n\n\n\n\n\n\n\n\n\n\n\n\n\n\n\n\n\n\n\n\n\n\n\n\n\n\n\n\n\nBande annonce
URL:https://plaza-mons.be/film/les-filles-du-ciel/2026-04-21
ATTACH;FMTTYPE=image/jpeg:https://plaza-mons.be/wp-content/uploads/2026/04/lesfillesduciel-cineart-def-original.jpg
END:VEVENT
BEGIN:VEVENT
DTSTART;TZID=Europe/Brussels:20260421T203000
DTEND;TZID=Europe/Brussels:20260421T220600
DTSTAMP:20260423T174241
CREATED:20260414T080106Z
LAST-MODIFIED:20260423T000234Z
UID:106749-1776803400-1776809160@plaza-mons.be
SUMMARY:Ceux qui comptent
DESCRIPTION:Super Charlie\n\n\n\n\n\n			\n				Bande annonce\n			\n		 \n\n\n\n\n\n\n\n\n\n\n\n\n\n\n\n\n\n\n\n\n\n\n\n\n\n\n\n\n\n\n\n\n\n\n\n\n\n\n\n\n\n\n\n\n\n\n\n\n\n\n\n\n\nBande annonce
URL:https://plaza-mons.be/film/ceux-qui-comptent/2026-04-21
ATTACH;FMTTYPE=image/jpeg:https://plaza-mons.be/wp-content/uploads/2026/04/ceux-qui-comptent2.jpg
END:VEVENT
BEGIN:VEVENT
DTSTART;TZID=Europe/Brussels:20260422T140000
DTEND;TZID=Europe/Brussels:20260422T171500
DTSTAMP:20260423T174241
CREATED:20260331T113653Z
LAST-MODIFIED:20260423T000317Z
UID:106973-1776866400-1776878100@plaza-mons.be
SUMMARY:Les rayons et les ombres
DESCRIPTION:Super Charlie\n\n\n\n\n\n			\n				Bande annonce\n			\n		 \n\n\n\n\n\n\n\n\n\n\n\n\n\n\n\n\n\n\n\n\n\n\n\n\n\n\n\n\n\n\n\n\n\n\n\n\n\n\n\n\n\n\n\n\n\n\n\n\n\n\n\n\n\nBande annonce
URL:https://plaza-mons.be/film/les-rayons-et-les-ombres/2026-04-22
ATTACH;FMTTYPE=image/jpeg:https://plaza-mons.be/wp-content/uploads/2026/03/lesrayonsetlesombres-cineart-def-original.jpg
END:VEVENT
BEGIN:VEVENT
DTSTART;TZID=Europe/Brussels:20260422T150000
DTEND;TZID=Europe/Brussels:20260422T163400
DTSTAMP:20260423T174241
CREATED:20260408T122157Z
LAST-MODIFIED:20260423T000402Z
UID:106988-1776870000-1776875640@plaza-mons.be
SUMMARY:Les filles du ciel
DESCRIPTION:Super Charlie\n\n\n\n\n\n			\n				Bande annonce\n			\n		 \n\n\n\n\n\n\n\n\n\n\n\n\n\n\n\n\n\n\n\n\n\n\n\n\n\n\n\n\n\n\n\n\n\n\n\n\n\n\n\n\n\n\n\n\n\n\n\n\n\n\n\n\n\nBande annonce
URL:https://plaza-mons.be/film/les-filles-du-ciel/2026-04-22
ATTACH;FMTTYPE=image/jpeg:https://plaza-mons.be/wp-content/uploads/2026/04/lesfillesduciel-cineart-def-original.jpg
END:VEVENT
BEGIN:VEVENT
DTSTART;TZID=Europe/Brussels:20260422T150000
DTEND;TZID=Europe/Brussels:20260422T164000
DTSTAMP:20260423T174241
CREATED:20260421T113952Z
LAST-MODIFIED:20260423T000329Z
UID:106992-1776870000-1776876000@plaza-mons.be
SUMMARY:Alter ego
DESCRIPTION:Super Charlie\n\n\n\n\n\n			\n				Bande annonce\n			\n		 \n\n\n\n\n\n\n\n\n\n\n\n\n\n\n\n\n\n\n\n\n\n\n\n\n\n\n\n\n\n\n\n\n\n\n\n\n\n\n\n\n\n\n\n\n\n\n\n\n\n\n\n\n\nBande annonce
URL:https://plaza-mons.be/film/alter-ego/2026-04-22
CATEGORIES:Nouveauté
ATTACH;FMTTYPE=image/jpeg:https://plaza-mons.be/wp-content/uploads/2026/04/alter-ego.jpg
END:VEVENT
BEGIN:VEVENT
DTSTART;TZID=Europe/Brussels:20260422T153000
DTEND;TZID=Europe/Brussels:20260422T164000
DTSTAMP:20260423T174241
CREATED:20260320T191419Z
LAST-MODIFIED:20260422T000120Z
UID:106121-1776871800-1776876000@plaza-mons.be
SUMMARY:Séance contée: Les contes du pommier
DESCRIPTION:Super Charlie\n\n\n\n\n\n			\n				Bande annonce\n			\n		 \n\n\n\n\n\n\n\n\n\n\n\n\n\n\n\n\n\n\n\n\n\n\n\n\n\n\n\n\n\n\n\n\n\n\n\n\n\n\n\n\n\n\n\n\n\n\n\n\n\n\n\n\n\nBande annonce
URL:https://plaza-mons.be/film/seance-contee-les-contes-du-pommier/2026-04-22
CATEGORIES:Avant-première
ATTACH;FMTTYPE=image/jpeg:https://plaza-mons.be/wp-content/uploads/2026/03/les-contes-du-pommier-2.jpg
END:VEVENT
BEGIN:VEVENT
DTSTART;TZID=Europe/Brussels:20260422T173000
DTEND;TZID=Europe/Brussels:20260422T190400
DTSTAMP:20260423T174241
CREATED:20260408T121953Z
LAST-MODIFIED:20260423T000338Z
UID:106963-1776879000-1776884640@plaza-mons.be
SUMMARY:Christy and his Brother
DESCRIPTION:Super Charlie\n\n\n\n\n\n			\n				Bande annonce\n			\n		 \n\n\n\n\n\n\n\n\n\n\n\n\n\n\n\n\n\n\n\n\n\n\n\n\n\n\n\n\n\n\n\n\n\n\n\n\n\n\n\n\n\n\n\n\n\n\n\n\n\n\n\n\n\nBande annonce
URL:https://plaza-mons.be/film/christy-and-his-brother/2026-04-22
ATTACH;FMTTYPE=image/jpeg:https://plaza-mons.be/wp-content/uploads/2026/04/christy-and-his-brother.jpg
END:VEVENT
BEGIN:VEVENT
DTSTART;TZID=Europe/Brussels:20260422T180000
DTEND;TZID=Europe/Brussels:20260422T193600
DTSTAMP:20260423T174241
CREATED:20260414T080106Z
LAST-MODIFIED:20260423T000234Z
UID:106980-1776880800-1776886560@plaza-mons.be
SUMMARY:Ceux qui comptent
DESCRIPTION:Super Charlie\n\n\n\n\n\n			\n				Bande annonce\n			\n		 \n\n\n\n\n\n\n\n\n\n\n\n\n\n\n\n\n\n\n\n\n\n\n\n\n\n\n\n\n\n\n\n\n\n\n\n\n\n\n\n\n\n\n\n\n\n\n\n\n\n\n\n\n\nBande annonce
URL:https://plaza-mons.be/film/ceux-qui-comptent/2026-04-22
ATTACH;FMTTYPE=image/jpeg:https://plaza-mons.be/wp-content/uploads/2026/04/ceux-qui-comptent2.jpg
END:VEVENT
BEGIN:VEVENT
DTSTART;TZID=Europe/Brussels:20260422T180000
DTEND;TZID=Europe/Brussels:20260422T194600
DTSTAMP:20260423T174241
CREATED:20260421T114317Z
LAST-MODIFIED:20260423T000330Z
UID:107002-1776880800-1776887160@plaza-mons.be
SUMMARY:The Drama
DESCRIPTION:Super Charlie\n\n\n\n\n\n			\n				Bande annonce\n			\n		 \n\n\n\n\n\n\n\n\n\n\n\n\n\n\n\n\n\n\n\n\n\n\n\n\n\n\n\n\n\n\n\n\n\n\n\n\n\n\n\n\n\n\n\n\n\n\n\n\n\n\n\n\n\nBande annonce
URL:https://plaza-mons.be/film/the-drama/2026-04-22
CATEGORIES:Nouveauté
ATTACH;FMTTYPE=image/jpeg:https://plaza-mons.be/wp-content/uploads/2026/04/the-drama.jpg
END:VEVENT
END:VCALENDAR