BEGIN:VCALENDAR
VERSION:2.0
PRODID:-//Plaza Arthouse Cinema - ECPv5.14.1//NONSGML v1.0//EN
CALSCALE:GREGORIAN
METHOD:PUBLISH
X-WR-CALNAME:Plaza Arthouse Cinema
X-ORIGINAL-URL:https://plaza-mons.be
X-WR-CALDESC:Events for Plaza Arthouse Cinema
REFRESH-INTERVAL;VALUE=DURATION:PT1H
X-Robots-Tag:noindex
X-PUBLISHED-TTL:PT1H
BEGIN:VTIMEZONE
TZID:Europe/Brussels
BEGIN:DAYLIGHT
TZOFFSETFROM:+0100
TZOFFSETTO:+0200
TZNAME:CEST
DTSTART:20260329T010000
END:DAYLIGHT
BEGIN:STANDARD
TZOFFSETFROM:+0200
TZOFFSETTO:+0100
TZNAME:CET
DTSTART:20261025T010000
END:STANDARD
END:VTIMEZONE
BEGIN:VEVENT
DTSTART;TZID=Europe/Brussels:20260126T143000
DTEND;TZID=Europe/Brussels:20260126T163800
DTSTAMP:20260423T203817
CREATED:20251222T104553Z
LAST-MODIFIED:20260201T000109Z
UID:102016-1769437800-1769445480@plaza-mons.be
SUMMARY:The Chronology  of Water
DESCRIPTION:Super Charlie\n\n\n\n\n\n			\n				Bande annonce\n			\n		 \n\n\n\n\n\n\n\n\n\n\n\n\n\n\n\n\n\n\n\n\n\n\n\n\n\n\n\n\n\n\n\n\n\n\n\n\n\n\n\n\n\n\n\n\n\n\n\n\n\n\n\n\n\nBande annonce
URL:https://plaza-mons.be/film/the-chronology-of-water/2026-01-26
ATTACH;FMTTYPE=image/png:https://plaza-mons.be/wp-content/uploads/2025/12/the-chronology-of-water-poster-visu-provisoire.png
END:VEVENT
BEGIN:VEVENT
DTSTART;TZID=Europe/Brussels:20260126T150000
DTEND;TZID=Europe/Brussels:20260126T164500
DTSTAMP:20260423T203817
CREATED:20251204T102406Z
LAST-MODIFIED:20260127T000102Z
UID:101879-1769439600-1769445900@plaza-mons.be
SUMMARY:Muganga\, celui qui soigne
DESCRIPTION:Super Charlie\n\n\n\n\n\n			\n				Bande annonce\n			\n		 \n\n\n\n\n\n\n\n\n\n\n\n\n\n\n\n\n\n\n\n\n\n\n\n\n\n\n\n\n\n\n\n\n\n\n\n\n\n\n\n\n\n\n\n\n\n\n\n\n\n\n\n\n\nBande annonce
URL:https://plaza-mons.be/film/muganga-celui-qui-soigne/2026-01-26
ATTACH;FMTTYPE=image/png:https://plaza-mons.be/wp-content/uploads/2025/12/muganga-poster.png
END:VEVENT
BEGIN:VEVENT
DTSTART;TZID=Europe/Brussels:20260126T150000
DTEND;TZID=Europe/Brussels:20260126T164600
DTSTAMP:20260423T203817
CREATED:20251222T105013Z
LAST-MODIFIED:20260305T000126Z
UID:102034-1769439600-1769445960@plaza-mons.be
SUMMARY:Vie privée
DESCRIPTION:Super Charlie\n\n\n\n\n\n			\n				Bande annonce\n			\n		 \n\n\n\n\n\n\n\n\n\n\n\n\n\n\n\n\n\n\n\n\n\n\n\n\n\n\n\n\n\n\n\n\n\n\n\n\n\n\n\n\n\n\n\n\n\n\n\n\n\n\n\n\n\nBande annonce
URL:https://plaza-mons.be/film/vie-privee/2026-01-26
ATTACH;FMTTYPE=image/jpeg:https://plaza-mons.be/wp-content/uploads/2025/12/vie-privee-poster-def-be-original.jpg
END:VEVENT
BEGIN:VEVENT
DTSTART;TZID=Europe/Brussels:20260126T150000
DTEND;TZID=Europe/Brussels:20260126T165000
DTSTAMP:20260423T203817
CREATED:20251222T104125Z
LAST-MODIFIED:20260203T003258Z
UID:101970-1769439600-1769446200@plaza-mons.be
SUMMARY:Father Mother Sister Brother
DESCRIPTION:Super Charlie\n\n\n\n\n\n			\n				Bande annonce\n			\n		 \n\n\n\n\n\n\n\n\n\n\n\n\n\n\n\n\n\n\n\n\n\n\n\n\n\n\n\n\n\n\n\n\n\n\n\n\n\n\n\n\n\n\n\n\n\n\n\n\n\n\n\n\n\nBande annonce
URL:https://plaza-mons.be/film/father-mother-sister-brother/2026-01-26
ATTACH;FMTTYPE=image/webp:https://plaza-mons.be/wp-content/uploads/2025/12/father-mother-sister-brother-poster.webp
END:VEVENT
BEGIN:VEVENT
DTSTART;TZID=Europe/Brussels:20260126T173000
DTEND;TZID=Europe/Brussels:20260126T195600
DTSTAMP:20260423T203817
CREATED:20251222T105523Z
LAST-MODIFIED:20260209T000022Z
UID:102073-1769448600-1769457360@plaza-mons.be
SUMMARY:Sound of Falling
DESCRIPTION:Super Charlie\n\n\n\n\n\n			\n				Bande annonce\n			\n		 \n\n\n\n\n\n\n\n\n\n\n\n\n\n\n\n\n\n\n\n\n\n\n\n\n\n\n\n\n\n\n\n\n\n\n\n\n\n\n\n\n\n\n\n\n\n\n\n\n\n\n\n\n\nBande annonce
URL:https://plaza-mons.be/film/sound-of-falling/2026-01-26
ATTACH;FMTTYPE=image/jpeg:https://plaza-mons.be/wp-content/uploads/2025/12/sound-of-falling-poster-1.jpg
END:VEVENT
BEGIN:VEVENT
DTSTART;TZID=Europe/Brussels:20260126T174500
DTEND;TZID=Europe/Brussels:20260126T193000
DTSTAMP:20260423T203817
CREATED:20251222T103028Z
LAST-MODIFIED:20260125T000009Z
UID:101907-1769449500-1769455800@plaza-mons.be
SUMMARY:Folktales
DESCRIPTION:Super Charlie\n\n\n\n\n\n			\n				Bande annonce\n			\n		 \n\n\n\n\n\n\n\n\n\n\n\n\n\n\n\n\n\n\n\n\n\n\n\n\n\n\n\n\n\n\n\n\n\n\n\n\n\n\n\n\n\n\n\n\n\n\n\n\n\n\n\n\n\nBande annonce
URL:https://plaza-mons.be/film/folktales/2026-01-26
ATTACH;FMTTYPE=image/jpeg:https://plaza-mons.be/wp-content/uploads/2025/12/folktales-poster.jpg
END:VEVENT
BEGIN:VEVENT
DTSTART;TZID=Europe/Brussels:20260126T180000
DTEND;TZID=Europe/Brussels:20260126T195200
DTSTAMP:20260423T203817
CREATED:20251222T104301Z
LAST-MODIFIED:20260210T000038Z
UID:101998-1769450400-1769457120@plaza-mons.be
SUMMARY:Ma frère
DESCRIPTION:Super Charlie\n\n\n\n\n\n			\n				Bande annonce\n			\n		 \n\n\n\n\n\n\n\n\n\n\n\n\n\n\n\n\n\n\n\n\n\n\n\n\n\n\n\n\n\n\n\n\n\n\n\n\n\n\n\n\n\n\n\n\n\n\n\n\n\n\n\n\n\nBande annonce
URL:https://plaza-mons.be/film/ma-frere-2/2026-01-26
ATTACH;FMTTYPE=image/jpeg:https://plaza-mons.be/wp-content/uploads/2025/12/ma-frere-poster.jpg
END:VEVENT
BEGIN:VEVENT
DTSTART;TZID=Europe/Brussels:20260126T180000
DTEND;TZID=Europe/Brussels:20260126T200500
DTSTAMP:20260423T203817
CREATED:20251222T105731Z
LAST-MODIFIED:20260330T000313Z
UID:102088-1769450400-1769457900@plaza-mons.be
SUMMARY:Hamnet
DESCRIPTION:Super Charlie\n\n\n\n\n\n			\n				Bande annonce\n			\n		 \n\n\n\n\n\n\n\n\n\n\n\n\n\n\n\n\n\n\n\n\n\n\n\n\n\n\n\n\n\n\n\n\n\n\n\n\n\n\n\n\n\n\n\n\n\n\n\n\n\n\n\n\n\nBande annonce
URL:https://plaza-mons.be/film/hamnet/2026-01-26
ATTACH;FMTTYPE=image/jpeg:https://plaza-mons.be/wp-content/uploads/2025/12/hamnet-poster.jpg
END:VEVENT
BEGIN:VEVENT
DTSTART;TZID=Europe/Brussels:20260126T203000
DTEND;TZID=Europe/Brussels:20260126T221000
DTSTAMP:20260423T203817
CREATED:20251222T105127Z
LAST-MODIFIED:20260210T000009Z
UID:102056-1769459400-1769465400@plaza-mons.be
SUMMARY:Blue Moon
DESCRIPTION:Super Charlie\n\n\n\n\n\n			\n				Bande annonce\n			\n		 \n\n\n\n\n\n\n\n\n\n\n\n\n\n\n\n\n\n\n\n\n\n\n\n\n\n\n\n\n\n\n\n\n\n\n\n\n\n\n\n\n\n\n\n\n\n\n\n\n\n\n\n\n\nBande annonce
URL:https://plaza-mons.be/film/blue-moon/2026-01-26
ATTACH;FMTTYPE=image/jpeg:https://plaza-mons.be/wp-content/uploads/2025/12/blue-moon-poster.jpg
END:VEVENT
BEGIN:VEVENT
DTSTART;TZID=Europe/Brussels:20260126T203000
DTEND;TZID=Europe/Brussels:20260126T221600
DTSTAMP:20260423T203817
CREATED:20251222T105013Z
LAST-MODIFIED:20260305T000126Z
UID:102035-1769459400-1769465760@plaza-mons.be
SUMMARY:Vie privée
DESCRIPTION:Super Charlie\n\n\n\n\n\n			\n				Bande annonce\n			\n		 \n\n\n\n\n\n\n\n\n\n\n\n\n\n\n\n\n\n\n\n\n\n\n\n\n\n\n\n\n\n\n\n\n\n\n\n\n\n\n\n\n\n\n\n\n\n\n\n\n\n\n\n\n\nBande annonce
URL:https://plaza-mons.be/film/vie-privee/2026-01-26/2
ATTACH;FMTTYPE=image/jpeg:https://plaza-mons.be/wp-content/uploads/2025/12/vie-privee-poster-def-be-original.jpg
END:VEVENT
BEGIN:VEVENT
DTSTART;TZID=Europe/Brussels:20260126T203000
DTEND;TZID=Europe/Brussels:20260126T221800
DTSTAMP:20260423T203817
CREATED:20251222T103956Z
LAST-MODIFIED:20260127T000015Z
UID:101956-1769459400-1769465880@plaza-mons.be
SUMMARY:Louise
DESCRIPTION:Super Charlie\n\n\n\n\n\n			\n				Bande annonce\n			\n		 \n\n\n\n\n\n\n\n\n\n\n\n\n\n\n\n\n\n\n\n\n\n\n\n\n\n\n\n\n\n\n\n\n\n\n\n\n\n\n\n\n\n\n\n\n\n\n\n\n\n\n\n\n\nBande annonce
URL:https://plaza-mons.be/film/louise/2026-01-26
ATTACH;FMTTYPE=image/jpeg:https://plaza-mons.be/wp-content/uploads/2025/12/louise-poster.jpg
END:VEVENT
BEGIN:VEVENT
DTSTART;TZID=Europe/Brussels:20260126T203000
DTEND;TZID=Europe/Brussels:20260126T223300
DTSTAMP:20260423T203817
CREATED:20251222T110019Z
LAST-MODIFIED:20260217T000018Z
UID:102105-1769459400-1769466780@plaza-mons.be
SUMMARY:L’affaire Bojarski
DESCRIPTION:Super Charlie\n\n\n\n\n\n			\n				Bande annonce\n			\n		 \n\n\n\n\n\n\n\n\n\n\n\n\n\n\n\n\n\n\n\n\n\n\n\n\n\n\n\n\n\n\n\n\n\n\n\n\n\n\n\n\n\n\n\n\n\n\n\n\n\n\n\n\n\nBande annonce
URL:https://plaza-mons.be/film/laffaire-bojarski/2026-01-26
ATTACH;FMTTYPE=image/jpeg:https://plaza-mons.be/wp-content/uploads/2025/12/laffaire-bojarski-1.jpg
END:VEVENT
BEGIN:VEVENT
DTSTART;TZID=Europe/Brussels:20260127T140000
DTEND;TZID=Europe/Brussels:20260127T140000
DTSTAMP:20260423T203817
CREATED:20251204T101705Z
LAST-MODIFIED:20260127T000012Z
UID:101839-1769522400-1769522400@plaza-mons.be
SUMMARY:The Secret Agent (O Agente Secreto)
DESCRIPTION:Super Charlie\n\n\n\n\n\n			\n				Bande annonce\n			\n		 \n\n\n\n\n\n\n\n\n\n\n\n\n\n\n\n\n\n\n\n\n\n\n\n\n\n\n\n\n\n\n\n\n\n\n\n\n\n\n\n\n\n\n\n\n\n\n\n\n\n\n\n\n\nBande annonce
URL:https://plaza-mons.be/film/the-secret-agent/2026-01-27
ATTACH;FMTTYPE=image/jpeg:https://plaza-mons.be/wp-content/uploads/2025/12/the-secret-agent-web-normal.jpg
END:VEVENT
BEGIN:VEVENT
DTSTART;TZID=Europe/Brussels:20260127T150000
DTEND;TZID=Europe/Brussels:20260127T164800
DTSTAMP:20260423T203817
CREATED:20251222T103956Z
LAST-MODIFIED:20260127T000015Z
UID:101957-1769526000-1769532480@plaza-mons.be
SUMMARY:Louise
DESCRIPTION:Super Charlie\n\n\n\n\n\n			\n				Bande annonce\n			\n		 \n\n\n\n\n\n\n\n\n\n\n\n\n\n\n\n\n\n\n\n\n\n\n\n\n\n\n\n\n\n\n\n\n\n\n\n\n\n\n\n\n\n\n\n\n\n\n\n\n\n\n\n\n\nBande annonce
URL:https://plaza-mons.be/film/louise/2026-01-27
ATTACH;FMTTYPE=image/jpeg:https://plaza-mons.be/wp-content/uploads/2025/12/louise-poster.jpg
END:VEVENT
BEGIN:VEVENT
DTSTART;TZID=Europe/Brussels:20260127T150000
DTEND;TZID=Europe/Brussels:20260127T170300
DTSTAMP:20260423T203817
CREATED:20251222T110019Z
LAST-MODIFIED:20260217T000019Z
UID:102106-1769526000-1769533380@plaza-mons.be
SUMMARY:L’affaire Bojarski
DESCRIPTION:Super Charlie\n\n\n\n\n\n			\n				Bande annonce\n			\n		 \n\n\n\n\n\n\n\n\n\n\n\n\n\n\n\n\n\n\n\n\n\n\n\n\n\n\n\n\n\n\n\n\n\n\n\n\n\n\n\n\n\n\n\n\n\n\n\n\n\n\n\n\n\nBande annonce
URL:https://plaza-mons.be/film/laffaire-bojarski/2026-01-27
ATTACH;FMTTYPE=image/jpeg:https://plaza-mons.be/wp-content/uploads/2025/12/laffaire-bojarski-1.jpg
END:VEVENT
BEGIN:VEVENT
DTSTART;TZID=Europe/Brussels:20260127T150000
DTEND;TZID=Europe/Brussels:20260127T170500
DTSTAMP:20260423T203817
CREATED:20251222T103553Z
LAST-MODIFIED:20260312T000611Z
UID:101464-1769526000-1769533500@plaza-mons.be
SUMMARY:Sailor et Lula  (Wild at Heart) : Rétrospective Lynch
DESCRIPTION:Super Charlie\n\n\n\n\n\n			\n				Bande annonce\n			\n		 \n\n\n\n\n\n\n\n\n\n\n\n\n\n\n\n\n\n\n\n\n\n\n\n\n\n\n\n\n\n\n\n\n\n\n\n\n\n\n\n\n\n\n\n\n\n\n\n\n\n\n\n\n\nBande annonce
URL:https://plaza-mons.be/film/sailor-et-lula-wild-at-heart-retrospective-lynch/2026-01-27
ATTACH;FMTTYPE=image/jpeg:https://plaza-mons.be/wp-content/uploads/2025/12/wild-at-heart-poster.jpg
END:VEVENT
BEGIN:VEVENT
DTSTART;TZID=Europe/Brussels:20260127T171500
DTEND;TZID=Europe/Brussels:20260127T192300
DTSTAMP:20260423T203817
CREATED:20251222T104553Z
LAST-MODIFIED:20260201T000109Z
UID:102017-1769534100-1769541780@plaza-mons.be
SUMMARY:The Chronology  of Water
DESCRIPTION:Super Charlie\n\n\n\n\n\n			\n				Bande annonce\n			\n		 \n\n\n\n\n\n\n\n\n\n\n\n\n\n\n\n\n\n\n\n\n\n\n\n\n\n\n\n\n\n\n\n\n\n\n\n\n\n\n\n\n\n\n\n\n\n\n\n\n\n\n\n\n\nBande annonce
URL:https://plaza-mons.be/film/the-chronology-of-water/2026-01-27
ATTACH;FMTTYPE=image/png:https://plaza-mons.be/wp-content/uploads/2025/12/the-chronology-of-water-poster-visu-provisoire.png
END:VEVENT
BEGIN:VEVENT
DTSTART;TZID=Europe/Brussels:20260127T180000
DTEND;TZID=Europe/Brussels:20260127T194000
DTSTAMP:20260423T203817
CREATED:20251222T105127Z
LAST-MODIFIED:20260210T000009Z
UID:102057-1769536800-1769542800@plaza-mons.be
SUMMARY:Blue Moon
DESCRIPTION:Super Charlie\n\n\n\n\n\n			\n				Bande annonce\n			\n		 \n\n\n\n\n\n\n\n\n\n\n\n\n\n\n\n\n\n\n\n\n\n\n\n\n\n\n\n\n\n\n\n\n\n\n\n\n\n\n\n\n\n\n\n\n\n\n\n\n\n\n\n\n\nBande annonce
URL:https://plaza-mons.be/film/blue-moon/2026-01-27
ATTACH;FMTTYPE=image/jpeg:https://plaza-mons.be/wp-content/uploads/2025/12/blue-moon-poster.jpg
END:VEVENT
BEGIN:VEVENT
DTSTART;TZID=Europe/Brussels:20260127T180000
DTEND;TZID=Europe/Brussels:20260127T195200
DTSTAMP:20260423T203817
CREATED:20251222T104301Z
LAST-MODIFIED:20260210T000038Z
UID:101999-1769536800-1769543520@plaza-mons.be
SUMMARY:Ma frère
DESCRIPTION:Super Charlie\n\n\n\n\n\n			\n				Bande annonce\n			\n		 \n\n\n\n\n\n\n\n\n\n\n\n\n\n\n\n\n\n\n\n\n\n\n\n\n\n\n\n\n\n\n\n\n\n\n\n\n\n\n\n\n\n\n\n\n\n\n\n\n\n\n\n\n\nBande annonce
URL:https://plaza-mons.be/film/ma-frere-2/2026-01-27
ATTACH;FMTTYPE=image/jpeg:https://plaza-mons.be/wp-content/uploads/2025/12/ma-frere-poster.jpg
END:VEVENT
BEGIN:VEVENT
DTSTART;TZID=Europe/Brussels:20260127T181500
DTEND;TZID=Europe/Brussels:20260127T200100
DTSTAMP:20260423T203817
CREATED:20251222T105013Z
LAST-MODIFIED:20260305T000126Z
UID:102036-1769537700-1769544060@plaza-mons.be
SUMMARY:Vie privée
DESCRIPTION:Super Charlie\n\n\n\n\n\n			\n				Bande annonce\n			\n		 \n\n\n\n\n\n\n\n\n\n\n\n\n\n\n\n\n\n\n\n\n\n\n\n\n\n\n\n\n\n\n\n\n\n\n\n\n\n\n\n\n\n\n\n\n\n\n\n\n\n\n\n\n\nBande annonce
URL:https://plaza-mons.be/film/vie-privee/2026-01-27
ATTACH;FMTTYPE=image/jpeg:https://plaza-mons.be/wp-content/uploads/2025/12/vie-privee-poster-def-be-original.jpg
END:VEVENT
BEGIN:VEVENT
DTSTART;TZID=Europe/Brussels:20260127T200000
DTEND;TZID=Europe/Brussels:20260127T222600
DTSTAMP:20260423T203817
CREATED:20251222T105523Z
LAST-MODIFIED:20260209T000022Z
UID:102074-1769544000-1769552760@plaza-mons.be
SUMMARY:Sound of Falling
DESCRIPTION:Super Charlie\n\n\n\n\n\n			\n				Bande annonce\n			\n		 \n\n\n\n\n\n\n\n\n\n\n\n\n\n\n\n\n\n\n\n\n\n\n\n\n\n\n\n\n\n\n\n\n\n\n\n\n\n\n\n\n\n\n\n\n\n\n\n\n\n\n\n\n\nBande annonce
URL:https://plaza-mons.be/film/sound-of-falling/2026-01-27
ATTACH;FMTTYPE=image/jpeg:https://plaza-mons.be/wp-content/uploads/2025/12/sound-of-falling-poster-1.jpg
END:VEVENT
BEGIN:VEVENT
DTSTART;TZID=Europe/Brussels:20260127T203000
DTEND;TZID=Europe/Brussels:20260127T221500
DTSTAMP:20260423T203817
CREATED:20251204T102406Z
LAST-MODIFIED:20260127T000102Z
UID:101880-1769545800-1769552100@plaza-mons.be
SUMMARY:Muganga\, celui qui soigne
DESCRIPTION:Super Charlie\n\n\n\n\n\n			\n				Bande annonce\n			\n		 \n\n\n\n\n\n\n\n\n\n\n\n\n\n\n\n\n\n\n\n\n\n\n\n\n\n\n\n\n\n\n\n\n\n\n\n\n\n\n\n\n\n\n\n\n\n\n\n\n\n\n\n\n\nBande annonce
URL:https://plaza-mons.be/film/muganga-celui-qui-soigne/2026-01-27
ATTACH;FMTTYPE=image/png:https://plaza-mons.be/wp-content/uploads/2025/12/muganga-poster.png
END:VEVENT
BEGIN:VEVENT
DTSTART;TZID=Europe/Brussels:20260127T203000
DTEND;TZID=Europe/Brussels:20260127T222000
DTSTAMP:20260423T203817
CREATED:20251222T104125Z
LAST-MODIFIED:20260203T003259Z
UID:101971-1769545800-1769552400@plaza-mons.be
SUMMARY:Father Mother Sister Brother
DESCRIPTION:Super Charlie\n\n\n\n\n\n			\n				Bande annonce\n			\n		 \n\n\n\n\n\n\n\n\n\n\n\n\n\n\n\n\n\n\n\n\n\n\n\n\n\n\n\n\n\n\n\n\n\n\n\n\n\n\n\n\n\n\n\n\n\n\n\n\n\n\n\n\n\nBande annonce
URL:https://plaza-mons.be/film/father-mother-sister-brother/2026-01-27
ATTACH;FMTTYPE=image/webp:https://plaza-mons.be/wp-content/uploads/2025/12/father-mother-sister-brother-poster.webp
END:VEVENT
BEGIN:VEVENT
DTSTART;TZID=Europe/Brussels:20260127T203000
DTEND;TZID=Europe/Brussels:20260127T223500
DTSTAMP:20260423T203817
CREATED:20251222T105731Z
LAST-MODIFIED:20260330T000313Z
UID:102089-1769545800-1769553300@plaza-mons.be
SUMMARY:Hamnet
DESCRIPTION:Super Charlie\n\n\n\n\n\n			\n				Bande annonce\n			\n		 \n\n\n\n\n\n\n\n\n\n\n\n\n\n\n\n\n\n\n\n\n\n\n\n\n\n\n\n\n\n\n\n\n\n\n\n\n\n\n\n\n\n\n\n\n\n\n\n\n\n\n\n\n\nBande annonce
URL:https://plaza-mons.be/film/hamnet/2026-01-27
ATTACH;FMTTYPE=image/jpeg:https://plaza-mons.be/wp-content/uploads/2025/12/hamnet-poster.jpg
END:VEVENT
BEGIN:VEVENT
DTSTART;TZID=Europe/Brussels:20260128T140000
DTEND;TZID=Europe/Brussels:20260128T144500
DTSTAMP:20260423T203817
CREATED:20251222T110542Z
LAST-MODIFIED:20260304T000009Z
UID:101466-1769608800-1769611500@plaza-mons.be
SUMMARY:La Princesse et le rossignol
DESCRIPTION:Super Charlie\n\n\n\n\n\n			\n				Bande annonce\n			\n		 \n\n\n\n\n\n\n\n\n\n\n\n\n\n\n\n\n\n\n\n\n\n\n\n\n\n\n\n\n\n\n\n\n\n\n\n\n\n\n\n\n\n\n\n\n\n\n\n\n\n\n\n\n\nBande annonce
URL:https://plaza-mons.be/film/la-princesse-et-le-rossignol-2/2026-01-28
ATTACH;FMTTYPE=image/jpeg:https://plaza-mons.be/wp-content/uploads/2025/12/la-princesse-et-le-rossignol-poster-2.jpg
END:VEVENT
BEGIN:VEVENT
DTSTART;TZID=Europe/Brussels:20260128T140000
DTEND;TZID=Europe/Brussels:20260128T153300
DTSTAMP:20260423T203817
CREATED:20251222T103711Z
LAST-MODIFIED:20260201T000009Z
UID:101945-1769608800-1769614380@plaza-mons.be
SUMMARY:Diplodocus
DESCRIPTION:Super Charlie\n\n\n\n\n\n			\n				Bande annonce\n			\n		 \n\n\n\n\n\n\n\n\n\n\n\n\n\n\n\n\n\n\n\n\n\n\n\n\n\n\n\n\n\n\n\n\n\n\n\n\n\n\n\n\n\n\n\n\n\n\n\n\n\n\n\n\n\nBande annonce\n\n\n\n\n\n\n\nhttps://www.youtube.com/watch?v=A-Uaf-Mn5-8
URL:https://plaza-mons.be/film/diplodocus/2026-01-28
ATTACH;FMTTYPE=image/jpeg:https://plaza-mons.be/wp-content/uploads/2025/12/diplodocus-poster.jpg
END:VEVENT
BEGIN:VEVENT
DTSTART;TZID=Europe/Brussels:20260128T150000
DTEND;TZID=Europe/Brussels:20260128T164000
DTSTAMP:20260423T203817
CREATED:20251222T105127Z
LAST-MODIFIED:20260210T000009Z
UID:102058-1769612400-1769618400@plaza-mons.be
SUMMARY:Blue Moon
DESCRIPTION:Super Charlie\n\n\n\n\n\n			\n				Bande annonce\n			\n		 \n\n\n\n\n\n\n\n\n\n\n\n\n\n\n\n\n\n\n\n\n\n\n\n\n\n\n\n\n\n\n\n\n\n\n\n\n\n\n\n\n\n\n\n\n\n\n\n\n\n\n\n\n\nBande annonce
URL:https://plaza-mons.be/film/blue-moon/2026-01-28
ATTACH;FMTTYPE=image/jpeg:https://plaza-mons.be/wp-content/uploads/2025/12/blue-moon-poster.jpg
END:VEVENT
BEGIN:VEVENT
DTSTART;TZID=Europe/Brussels:20260128T150000
DTEND;TZID=Europe/Brussels:20260128T170500
DTSTAMP:20260423T203817
CREATED:20251222T105731Z
LAST-MODIFIED:20260330T000313Z
UID:102090-1769612400-1769619900@plaza-mons.be
SUMMARY:Hamnet
DESCRIPTION:Super Charlie\n\n\n\n\n\n			\n				Bande annonce\n			\n		 \n\n\n\n\n\n\n\n\n\n\n\n\n\n\n\n\n\n\n\n\n\n\n\n\n\n\n\n\n\n\n\n\n\n\n\n\n\n\n\n\n\n\n\n\n\n\n\n\n\n\n\n\n\nBande annonce
URL:https://plaza-mons.be/film/hamnet/2026-01-28
ATTACH;FMTTYPE=image/jpeg:https://plaza-mons.be/wp-content/uploads/2025/12/hamnet-poster.jpg
END:VEVENT
BEGIN:VEVENT
DTSTART;TZID=Europe/Brussels:20260128T151500
DTEND;TZID=Europe/Brussels:20260128T163200
DTSTAMP:20260423T203817
CREATED:20251204T100201Z
LAST-MODIFIED:20260201T000042Z
UID:101856-1769613300-1769617920@plaza-mons.be
SUMMARY:Le secret des mésanges
DESCRIPTION:Super Charlie\n\n\n\n\n\n			\n				Bande annonce\n			\n		 \n\n\n\n\n\n\n\n\n\n\n\n\n\n\n\n\n\n\n\n\n\n\n\n\n\n\n\n\n\n\n\n\n\n\n\n\n\n\n\n\n\n\n\n\n\n\n\n\n\n\n\n\n\nBande annonce
URL:https://plaza-mons.be/film/le-secret-des-mesanges/2026-01-28
ATTACH;FMTTYPE=image/jpeg:https://plaza-mons.be/wp-content/uploads/2025/12/le-secret-des-mesanges-poster.jpg
END:VEVENT
BEGIN:VEVENT
DTSTART;TZID=Europe/Brussels:20260128T160000
DTEND;TZID=Europe/Brussels:20260128T175200
DTSTAMP:20260423T203817
CREATED:20251222T104301Z
LAST-MODIFIED:20260210T000039Z
UID:102000-1769616000-1769622720@plaza-mons.be
SUMMARY:Ma frère
DESCRIPTION:Super Charlie\n\n\n\n\n\n			\n				Bande annonce\n			\n		 \n\n\n\n\n\n\n\n\n\n\n\n\n\n\n\n\n\n\n\n\n\n\n\n\n\n\n\n\n\n\n\n\n\n\n\n\n\n\n\n\n\n\n\n\n\n\n\n\n\n\n\n\n\nBande annonce
URL:https://plaza-mons.be/film/ma-frere-2/2026-01-28
ATTACH;FMTTYPE=image/jpeg:https://plaza-mons.be/wp-content/uploads/2025/12/ma-frere-poster.jpg
END:VEVENT
END:VCALENDAR