BEGIN:VCALENDAR
VERSION:2.0
PRODID:-//Plaza Arthouse Cinema - ECPv5.14.1//NONSGML v1.0//EN
CALSCALE:GREGORIAN
METHOD:PUBLISH
X-WR-CALNAME:Plaza Arthouse Cinema
X-ORIGINAL-URL:https://plaza-mons.be
X-WR-CALDESC:Events for Plaza Arthouse Cinema
REFRESH-INTERVAL;VALUE=DURATION:PT1H
X-Robots-Tag:noindex
X-PUBLISHED-TTL:PT1H
BEGIN:VTIMEZONE
TZID:Europe/Brussels
BEGIN:DAYLIGHT
TZOFFSETFROM:+0100
TZOFFSETTO:+0200
TZNAME:CEST
DTSTART:20260329T010000
END:DAYLIGHT
BEGIN:STANDARD
TZOFFSETFROM:+0200
TZOFFSETTO:+0100
TZNAME:CET
DTSTART:20261025T010000
END:STANDARD
END:VTIMEZONE
BEGIN:VEVENT
DTSTART;TZID=Europe/Brussels:20260112T150000
DTEND;TZID=Europe/Brussels:20260112T163800
DTSTAMP:20260425T003256
CREATED:20251222T103142Z
LAST-MODIFIED:20260117T000401Z
UID:101755-1768230000-1768235880@plaza-mons.be
SUMMARY:L'Engloutie
DESCRIPTION:Super Charlie\n\n\n\n\n\n			\n				Bande annonce\n			\n		 \n\n\n\n\n\n\n\n\n\n\n\n\n\n\n\n\n\n\n\n\n\n\n\n\n\n\n\n\n\n\n\n\n\n\n\n\n\n\n\n\n\n\n\n\n\n\n\n\n\n\n\n\n\nBande annonce
URL:https://plaza-mons.be/film/lengloutie/2026-01-12
ATTACH;FMTTYPE=image/jpeg:https://plaza-mons.be/wp-content/uploads/2025/12/lengloutie-poster.jpg
END:VEVENT
BEGIN:VEVENT
DTSTART;TZID=Europe/Brussels:20260112T150000
DTEND;TZID=Europe/Brussels:20260112T165000
DTSTAMP:20260425T003256
CREATED:20251204T102556Z
LAST-MODIFIED:20260113T000545Z
UID:101559-1768230000-1768236600@plaza-mons.be
SUMMARY:The Penguin Lessons
DESCRIPTION:Super Charlie\n\n\n\n\n\n			\n				Bande annonce\n			\n		 \n\n\n\n\n\n\n\n\n\n\n\n\n\n\n\n\n\n\n\n\n\n\n\n\n\n\n\n\n\n\n\n\n\n\n\n\n\n\n\n\n\n\n\n\n\n\n\n\n\n\n\n\n\nBande annonce
URL:https://plaza-mons.be/film/the-penguin-lessons/2026-01-12
ATTACH;FMTTYPE=image/jpeg:https://plaza-mons.be/wp-content/uploads/2025/12/the-penguin-lessons-poster.jpg
END:VEVENT
BEGIN:VEVENT
DTSTART;TZID=Europe/Brussels:20260112T150000
DTEND;TZID=Europe/Brussels:20260112T165000
DTSTAMP:20260425T003256
CREATED:20251222T104125Z
LAST-MODIFIED:20260203T003257Z
UID:101795-1768230000-1768236600@plaza-mons.be
SUMMARY:Father Mother Sister Brother
DESCRIPTION:Super Charlie\n\n\n\n\n\n			\n				Bande annonce\n			\n		 \n\n\n\n\n\n\n\n\n\n\n\n\n\n\n\n\n\n\n\n\n\n\n\n\n\n\n\n\n\n\n\n\n\n\n\n\n\n\n\n\n\n\n\n\n\n\n\n\n\n\n\n\n\nBande annonce
URL:https://plaza-mons.be/film/father-mother-sister-brother/2026-01-12
ATTACH;FMTTYPE=image/webp:https://plaza-mons.be/wp-content/uploads/2025/12/father-mother-sister-brother-poster.webp
END:VEVENT
BEGIN:VEVENT
DTSTART;TZID=Europe/Brussels:20260112T150000
DTEND;TZID=Europe/Brussels:20260112T174000
DTSTAMP:20260425T003256
CREATED:20251203T134805Z
LAST-MODIFIED:20260120T000021Z
UID:101502-1768230000-1768239600@plaza-mons.be
SUMMARY:Resurrection
DESCRIPTION:Super Charlie\n\n\n\n\n\n			\n				Bande annonce\n			\n		 \n\n\n\n\n\n\n\n\n\n\n\n\n\n\n\n\n\n\n\n\n\n\n\n\n\n\n\n\n\n\n\n\n\n\n\n\n\n\n\n\n\n\n\n\n\n\n\n\n\n\n\n\n\nBande annonce
URL:https://plaza-mons.be/film/resurrection/2026-01-12
ATTACH;FMTTYPE=image/jpeg:https://plaza-mons.be/wp-content/uploads/2025/12/resurrection-2.jpeg
END:VEVENT
BEGIN:VEVENT
DTSTART;TZID=Europe/Brussels:20260112T170000
DTEND;TZID=Europe/Brussels:20260112T170000
DTSTAMP:20260425T003256
CREATED:20251204T101921Z
LAST-MODIFIED:20260113T000626Z
UID:101701-1768237200-1768237200@plaza-mons.be
SUMMARY:The Running Man
DESCRIPTION:Super Charlie\n\n\n\n\n\n			\n				Bande annonce\n			\n		 \n\n\n\n\n\n\n\n\n\n\n\n\n\n\n\n\n\n\n\n\n\n\n\n\n\n\n\n\n\n\n\n\n\n\n\n\n\n\n\n\n\n\n\n\n\n\n\n\n\n\n\n\n\nBande annonce
URL:https://plaza-mons.be/film/the-running-man/2026-01-12
ATTACH;FMTTYPE=image/jpeg:https://plaza-mons.be/wp-content/uploads/2025/12/the-running-man-poster-1.jpg
END:VEVENT
BEGIN:VEVENT
DTSTART;TZID=Europe/Brussels:20260112T174500
DTEND;TZID=Europe/Brussels:20260112T174500
DTSTAMP:20260425T003256
CREATED:20251204T103048Z
LAST-MODIFIED:20260120T000350Z
UID:101546-1768239900-1768239900@plaza-mons.be
SUMMARY:Song Sung Blue  (Sur un air de Blues)
DESCRIPTION:Super Charlie\n\n\n\n\n\n			\n				Bande annonce\n			\n		 \n\n\n\n\n\n\n\n\n\n\n\n\n\n\n\n\n\n\n\n\n\n\n\n\n\n\n\n\n\n\n\n\n\n\n\n\n\n\n\n\n\n\n\n\n\n\n\n\n\n\n\n\n\nBande annonce
URL:https://plaza-mons.be/film/song-sung-blue/2026-01-12
ATTACH;FMTTYPE=image/jpeg:https://plaza-mons.be/wp-content/uploads/2025/12/songsungblue-digitalpayoff-nl-original.jpg
END:VEVENT
BEGIN:VEVENT
DTSTART;TZID=Europe/Brussels:20260112T180000
DTEND;TZID=Europe/Brussels:20260112T194800
DTSTAMP:20260425T003256
CREATED:20251222T103956Z
LAST-MODIFIED:20260127T000014Z
UID:101605-1768240800-1768247280@plaza-mons.be
SUMMARY:Louise
DESCRIPTION:Super Charlie\n\n\n\n\n\n			\n				Bande annonce\n			\n		 \n\n\n\n\n\n\n\n\n\n\n\n\n\n\n\n\n\n\n\n\n\n\n\n\n\n\n\n\n\n\n\n\n\n\n\n\n\n\n\n\n\n\n\n\n\n\n\n\n\n\n\n\n\nBande annonce
URL:https://plaza-mons.be/film/louise/2026-01-12
ATTACH;FMTTYPE=image/jpeg:https://plaza-mons.be/wp-content/uploads/2025/12/louise-poster.jpg
END:VEVENT
BEGIN:VEVENT
DTSTART;TZID=Europe/Brussels:20260112T180000
DTEND;TZID=Europe/Brussels:20260112T200000
DTSTAMP:20260425T003256
CREATED:20251222T103258Z
LAST-MODIFIED:20260120T000339Z
UID:101768-1768240800-1768248000@plaza-mons.be
SUMMARY:Radioman
DESCRIPTION:Super Charlie\n\n\n\n\n\n			\n				Bande annonce\n			\n		 \n\n\n\n\n\n\n\n\n\n\n\n\n\n\n\n\n\n\n\n\n\n\n\n\n\n\n\n\n\n\n\n\n\n\n\n\n\n\n\n\n\n\n\n\n\n\n\n\n\n\n\n\n\nBande annonce
URL:https://plaza-mons.be/film/radioman/2026-01-12
ATTACH;FMTTYPE=image/jpeg:https://plaza-mons.be/wp-content/uploads/2025/12/radioman-poster.jpg
END:VEVENT
BEGIN:VEVENT
DTSTART;TZID=Europe/Brussels:20260112T200000
DTEND;TZID=Europe/Brussels:20260112T200000
DTSTAMP:20260425T003257
CREATED:20251204T101705Z
LAST-MODIFIED:20260127T000011Z
UID:101653-1768248000-1768248000@plaza-mons.be
SUMMARY:The Secret Agent (O Agente Secreto)
DESCRIPTION:Super Charlie\n\n\n\n\n\n			\n				Bande annonce\n			\n		 \n\n\n\n\n\n\n\n\n\n\n\n\n\n\n\n\n\n\n\n\n\n\n\n\n\n\n\n\n\n\n\n\n\n\n\n\n\n\n\n\n\n\n\n\n\n\n\n\n\n\n\n\n\nBande annonce
URL:https://plaza-mons.be/film/the-secret-agent/2026-01-12
ATTACH;FMTTYPE=image/jpeg:https://plaza-mons.be/wp-content/uploads/2025/12/the-secret-agent-web-normal.jpg
END:VEVENT
BEGIN:VEVENT
DTSTART;TZID=Europe/Brussels:20260112T203000
DTEND;TZID=Europe/Brussels:20260112T221500
DTSTAMP:20260425T003257
CREATED:20251204T102406Z
LAST-MODIFIED:20260127T000101Z
UID:101693-1768249800-1768256100@plaza-mons.be
SUMMARY:Muganga\, celui qui soigne
DESCRIPTION:Super Charlie\n\n\n\n\n\n			\n				Bande annonce\n			\n		 \n\n\n\n\n\n\n\n\n\n\n\n\n\n\n\n\n\n\n\n\n\n\n\n\n\n\n\n\n\n\n\n\n\n\n\n\n\n\n\n\n\n\n\n\n\n\n\n\n\n\n\n\n\nBande annonce
URL:https://plaza-mons.be/film/muganga-celui-qui-soigne/2026-01-12
ATTACH;FMTTYPE=image/png:https://plaza-mons.be/wp-content/uploads/2025/12/muganga-poster.png
END:VEVENT
BEGIN:VEVENT
DTSTART;TZID=Europe/Brussels:20260112T203000
DTEND;TZID=Europe/Brussels:20260112T222000
DTSTAMP:20260425T003257
CREATED:20251222T104125Z
LAST-MODIFIED:20260203T003257Z
UID:101599-1768249800-1768256400@plaza-mons.be
SUMMARY:Father Mother Sister Brother
DESCRIPTION:Super Charlie\n\n\n\n\n\n			\n				Bande annonce\n			\n		 \n\n\n\n\n\n\n\n\n\n\n\n\n\n\n\n\n\n\n\n\n\n\n\n\n\n\n\n\n\n\n\n\n\n\n\n\n\n\n\n\n\n\n\n\n\n\n\n\n\n\n\n\n\nBande annonce
URL:https://plaza-mons.be/film/father-mother-sister-brother/2026-01-12
ATTACH;FMTTYPE=image/webp:https://plaza-mons.be/wp-content/uploads/2025/12/father-mother-sister-brother-poster.webp
END:VEVENT
BEGIN:VEVENT
DTSTART;TZID=Europe/Brussels:20260112T203000
DTEND;TZID=Europe/Brussels:20260112T223800
DTSTAMP:20260425T003257
CREATED:20251222T133742Z
LAST-MODIFIED:20260113T000606Z
UID:101801-1768249800-1768257480@plaza-mons.be
SUMMARY:The Chronology of Water
DESCRIPTION:Super Charlie\n\n\n\n\n\n			\n				Bande annonce\n			\n		 \n\n\n\n\n\n\n\n\n\n\n\n\n\n\n\n\n\n\n\n\n\n\n\n\n\n\n\n\n\n\n\n\n\n\n\n\n\n\n\n\n\n\n\n\n\n\n\n\n\n\n\n\n\nBande annonce
URL:https://plaza-mons.be/film/the-chronology-of-water-18/2026-01-12
CATEGORIES:Nouveauté
ATTACH;FMTTYPE=image/jpeg:https://plaza-mons.be/wp-content/uploads/2025/12/affiche-be-normal.jpg
END:VEVENT
BEGIN:VEVENT
DTSTART;TZID=Europe/Brussels:20260113T143000
DTEND;TZID=Europe/Brussels:20260113T163500
DTSTAMP:20260425T003257
CREATED:20251222T134929Z
LAST-MODIFIED:20260203T003301Z
UID:101776-1768314600-1768322100@plaza-mons.be
SUMMARY:Sailor et Lula
DESCRIPTION:Super Charlie\n\n\n\n\n\n			\n				Bande annonce\n			\n		 \n\n\n\n\n\n\n\n\n\n\n\n\n\n\n\n\n\n\n\n\n\n\n\n\n\n\n\n\n\n\n\n\n\n\n\n\n\n\n\n\n\n\n\n\n\n\n\n\n\n\n\n\n\nBande annonce
URL:https://plaza-mons.be/film/sailor-et-lula/2026-01-13
ATTACH;FMTTYPE=image/jpeg:https://plaza-mons.be/wp-content/uploads/2025/12/wild-at-heart-poster.jpg
END:VEVENT
BEGIN:VEVENT
DTSTART;TZID=Europe/Brussels:20260113T150000
DTEND;TZID=Europe/Brussels:20260113T150000
DTSTAMP:20260425T003257
CREATED:20251204T101705Z
LAST-MODIFIED:20260127T000011Z
UID:101654-1768316400-1768316400@plaza-mons.be
SUMMARY:The Secret Agent (O Agente Secreto)
DESCRIPTION:Super Charlie\n\n\n\n\n\n			\n				Bande annonce\n			\n		 \n\n\n\n\n\n\n\n\n\n\n\n\n\n\n\n\n\n\n\n\n\n\n\n\n\n\n\n\n\n\n\n\n\n\n\n\n\n\n\n\n\n\n\n\n\n\n\n\n\n\n\n\n\nBande annonce
URL:https://plaza-mons.be/film/the-secret-agent/2026-01-13
ATTACH;FMTTYPE=image/jpeg:https://plaza-mons.be/wp-content/uploads/2025/12/the-secret-agent-web-normal.jpg
END:VEVENT
BEGIN:VEVENT
DTSTART;TZID=Europe/Brussels:20260113T150000
DTEND;TZID=Europe/Brussels:20260113T164500
DTSTAMP:20260425T003257
CREATED:20251204T102406Z
LAST-MODIFIED:20260127T000101Z
UID:101694-1768316400-1768322700@plaza-mons.be
SUMMARY:Muganga\, celui qui soigne
DESCRIPTION:Super Charlie\n\n\n\n\n\n			\n				Bande annonce\n			\n		 \n\n\n\n\n\n\n\n\n\n\n\n\n\n\n\n\n\n\n\n\n\n\n\n\n\n\n\n\n\n\n\n\n\n\n\n\n\n\n\n\n\n\n\n\n\n\n\n\n\n\n\n\n\nBande annonce
URL:https://plaza-mons.be/film/muganga-celui-qui-soigne/2026-01-13
ATTACH;FMTTYPE=image/png:https://plaza-mons.be/wp-content/uploads/2025/12/muganga-poster.png
END:VEVENT
BEGIN:VEVENT
DTSTART;TZID=Europe/Brussels:20260113T150000
DTEND;TZID=Europe/Brussels:20260113T165000
DTSTAMP:20260425T003257
CREATED:20251204T102556Z
LAST-MODIFIED:20260113T000545Z
UID:101560-1768316400-1768323000@plaza-mons.be
SUMMARY:The Penguin Lessons
DESCRIPTION:Super Charlie\n\n\n\n\n\n			\n				Bande annonce\n			\n		 \n\n\n\n\n\n\n\n\n\n\n\n\n\n\n\n\n\n\n\n\n\n\n\n\n\n\n\n\n\n\n\n\n\n\n\n\n\n\n\n\n\n\n\n\n\n\n\n\n\n\n\n\n\nBande annonce
URL:https://plaza-mons.be/film/the-penguin-lessons/2026-01-13
ATTACH;FMTTYPE=image/jpeg:https://plaza-mons.be/wp-content/uploads/2025/12/the-penguin-lessons-poster.jpg
END:VEVENT
BEGIN:VEVENT
DTSTART;TZID=Europe/Brussels:20260113T173000
DTEND;TZID=Europe/Brussels:20260113T201000
DTSTAMP:20260425T003257
CREATED:20251203T134805Z
LAST-MODIFIED:20260120T000022Z
UID:101503-1768325400-1768335000@plaza-mons.be
SUMMARY:Resurrection
DESCRIPTION:Super Charlie\n\n\n\n\n\n			\n				Bande annonce\n			\n		 \n\n\n\n\n\n\n\n\n\n\n\n\n\n\n\n\n\n\n\n\n\n\n\n\n\n\n\n\n\n\n\n\n\n\n\n\n\n\n\n\n\n\n\n\n\n\n\n\n\n\n\n\n\nBande annonce
URL:https://plaza-mons.be/film/resurrection/2026-01-13
ATTACH;FMTTYPE=image/jpeg:https://plaza-mons.be/wp-content/uploads/2025/12/resurrection-2.jpeg
END:VEVENT
BEGIN:VEVENT
DTSTART;TZID=Europe/Brussels:20260113T174500
DTEND;TZID=Europe/Brussels:20260113T195300
DTSTAMP:20260425T003257
CREATED:20251222T133742Z
LAST-MODIFIED:20260113T000606Z
UID:101802-1768326300-1768333980@plaza-mons.be
SUMMARY:The Chronology of Water
DESCRIPTION:Super Charlie\n\n\n\n\n\n			\n				Bande annonce\n			\n		 \n\n\n\n\n\n\n\n\n\n\n\n\n\n\n\n\n\n\n\n\n\n\n\n\n\n\n\n\n\n\n\n\n\n\n\n\n\n\n\n\n\n\n\n\n\n\n\n\n\n\n\n\n\nBande annonce
URL:https://plaza-mons.be/film/the-chronology-of-water-18/2026-01-13
CATEGORIES:Nouveauté
ATTACH;FMTTYPE=image/jpeg:https://plaza-mons.be/wp-content/uploads/2025/12/affiche-be-normal.jpg
END:VEVENT
BEGIN:VEVENT
DTSTART;TZID=Europe/Brussels:20260113T180000
DTEND;TZID=Europe/Brussels:20260113T194500
DTSTAMP:20260425T003257
CREATED:20251222T103028Z
LAST-MODIFIED:20260125T000007Z
UID:101744-1768327200-1768333500@plaza-mons.be
SUMMARY:Folktales
DESCRIPTION:Super Charlie\n\n\n\n\n\n			\n				Bande annonce\n			\n		 \n\n\n\n\n\n\n\n\n\n\n\n\n\n\n\n\n\n\n\n\n\n\n\n\n\n\n\n\n\n\n\n\n\n\n\n\n\n\n\n\n\n\n\n\n\n\n\n\n\n\n\n\n\nBande annonce
URL:https://plaza-mons.be/film/folktales/2026-01-13
ATTACH;FMTTYPE=image/jpeg:https://plaza-mons.be/wp-content/uploads/2025/12/folktales-poster.jpg
END:VEVENT
BEGIN:VEVENT
DTSTART;TZID=Europe/Brussels:20260113T180000
DTEND;TZID=Europe/Brussels:20260113T195000
DTSTAMP:20260425T003257
CREATED:20251222T104125Z
LAST-MODIFIED:20260203T003257Z
UID:101600-1768327200-1768333800@plaza-mons.be
SUMMARY:Father Mother Sister Brother
DESCRIPTION:Super Charlie\n\n\n\n\n\n			\n				Bande annonce\n			\n		 \n\n\n\n\n\n\n\n\n\n\n\n\n\n\n\n\n\n\n\n\n\n\n\n\n\n\n\n\n\n\n\n\n\n\n\n\n\n\n\n\n\n\n\n\n\n\n\n\n\n\n\n\n\nBande annonce
URL:https://plaza-mons.be/film/father-mother-sister-brother/2026-01-13
ATTACH;FMTTYPE=image/webp:https://plaza-mons.be/wp-content/uploads/2025/12/father-mother-sister-brother-poster.webp
END:VEVENT
BEGIN:VEVENT
DTSTART;TZID=Europe/Brussels:20260113T203000
DTEND;TZID=Europe/Brussels:20260113T203000
DTSTAMP:20260425T003257
CREATED:20251204T101921Z
LAST-MODIFIED:20260113T000626Z
UID:101702-1768336200-1768336200@plaza-mons.be
SUMMARY:The Running Man
DESCRIPTION:Super Charlie\n\n\n\n\n\n			\n				Bande annonce\n			\n		 \n\n\n\n\n\n\n\n\n\n\n\n\n\n\n\n\n\n\n\n\n\n\n\n\n\n\n\n\n\n\n\n\n\n\n\n\n\n\n\n\n\n\n\n\n\n\n\n\n\n\n\n\n\nBande annonce
URL:https://plaza-mons.be/film/the-running-man/2026-01-13
ATTACH;FMTTYPE=image/jpeg:https://plaza-mons.be/wp-content/uploads/2025/12/the-running-man-poster-1.jpg
END:VEVENT
BEGIN:VEVENT
DTSTART;TZID=Europe/Brussels:20260113T203000
DTEND;TZID=Europe/Brussels:20260113T203000
DTSTAMP:20260425T003257
CREATED:20251204T103048Z
LAST-MODIFIED:20260120T000351Z
UID:101547-1768336200-1768336200@plaza-mons.be
SUMMARY:Song Sung Blue  (Sur un air de Blues)
DESCRIPTION:Super Charlie\n\n\n\n\n\n			\n				Bande annonce\n			\n		 \n\n\n\n\n\n\n\n\n\n\n\n\n\n\n\n\n\n\n\n\n\n\n\n\n\n\n\n\n\n\n\n\n\n\n\n\n\n\n\n\n\n\n\n\n\n\n\n\n\n\n\n\n\nBande annonce
URL:https://plaza-mons.be/film/song-sung-blue/2026-01-13
ATTACH;FMTTYPE=image/jpeg:https://plaza-mons.be/wp-content/uploads/2025/12/songsungblue-digitalpayoff-nl-original.jpg
END:VEVENT
BEGIN:VEVENT
DTSTART;TZID=Europe/Brussels:20260113T203000
DTEND;TZID=Europe/Brussels:20260113T220800
DTSTAMP:20260425T003257
CREATED:20251222T103142Z
LAST-MODIFIED:20260117T000401Z
UID:101756-1768336200-1768342080@plaza-mons.be
SUMMARY:L'Engloutie
DESCRIPTION:Super Charlie\n\n\n\n\n\n			\n				Bande annonce\n			\n		 \n\n\n\n\n\n\n\n\n\n\n\n\n\n\n\n\n\n\n\n\n\n\n\n\n\n\n\n\n\n\n\n\n\n\n\n\n\n\n\n\n\n\n\n\n\n\n\n\n\n\n\n\n\nBande annonce
URL:https://plaza-mons.be/film/lengloutie/2026-01-13
ATTACH;FMTTYPE=image/jpeg:https://plaza-mons.be/wp-content/uploads/2025/12/lengloutie-poster.jpg
END:VEVENT
BEGIN:VEVENT
DTSTART;TZID=Europe/Brussels:20260113T203000
DTEND;TZID=Europe/Brussels:20260113T221800
DTSTAMP:20260425T003257
CREATED:20251222T103956Z
LAST-MODIFIED:20260127T000014Z
UID:101606-1768336200-1768342680@plaza-mons.be
SUMMARY:Louise
DESCRIPTION:Super Charlie\n\n\n\n\n\n			\n				Bande annonce\n			\n		 \n\n\n\n\n\n\n\n\n\n\n\n\n\n\n\n\n\n\n\n\n\n\n\n\n\n\n\n\n\n\n\n\n\n\n\n\n\n\n\n\n\n\n\n\n\n\n\n\n\n\n\n\n\nBande annonce
URL:https://plaza-mons.be/film/louise/2026-01-13
ATTACH;FMTTYPE=image/jpeg:https://plaza-mons.be/wp-content/uploads/2025/12/louise-poster.jpg
END:VEVENT
BEGIN:VEVENT
DTSTART;TZID=Europe/Brussels:20260114T140000
DTEND;TZID=Europe/Brussels:20260114T151700
DTSTAMP:20260425T003257
CREATED:20251204T100201Z
LAST-MODIFIED:20260201T000041Z
UID:101850-1768399200-1768403820@plaza-mons.be
SUMMARY:Le secret des mésanges
DESCRIPTION:Super Charlie\n\n\n\n\n\n			\n				Bande annonce\n			\n		 \n\n\n\n\n\n\n\n\n\n\n\n\n\n\n\n\n\n\n\n\n\n\n\n\n\n\n\n\n\n\n\n\n\n\n\n\n\n\n\n\n\n\n\n\n\n\n\n\n\n\n\n\n\nBande annonce
URL:https://plaza-mons.be/film/le-secret-des-mesanges/2026-01-14
ATTACH;FMTTYPE=image/jpeg:https://plaza-mons.be/wp-content/uploads/2025/12/le-secret-des-mesanges-poster.jpg
END:VEVENT
BEGIN:VEVENT
DTSTART;TZID=Europe/Brussels:20260114T140000
DTEND;TZID=Europe/Brussels:20260114T153300
DTSTAMP:20260425T003257
CREATED:20251222T103711Z
LAST-MODIFIED:20260201T000005Z
UID:101938-1768399200-1768404780@plaza-mons.be
SUMMARY:Diplodocus
DESCRIPTION:Super Charlie\n\n\n\n\n\n			\n				Bande annonce\n			\n		 \n\n\n\n\n\n\n\n\n\n\n\n\n\n\n\n\n\n\n\n\n\n\n\n\n\n\n\n\n\n\n\n\n\n\n\n\n\n\n\n\n\n\n\n\n\n\n\n\n\n\n\n\n\nBande annonce\n\n\n\n\n\n\n\nhttps://www.youtube.com/watch?v=A-Uaf-Mn5-8
URL:https://plaza-mons.be/film/diplodocus/2026-01-14
ATTACH;FMTTYPE=image/jpeg:https://plaza-mons.be/wp-content/uploads/2025/12/diplodocus-poster.jpg
END:VEVENT
BEGIN:VEVENT
DTSTART;TZID=Europe/Brussels:20260114T150000
DTEND;TZID=Europe/Brussels:20260114T150000
DTSTAMP:20260425T003257
CREATED:20251204T101705Z
LAST-MODIFIED:20260127T000011Z
UID:101831-1768402800-1768402800@plaza-mons.be
SUMMARY:The Secret Agent (O Agente Secreto)
DESCRIPTION:Super Charlie\n\n\n\n\n\n			\n				Bande annonce\n			\n		 \n\n\n\n\n\n\n\n\n\n\n\n\n\n\n\n\n\n\n\n\n\n\n\n\n\n\n\n\n\n\n\n\n\n\n\n\n\n\n\n\n\n\n\n\n\n\n\n\n\n\n\n\n\nBande annonce
URL:https://plaza-mons.be/film/the-secret-agent/2026-01-14
ATTACH;FMTTYPE=image/jpeg:https://plaza-mons.be/wp-content/uploads/2025/12/the-secret-agent-web-normal.jpg
END:VEVENT
BEGIN:VEVENT
DTSTART;TZID=Europe/Brussels:20260114T150000
DTEND;TZID=Europe/Brussels:20260114T150000
DTSTAMP:20260425T003257
CREATED:20251204T103048Z
LAST-MODIFIED:20260120T000351Z
UID:101886-1768402800-1768402800@plaza-mons.be
SUMMARY:Song Sung Blue  (Sur un air de Blues)
DESCRIPTION:Super Charlie\n\n\n\n\n\n			\n				Bande annonce\n			\n		 \n\n\n\n\n\n\n\n\n\n\n\n\n\n\n\n\n\n\n\n\n\n\n\n\n\n\n\n\n\n\n\n\n\n\n\n\n\n\n\n\n\n\n\n\n\n\n\n\n\n\n\n\n\nBande annonce
URL:https://plaza-mons.be/film/song-sung-blue/2026-01-14
ATTACH;FMTTYPE=image/jpeg:https://plaza-mons.be/wp-content/uploads/2025/12/songsungblue-digitalpayoff-nl-original.jpg
END:VEVENT
BEGIN:VEVENT
DTSTART;TZID=Europe/Brussels:20260114T160000
DTEND;TZID=Europe/Brussels:20260114T173800
DTSTAMP:20260425T003257
CREATED:20251222T103142Z
LAST-MODIFIED:20260117T000401Z
UID:101915-1768406400-1768412280@plaza-mons.be
SUMMARY:L'Engloutie
DESCRIPTION:Super Charlie\n\n\n\n\n\n			\n				Bande annonce\n			\n		 \n\n\n\n\n\n\n\n\n\n\n\n\n\n\n\n\n\n\n\n\n\n\n\n\n\n\n\n\n\n\n\n\n\n\n\n\n\n\n\n\n\n\n\n\n\n\n\n\n\n\n\n\n\nBande annonce
URL:https://plaza-mons.be/film/lengloutie/2026-01-14
ATTACH;FMTTYPE=image/jpeg:https://plaza-mons.be/wp-content/uploads/2025/12/lengloutie-poster.jpg
END:VEVENT
BEGIN:VEVENT
DTSTART;TZID=Europe/Brussels:20260114T160000
DTEND;TZID=Europe/Brussels:20260114T180500
DTSTAMP:20260425T003257
CREATED:20251222T103553Z
LAST-MODIFIED:20260312T000610Z
UID:101456-1768406400-1768413900@plaza-mons.be
SUMMARY:Sailor et Lula  (Wild at Heart) : Rétrospective Lynch
DESCRIPTION:Super Charlie\n\n\n\n\n\n			\n				Bande annonce\n			\n		 \n\n\n\n\n\n\n\n\n\n\n\n\n\n\n\n\n\n\n\n\n\n\n\n\n\n\n\n\n\n\n\n\n\n\n\n\n\n\n\n\n\n\n\n\n\n\n\n\n\n\n\n\n\nBande annonce
URL:https://plaza-mons.be/film/sailor-et-lula-wild-at-heart-retrospective-lynch/2026-01-14
ATTACH;FMTTYPE=image/jpeg:https://plaza-mons.be/wp-content/uploads/2025/12/wild-at-heart-poster.jpg
END:VEVENT
END:VCALENDAR