BEGIN:VCALENDAR
VERSION:2.0
PRODID:-//Plaza Arthouse Cinema - ECPv5.14.1//NONSGML v1.0//EN
CALSCALE:GREGORIAN
METHOD:PUBLISH
X-WR-CALNAME:Plaza Arthouse Cinema
X-ORIGINAL-URL:https://plaza-mons.be
X-WR-CALDESC:Events for Plaza Arthouse Cinema
REFRESH-INTERVAL;VALUE=DURATION:PT1H
X-Robots-Tag:noindex
X-PUBLISHED-TTL:PT1H
BEGIN:VTIMEZONE
TZID:Europe/Brussels
BEGIN:DAYLIGHT
TZOFFSETFROM:+0100
TZOFFSETTO:+0200
TZNAME:CEST
DTSTART:20250330T010000
END:DAYLIGHT
BEGIN:STANDARD
TZOFFSETFROM:+0200
TZOFFSETTO:+0100
TZNAME:CET
DTSTART:20251026T010000
END:STANDARD
END:VTIMEZONE
BEGIN:VEVENT
DTSTART;TZID=Europe/Brussels:20251229T110000
DTEND;TZID=Europe/Brussels:20251229T110000
DTSTAMP:20260426T050457
CREATED:20251104T130838Z
LAST-MODIFIED:20251230T000048Z
UID:100176-1767006000-1767006000@plaza-mons.be
SUMMARY:La voix de Hind Rajab
DESCRIPTION:Die my Love\n\n\n\n\n\n			\n				Bande annonce\n			\n		 \n\n\n\n\n\n\n\n\n\n\n\n\n\n\n\n\n\n\n\n\n\n\n\n\n\n\n\n\n\n\n\n\n\n\n\n\n\n\n\n\n\n\n\n\n\n\n\n\n\n\n\n\n\nBande annonce
URL:https://plaza-mons.be/film/la-voix-de-hind-rajab/2025-12-29
ATTACH;FMTTYPE=image/jpeg:https://plaza-mons.be/wp-content/uploads/2025/11/la-voix-de-hind-rajab-poster.jpg
END:VEVENT
BEGIN:VEVENT
DTSTART;TZID=Europe/Brussels:20251229T110000
DTEND;TZID=Europe/Brussels:20251229T114100
DTSTAMP:20260426T050457
CREATED:20251204T102254Z
LAST-MODIFIED:20260104T000005Z
UID:100341-1767006000-1767008460@plaza-mons.be
SUMMARY:La petite fanfare de Noël
DESCRIPTION:Die my Love\n\n\n\n\n\n			\n				Bande annonce\n			\n		 \n\n\n\n\n\n\n\n\n\n\n\n\n\n\n\n\n\n\n\n\n\n\n\n\n\n\n\n\n\n\n\n\n\n\n\n\n\n\n\n\n\n\n\n\n\n\n\n\n\n\n\n\n\nBande annonce
URL:https://plaza-mons.be/film/la-petite-fanfare-de-noel/2025-12-29
CATEGORIES:Nouveauté
ATTACH;FMTTYPE=image/jpeg:https://plaza-mons.be/wp-content/uploads/2025/12/la-petite-fanfare-de-noel-poster.jpg
END:VEVENT
BEGIN:VEVENT
DTSTART;TZID=Europe/Brussels:20251229T110000
DTEND;TZID=Europe/Brussels:20251229T121700
DTSTAMP:20260426T050457
CREATED:20251204T100201Z
LAST-MODIFIED:20260201T000040Z
UID:100296-1767006000-1767010620@plaza-mons.be
SUMMARY:Le secret des mésanges
DESCRIPTION:Die my Love\n\n\n\n\n\n			\n				Bande annonce\n			\n		 \n\n\n\n\n\n\n\n\n\n\n\n\n\n\n\n\n\n\n\n\n\n\n\n\n\n\n\n\n\n\n\n\n\n\n\n\n\n\n\n\n\n\n\n\n\n\n\n\n\n\n\n\n\nBande annonce
URL:https://plaza-mons.be/film/le-secret-des-mesanges/2025-12-29
ATTACH;FMTTYPE=image/jpeg:https://plaza-mons.be/wp-content/uploads/2025/12/le-secret-des-mesanges-poster.jpg
END:VEVENT
BEGIN:VEVENT
DTSTART;TZID=Europe/Brussels:20251229T110000
DTEND;TZID=Europe/Brussels:20251229T123600
DTSTAMP:20260426T050457
CREATED:20251201T184248Z
LAST-MODIFIED:20260104T000012Z
UID:101299-1767006000-1767011760@plaza-mons.be
SUMMARY:Mission Père Noël
DESCRIPTION:Die my Love\n\n\n\n\n\n			\n				Bande annonce\n			\n		 \n\n\n\n\n\n\n\n\n\n\n\n\n\n\n\n\n\n\n\n\n\n\n\n\n\n\n\n\n\n\n\n\n\n\n\n\n\n\n\n\n\n\n\n\n\n\n\n\n\n\n\n\n\nBande annonce
URL:https://plaza-mons.be/film/mission-pere-noel/2025-12-29
ATTACH;FMTTYPE=image/jpeg:https://plaza-mons.be/wp-content/uploads/2025/12/mission-pere-noel-poster.jpg
END:VEVENT
BEGIN:VEVENT
DTSTART;TZID=Europe/Brussels:20251229T133000
DTEND;TZID=Europe/Brussels:20251229T143000
DTSTAMP:20260426T050457
CREATED:20251128T163226Z
LAST-MODIFIED:20251230T000021Z
UID:100217-1767015000-1767018600@plaza-mons.be
SUMMARY:Les Baronnes
DESCRIPTION:Die my Love\n\n\n\n\n\n			\n				Bande annonce\n			\n		 \n\n\n\n\n\n\n\n\n\n\n\n\n\n\n\n\n\n\n\n\n\n\n\n\n\n\n\n\n\n\n\n\n\n\n\n\n\n\n\n\n\n\n\n\n\n\n\n\n\n\n\n\n\nBande annonce
URL:https://plaza-mons.be/film/les-baronnes/2025-12-29
ATTACH;FMTTYPE=image/jpeg:https://plaza-mons.be/wp-content/uploads/2025/10/15829-lesbaronnes-cineart-def2.jpg
END:VEVENT
BEGIN:VEVENT
DTSTART;TZID=Europe/Brussels:20251229T133000
DTEND;TZID=Europe/Brussels:20251229T143000
DTSTAMP:20260426T050457
CREATED:20251203T132415Z
LAST-MODIFIED:20260104T000014Z
UID:101231-1767015000-1767018600@plaza-mons.be
SUMMARY:Shaun le mouton :   la vie est une fête !
DESCRIPTION:Die my Love\n\n\n\n\n\n			\n				Bande annonce\n			\n		 \n\n\n\n\n\n\n\n\n\n\n\n\n\n\n\n\n\n\n\n\n\n\n\n\n\n\n\n\n\n\n\n\n\n\n\n\n\n\n\n\n\n\n\n\n\n\n\n\n\n\n\n\n\nBande annonce
URL:https://plaza-mons.be/film/shaun-le-mouton-la-vie-est-une-fete/2025-12-29
ATTACH;FMTTYPE=image/jpeg:https://plaza-mons.be/wp-content/uploads/2025/11/shaun-le-mouton-la-vie-est-une-fete-poster.jpg
END:VEVENT
BEGIN:VEVENT
DTSTART;TZID=Europe/Brussels:20251229T140000
DTEND;TZID=Europe/Brussels:20251229T153200
DTSTAMP:20260426T050457
CREATED:20251203T140209Z
LAST-MODIFIED:20260106T000408Z
UID:100270-1767016800-1767022320@plaza-mons.be
SUMMARY:Six jours\, ce printemps-là
DESCRIPTION:Die my Love\n\n\n\n\n\n			\n				Bande annonce\n			\n		 \n\n\n\n\n\n\n\n\n\n\n\n\n\n\n\n\n\n\n\n\n\n\n\n\n\n\n\n\n\n\n\n\n\n\n\n\n\n\n\n\n\n\n\n\n\n\n\n\n\n\n\n\n\nBande annonce
URL:https://plaza-mons.be/film/six-jours-ce-printemps-la/2025-12-29
ATTACH;FMTTYPE=image/jpeg:https://plaza-mons.be/wp-content/uploads/2025/12/six-jours-ce-printemps-la-poster.jpg
END:VEVENT
BEGIN:VEVENT
DTSTART;TZID=Europe/Brussels:20251229T143000
DTEND;TZID=Europe/Brussels:20251229T161900
DTSTAMP:20260426T050457
CREATED:20251203T134142Z
LAST-MODIFIED:20251230T000112Z
UID:101264-1767018600-1767025140@plaza-mons.be
SUMMARY:Left-Handed Girl
DESCRIPTION:Die my Love\n\n\n\n\n\n			\n				Bande annonce\n			\n		 \n\n\n\n\n\n\n\n\n\n\n\n\n\n\n\n\n\n\n\n\n\n\n\n\n\n\n\n\n\n\n\n\n\n\n\n\n\n\n\n\n\n\n\n\n\n\n\n\n\n\n\n\n\nBande annonce
URL:https://plaza-mons.be/film/left-handed-girl/2025-12-29
ATTACH;FMTTYPE=image/jpeg:https://plaza-mons.be/wp-content/uploads/2025/12/left-handed-girl-poster-be-def.jpg
END:VEVENT
BEGIN:VEVENT
DTSTART;TZID=Europe/Brussels:20251229T150000
DTEND;TZID=Europe/Brussels:20251229T165200
DTSTAMP:20260426T050457
CREATED:20251203T132945Z
LAST-MODIFIED:20251230T000348Z
UID:100202-1767020400-1767027120@plaza-mons.be
SUMMARY:Relay
DESCRIPTION:Die my Love\n\n\n\n\n\n			\n				Bande annonce\n			\n		 \n\n\n\n\n\n\n\n\n\n\n\n\n\n\n\n\n\n\n\n\n\n\n\n\n\n\n\n\n\n\n\n\n\n\n\n\n\n\n\n\n\n\n\n\n\n\n\n\n\n\n\n\n\nBande annonce
URL:https://plaza-mons.be/film/relay/2025-12-29
ATTACH;FMTTYPE=image/jpeg:https://plaza-mons.be/wp-content/uploads/2025/12/relay-poster.jpg
END:VEVENT
BEGIN:VEVENT
DTSTART;TZID=Europe/Brussels:20251229T153000
DTEND;TZID=Europe/Brussels:20251229T164100
DTSTAMP:20260426T050457
CREATED:20251203T133729Z
LAST-MODIFIED:20251229T000049Z
UID:101250-1767022200-1767026460@plaza-mons.be
SUMMARY:L’œuf de l'ange
DESCRIPTION:Die my Love\n\n\n\n\n\n			\n				Bande annonce\n			\n		 \n\n\n\n\n\n\n\n\n\n\n\n\n\n\n\n\n\n\n\n\n\n\n\n\n\n\n\n\n\n\n\n\n\n\n\n\n\n\n\n\n\n\n\n\n\n\n\n\n\n\n\n\n\nBande annonce
URL:https://plaza-mons.be/film/loeuf-de-lange/2025-12-29
ATTACH;FMTTYPE=image/jpeg:https://plaza-mons.be/wp-content/uploads/2025/12/loeuf-de-lange-poster.jpg
END:VEVENT
BEGIN:VEVENT
DTSTART;TZID=Europe/Brussels:20251229T160000
DTEND;TZID=Europe/Brussels:20251229T174300
DTSTAMP:20260426T050457
CREATED:20251203T133318Z
LAST-MODIFIED:20251230T000012Z
UID:100738-1767024000-1767030180@plaza-mons.be
SUMMARY:Mother
DESCRIPTION:Die my Love\n\n\n\n\n\n			\n				Bande annonce\n			\n		 \n\n\n\n\n\n\n\n\n\n\n\n\n\n\n\n\n\n\n\n\n\n\n\n\n\n\n\n\n\n\n\n\n\n\n\n\n\n\n\n\n\n\n\n\n\n\n\n\n\n\n\n\n\nBande annonce
URL:https://plaza-mons.be/film/mother/2025-12-29
ATTACH;FMTTYPE=image/jpeg:https://plaza-mons.be/wp-content/uploads/2025/12/mother-be-original.jpg
END:VEVENT
BEGIN:VEVENT
DTSTART;TZID=Europe/Brussels:20251229T170000
DTEND;TZID=Europe/Brussels:20251229T194000
DTSTAMP:20260426T050457
CREATED:20251203T134805Z
LAST-MODIFIED:20260120T000015Z
UID:101282-1767027600-1767037200@plaza-mons.be
SUMMARY:Resurrection
DESCRIPTION:Die my Love\n\n\n\n\n\n			\n				Bande annonce\n			\n		 \n\n\n\n\n\n\n\n\n\n\n\n\n\n\n\n\n\n\n\n\n\n\n\n\n\n\n\n\n\n\n\n\n\n\n\n\n\n\n\n\n\n\n\n\n\n\n\n\n\n\n\n\n\nBande annonce
URL:https://plaza-mons.be/film/resurrection/2025-12-29
ATTACH;FMTTYPE=image/jpeg:https://plaza-mons.be/wp-content/uploads/2025/12/resurrection-2.jpeg
END:VEVENT
BEGIN:VEVENT
DTSTART;TZID=Europe/Brussels:20251229T173000
DTEND;TZID=Europe/Brussels:20251229T173000
DTSTAMP:20260426T050457
CREATED:20251204T103048Z
LAST-MODIFIED:20260120T000345Z
UID:100360-1767029400-1767029400@plaza-mons.be
SUMMARY:Song Sung Blue  (Sur un air de Blues)
DESCRIPTION:Die my Love\n\n\n\n\n\n			\n				Bande annonce\n			\n		 \n\n\n\n\n\n\n\n\n\n\n\n\n\n\n\n\n\n\n\n\n\n\n\n\n\n\n\n\n\n\n\n\n\n\n\n\n\n\n\n\n\n\n\n\n\n\n\n\n\n\n\n\n\nBande annonce
URL:https://plaza-mons.be/film/song-sung-blue/2025-12-29
ATTACH;FMTTYPE=image/jpeg:https://plaza-mons.be/wp-content/uploads/2025/12/songsungblue-digitalpayoff-nl-original.jpg
END:VEVENT
BEGIN:VEVENT
DTSTART;TZID=Europe/Brussels:20251229T173000
DTEND;TZID=Europe/Brussels:20251229T193000
DTSTAMP:20260426T050457
CREATED:20251203T132601Z
LAST-MODIFIED:20251230T000036Z
UID:100169-1767029400-1767036600@plaza-mons.be
SUMMARY:Blue Velvet
DESCRIPTION:Die my Love\n\n\n\n\n\n			\n				Bande annonce\n			\n		 \n\n\n\n\n\n\n\n\n\n\n\n\n\n\n\n\n\n\n\n\n\n\n\n\n\n\n\n\n\n\n\n\n\n\n\n\n\n\n\n\n\n\n\n\n\n\n\n\n\n\n\n\n\nBande annonce
URL:https://plaza-mons.be/film/blue-velvet/2025-12-29
ATTACH;FMTTYPE=image/jpeg:https://plaza-mons.be/wp-content/uploads/2025/12/blue-velvet-poster.jpg
END:VEVENT
BEGIN:VEVENT
DTSTART;TZID=Europe/Brussels:20251229T181500
DTEND;TZID=Europe/Brussels:20251229T201100
DTSTAMP:20260426T050457
CREATED:20251104T131006Z
LAST-MODIFIED:20260106T000010Z
UID:100190-1767032100-1767039060@plaza-mons.be
SUMMARY:Dossier 137
DESCRIPTION:Die my Love\n\n\n\n\n\n			\n				Bande annonce\n			\n		 \n\n\n\n\n\n\n\n\n\n\n\n\n\n\n\n\n\n\n\n\n\n\n\n\n\n\n\n\n\n\n\n\n\n\n\n\n\n\n\n\n\n\n\n\n\n\n\n\n\n\n\n\n\nBande annonce
URL:https://plaza-mons.be/film/dossier-137/2025-12-29
ATTACH;FMTTYPE=image/jpeg:https://plaza-mons.be/wp-content/uploads/2025/11/dossier-137-poster.jpg
END:VEVENT
BEGIN:VEVENT
DTSTART;TZID=Europe/Brussels:20251229T200000
DTEND;TZID=Europe/Brussels:20251229T200000
DTSTAMP:20260426T050458
CREATED:20251204T101705Z
LAST-MODIFIED:20260127T000010Z
UID:100310-1767038400-1767038400@plaza-mons.be
SUMMARY:The Secret Agent (O Agente Secreto)
DESCRIPTION:Die my Love\n\n\n\n\n\n			\n				Bande annonce\n			\n		 \n\n\n\n\n\n\n\n\n\n\n\n\n\n\n\n\n\n\n\n\n\n\n\n\n\n\n\n\n\n\n\n\n\n\n\n\n\n\n\n\n\n\n\n\n\n\n\n\n\n\n\n\n\nBande annonce
URL:https://plaza-mons.be/film/the-secret-agent/2025-12-29
ATTACH;FMTTYPE=image/jpeg:https://plaza-mons.be/wp-content/uploads/2025/12/the-secret-agent-web-normal.jpg
END:VEVENT
BEGIN:VEVENT
DTSTART;TZID=Europe/Brussels:20251229T203000
DTEND;TZID=Europe/Brussels:20251229T203000
DTSTAMP:20260426T050458
CREATED:20251204T101921Z
LAST-MODIFIED:20260113T000626Z
UID:100320-1767040200-1767040200@plaza-mons.be
SUMMARY:The Running Man
DESCRIPTION:Die my Love\n\n\n\n\n\n			\n				Bande annonce\n			\n		 \n\n\n\n\n\n\n\n\n\n\n\n\n\n\n\n\n\n\n\n\n\n\n\n\n\n\n\n\n\n\n\n\n\n\n\n\n\n\n\n\n\n\n\n\n\n\n\n\n\n\n\n\n\nBande annonce
URL:https://plaza-mons.be/film/the-running-man/2025-12-29
ATTACH;FMTTYPE=image/jpeg:https://plaza-mons.be/wp-content/uploads/2025/12/the-running-man-poster-1.jpg
END:VEVENT
BEGIN:VEVENT
DTSTART;TZID=Europe/Brussels:20251229T203000
DTEND;TZID=Europe/Brussels:20251229T221500
DTSTAMP:20260426T050458
CREATED:20251204T102406Z
LAST-MODIFIED:20260127T000100Z
UID:100353-1767040200-1767046500@plaza-mons.be
SUMMARY:Muganga\, celui qui soigne
DESCRIPTION:Die my Love\n\n\n\n\n\n			\n				Bande annonce\n			\n		 \n\n\n\n\n\n\n\n\n\n\n\n\n\n\n\n\n\n\n\n\n\n\n\n\n\n\n\n\n\n\n\n\n\n\n\n\n\n\n\n\n\n\n\n\n\n\n\n\n\n\n\n\n\nBande annonce
URL:https://plaza-mons.be/film/muganga-celui-qui-soigne/2025-12-29
ATTACH;FMTTYPE=image/png:https://plaza-mons.be/wp-content/uploads/2025/12/muganga-poster.png
END:VEVENT
BEGIN:VEVENT
DTSTART;TZID=Europe/Brussels:20251229T204500
DTEND;TZID=Europe/Brussels:20251229T223500
DTSTAMP:20260426T050458
CREATED:20251204T102556Z
LAST-MODIFIED:20260113T000544Z
UID:100365-1767041100-1767047700@plaza-mons.be
SUMMARY:The Penguin Lessons
DESCRIPTION:Die my Love\n\n\n\n\n\n			\n				Bande annonce\n			\n		 \n\n\n\n\n\n\n\n\n\n\n\n\n\n\n\n\n\n\n\n\n\n\n\n\n\n\n\n\n\n\n\n\n\n\n\n\n\n\n\n\n\n\n\n\n\n\n\n\n\n\n\n\n\nBande annonce
URL:https://plaza-mons.be/film/the-penguin-lessons/2025-12-29
ATTACH;FMTTYPE=image/jpeg:https://plaza-mons.be/wp-content/uploads/2025/12/the-penguin-lessons-poster.jpg
END:VEVENT
BEGIN:VEVENT
DTSTART;TZID=Europe/Brussels:20251230T110000
DTEND;TZID=Europe/Brussels:20251230T113500
DTSTAMP:20260426T050458
CREATED:20251104T131437Z
LAST-MODIFIED:20260104T000016Z
UID:100148-1767092400-1767094500@plaza-mons.be
SUMMARY:Premières neiges
DESCRIPTION:Die my Love\n\n\n\n\n\n			\n				Bande annonce\n			\n		 \n\n\n\n\n\n\n\n\n\n\n\n\n\n\n\n\n\n\n\n\n\n\n\n\n\n\n\n\n\n\n\n\n\n\n\n\n\n\n\n\n\n\n\n\n\n\n\n\n\n\n\n\n\nBande annonce
URL:https://plaza-mons.be/film/premieres-neiges/2025-12-30
ATTACH;FMTTYPE=image/jpeg:https://plaza-mons.be/wp-content/uploads/2025/11/premieres-neiges-poster.jpg
END:VEVENT
BEGIN:VEVENT
DTSTART;TZID=Europe/Brussels:20251230T110000
DTEND;TZID=Europe/Brussels:20251230T120000
DTSTAMP:20260426T050458
CREATED:20251203T132415Z
LAST-MODIFIED:20260104T000014Z
UID:101232-1767092400-1767096000@plaza-mons.be
SUMMARY:Shaun le mouton :   la vie est une fête !
DESCRIPTION:Die my Love\n\n\n\n\n\n			\n				Bande annonce\n			\n		 \n\n\n\n\n\n\n\n\n\n\n\n\n\n\n\n\n\n\n\n\n\n\n\n\n\n\n\n\n\n\n\n\n\n\n\n\n\n\n\n\n\n\n\n\n\n\n\n\n\n\n\n\n\nBande annonce
URL:https://plaza-mons.be/film/shaun-le-mouton-la-vie-est-une-fete/2025-12-30
ATTACH;FMTTYPE=image/jpeg:https://plaza-mons.be/wp-content/uploads/2025/11/shaun-le-mouton-la-vie-est-une-fete-poster.jpg
END:VEVENT
BEGIN:VEVENT
DTSTART;TZID=Europe/Brussels:20251230T110000
DTEND;TZID=Europe/Brussels:20251230T123600
DTSTAMP:20260426T050458
CREATED:20251201T184248Z
LAST-MODIFIED:20260104T000012Z
UID:101300-1767092400-1767098160@plaza-mons.be
SUMMARY:Mission Père Noël
DESCRIPTION:Die my Love\n\n\n\n\n\n			\n				Bande annonce\n			\n		 \n\n\n\n\n\n\n\n\n\n\n\n\n\n\n\n\n\n\n\n\n\n\n\n\n\n\n\n\n\n\n\n\n\n\n\n\n\n\n\n\n\n\n\n\n\n\n\n\n\n\n\n\n\nBande annonce
URL:https://plaza-mons.be/film/mission-pere-noel/2025-12-30
ATTACH;FMTTYPE=image/jpeg:https://plaza-mons.be/wp-content/uploads/2025/12/mission-pere-noel-poster.jpg
END:VEVENT
BEGIN:VEVENT
DTSTART;TZID=Europe/Brussels:20251230T110000
DTEND;TZID=Europe/Brussels:20251230T124300
DTSTAMP:20260426T050458
CREATED:20251203T133318Z
LAST-MODIFIED:20251230T000012Z
UID:100739-1767092400-1767098580@plaza-mons.be
SUMMARY:Mother
DESCRIPTION:Die my Love\n\n\n\n\n\n			\n				Bande annonce\n			\n		 \n\n\n\n\n\n\n\n\n\n\n\n\n\n\n\n\n\n\n\n\n\n\n\n\n\n\n\n\n\n\n\n\n\n\n\n\n\n\n\n\n\n\n\n\n\n\n\n\n\n\n\n\n\nBande annonce
URL:https://plaza-mons.be/film/mother/2025-12-30
ATTACH;FMTTYPE=image/jpeg:https://plaza-mons.be/wp-content/uploads/2025/12/mother-be-original.jpg
END:VEVENT
BEGIN:VEVENT
DTSTART;TZID=Europe/Brussels:20251230T133000
DTEND;TZID=Europe/Brussels:20251230T143000
DTSTAMP:20260426T050458
CREATED:20251128T163226Z
LAST-MODIFIED:20251230T000021Z
UID:100218-1767101400-1767105000@plaza-mons.be
SUMMARY:Les Baronnes
DESCRIPTION:Die my Love\n\n\n\n\n\n			\n				Bande annonce\n			\n		 \n\n\n\n\n\n\n\n\n\n\n\n\n\n\n\n\n\n\n\n\n\n\n\n\n\n\n\n\n\n\n\n\n\n\n\n\n\n\n\n\n\n\n\n\n\n\n\n\n\n\n\n\n\nBande annonce
URL:https://plaza-mons.be/film/les-baronnes/2025-12-30
ATTACH;FMTTYPE=image/jpeg:https://plaza-mons.be/wp-content/uploads/2025/10/15829-lesbaronnes-cineart-def2.jpg
END:VEVENT
BEGIN:VEVENT
DTSTART;TZID=Europe/Brussels:20251230T133000
DTEND;TZID=Europe/Brussels:20251230T152800
DTSTAMP:20260426T050458
CREATED:20251204T102125Z
LAST-MODIFIED:20260106T000433Z
UID:100331-1767101400-1767108480@plaza-mons.be
SUMMARY:Les enfants vont bien
DESCRIPTION:Die my Love\n\n\n\n\n\n			\n				Bande annonce\n			\n		 \n\n\n\n\n\n\n\n\n\n\n\n\n\n\n\n\n\n\n\n\n\n\n\n\n\n\n\n\n\n\n\n\n\n\n\n\n\n\n\n\n\n\n\n\n\n\n\n\n\n\n\n\n\nBande annonce
URL:https://plaza-mons.be/film/les-enfants-vont-bien/2025-12-30
CATEGORIES:Nouveauté
ATTACH;FMTTYPE=image/jpeg:https://plaza-mons.be/wp-content/uploads/2025/12/les-enfants-vont-bien-poster-france-2835x3850-lesenfantsvontbien-doc120-hd-original.jpg
END:VEVENT
BEGIN:VEVENT
DTSTART;TZID=Europe/Brussels:20251230T140000
DTEND;TZID=Europe/Brussels:20251230T144100
DTSTAMP:20260426T050458
CREATED:20251204T102254Z
LAST-MODIFIED:20260104T000005Z
UID:100342-1767103200-1767105660@plaza-mons.be
SUMMARY:La petite fanfare de Noël
DESCRIPTION:Die my Love\n\n\n\n\n\n			\n				Bande annonce\n			\n		 \n\n\n\n\n\n\n\n\n\n\n\n\n\n\n\n\n\n\n\n\n\n\n\n\n\n\n\n\n\n\n\n\n\n\n\n\n\n\n\n\n\n\n\n\n\n\n\n\n\n\n\n\n\nBande annonce
URL:https://plaza-mons.be/film/la-petite-fanfare-de-noel/2025-12-30
CATEGORIES:Nouveauté
ATTACH;FMTTYPE=image/jpeg:https://plaza-mons.be/wp-content/uploads/2025/12/la-petite-fanfare-de-noel-poster.jpg
END:VEVENT
BEGIN:VEVENT
DTSTART;TZID=Europe/Brussels:20251230T140000
DTEND;TZID=Europe/Brussels:20251230T151700
DTSTAMP:20260426T050458
CREATED:20251204T100201Z
LAST-MODIFIED:20260201T000040Z
UID:100297-1767103200-1767107820@plaza-mons.be
SUMMARY:Le secret des mésanges
DESCRIPTION:Die my Love\n\n\n\n\n\n			\n				Bande annonce\n			\n		 \n\n\n\n\n\n\n\n\n\n\n\n\n\n\n\n\n\n\n\n\n\n\n\n\n\n\n\n\n\n\n\n\n\n\n\n\n\n\n\n\n\n\n\n\n\n\n\n\n\n\n\n\n\nBande annonce
URL:https://plaza-mons.be/film/le-secret-des-mesanges/2025-12-30
ATTACH;FMTTYPE=image/jpeg:https://plaza-mons.be/wp-content/uploads/2025/12/le-secret-des-mesanges-poster.jpg
END:VEVENT
BEGIN:VEVENT
DTSTART;TZID=Europe/Brussels:20251230T150000
DTEND;TZID=Europe/Brussels:20251230T170000
DTSTAMP:20260426T050458
CREATED:20251203T132601Z
LAST-MODIFIED:20251230T000036Z
UID:100170-1767106800-1767114000@plaza-mons.be
SUMMARY:Blue Velvet
DESCRIPTION:Die my Love\n\n\n\n\n\n			\n				Bande annonce\n			\n		 \n\n\n\n\n\n\n\n\n\n\n\n\n\n\n\n\n\n\n\n\n\n\n\n\n\n\n\n\n\n\n\n\n\n\n\n\n\n\n\n\n\n\n\n\n\n\n\n\n\n\n\n\n\nBande annonce
URL:https://plaza-mons.be/film/blue-velvet/2025-12-30
ATTACH;FMTTYPE=image/jpeg:https://plaza-mons.be/wp-content/uploads/2025/12/blue-velvet-poster.jpg
END:VEVENT
BEGIN:VEVENT
DTSTART;TZID=Europe/Brussels:20251230T153000
DTEND;TZID=Europe/Brussels:20251230T170600
DTSTAMP:20260426T050458
CREATED:20251201T184248Z
LAST-MODIFIED:20260104T000012Z
UID:101301-1767108600-1767114360@plaza-mons.be
SUMMARY:Mission Père Noël
DESCRIPTION:Die my Love\n\n\n\n\n\n			\n				Bande annonce\n			\n		 \n\n\n\n\n\n\n\n\n\n\n\n\n\n\n\n\n\n\n\n\n\n\n\n\n\n\n\n\n\n\n\n\n\n\n\n\n\n\n\n\n\n\n\n\n\n\n\n\n\n\n\n\n\nBande annonce
URL:https://plaza-mons.be/film/mission-pere-noel/2025-12-30/2
ATTACH;FMTTYPE=image/jpeg:https://plaza-mons.be/wp-content/uploads/2025/12/mission-pere-noel-poster.jpg
END:VEVENT
BEGIN:VEVENT
DTSTART;TZID=Europe/Brussels:20251230T160000
DTEND;TZID=Europe/Brussels:20251230T160000
DTSTAMP:20260426T050458
CREATED:20251104T130838Z
LAST-MODIFIED:20251230T000048Z
UID:100177-1767110400-1767110400@plaza-mons.be
SUMMARY:La voix de Hind Rajab
DESCRIPTION:Die my Love\n\n\n\n\n\n			\n				Bande annonce\n			\n		 \n\n\n\n\n\n\n\n\n\n\n\n\n\n\n\n\n\n\n\n\n\n\n\n\n\n\n\n\n\n\n\n\n\n\n\n\n\n\n\n\n\n\n\n\n\n\n\n\n\n\n\n\n\nBande annonce
URL:https://plaza-mons.be/film/la-voix-de-hind-rajab/2025-12-30
ATTACH;FMTTYPE=image/jpeg:https://plaza-mons.be/wp-content/uploads/2025/11/la-voix-de-hind-rajab-poster.jpg
END:VEVENT
END:VCALENDAR