BEGIN:VCALENDAR
VERSION:2.0
PRODID:-//Plaza Arthouse Cinema - ECPv5.14.1//NONSGML v1.0//EN
CALSCALE:GREGORIAN
METHOD:PUBLISH
X-WR-CALNAME:Plaza Arthouse Cinema
X-ORIGINAL-URL:https://plaza-mons.be
X-WR-CALDESC:Events for Plaza Arthouse Cinema
REFRESH-INTERVAL;VALUE=DURATION:PT1H
X-Robots-Tag:noindex
X-PUBLISHED-TTL:PT1H
BEGIN:VTIMEZONE
TZID:Europe/Brussels
BEGIN:DAYLIGHT
TZOFFSETFROM:+0100
TZOFFSETTO:+0200
TZNAME:CEST
DTSTART:20250330T010000
END:DAYLIGHT
BEGIN:STANDARD
TZOFFSETFROM:+0200
TZOFFSETTO:+0100
TZNAME:CET
DTSTART:20251026T010000
END:STANDARD
END:VTIMEZONE
BEGIN:VEVENT
DTSTART;TZID=Europe/Brussels:20251215T150000
DTEND;TZID=Europe/Brussels:20251215T163200
DTSTAMP:20260425T044836
CREATED:20251203T140209Z
LAST-MODIFIED:20260106T000406Z
UID:99923-1765810800-1765816320@plaza-mons.be
SUMMARY:Six jours\, ce printemps-là
DESCRIPTION:Super Charlie\n\n\n\n\n\n			\n				Bande annonce\n			\n		 \n\n\n\n\n\n\n\n\n\n\n\n\n\n\n\n\n\n\n\n\n\n\n\n\n\n\n\n\n\n\n\n\n\n\n\n\n\n\n\n\n\n\n\n\n\n\n\n\n\n\n\n\n\nBande annonce
URL:https://plaza-mons.be/film/six-jours-ce-printemps-la/2025-12-15
ATTACH;FMTTYPE=image/jpeg:https://plaza-mons.be/wp-content/uploads/2025/12/six-jours-ce-printemps-la-poster.jpg
END:VEVENT
BEGIN:VEVENT
DTSTART;TZID=Europe/Brussels:20251215T150000
DTEND;TZID=Europe/Brussels:20251215T163700
DTSTAMP:20260425T044836
CREATED:20251203T133105Z
LAST-MODIFIED:20251223T000423Z
UID:99875-1765810800-1765816620@plaza-mons.be
SUMMARY:Des preuves  d’amour
DESCRIPTION:Super Charlie\n\n\n\n\n\n			\n				Bande annonce\n			\n		 \n\n\n\n\n\n\n\n\n\n\n\n\n\n\n\n\n\n\n\n\n\n\n\n\n\n\n\n\n\n\n\n\n\n\n\n\n\n\n\n\n\n\n\n\n\n\n\n\n\n\n\n\n\nBande annonce
URL:https://plaza-mons.be/film/des-preuves-damour-2/2025-12-15
ATTACH;FMTTYPE=image/jpeg:https://plaza-mons.be/wp-content/uploads/2025/12/des-preuves-damour-poster.jpg
END:VEVENT
BEGIN:VEVENT
DTSTART;TZID=Europe/Brussels:20251215T150000
DTEND;TZID=Europe/Brussels:20251215T165800
DTSTAMP:20260425T044836
CREATED:20251104T131222Z
LAST-MODIFIED:20251215T000006Z
UID:99851-1765810800-1765817880@plaza-mons.be
SUMMARY:Moi qui t'aimais
DESCRIPTION:Super Charlie\n\n\n\n\n\n			\n				Bande annonce\n			\n		 \n\n\n\n\n\n\n\n\n\n\n\n\n\n\n\n\n\n\n\n\n\n\n\n\n\n\n\n\n\n\n\n\n\n\n\n\n\n\n\n\n\n\n\n\n\n\n\n\n\n\n\n\n\nBande annonce
URL:https://plaza-mons.be/film/moi-qui-taimais/2025-12-15
ATTACH;FMTTYPE=image/jpeg:https://plaza-mons.be/wp-content/uploads/2025/11/moi-qui-taimais-poster.jpg
END:VEVENT
BEGIN:VEVENT
DTSTART;TZID=Europe/Brussels:20251215T153000
DTEND;TZID=Europe/Brussels:20251215T174900
DTSTAMP:20260425T044836
CREATED:20251028T153233Z
LAST-MODIFIED:20251215T000021Z
UID:99834-1765812600-1765820940@plaza-mons.be
SUMMARY:Les Aigles de la République
DESCRIPTION:Super Charlie\n\n\n\n\n\n			\n				Bande annonce\n			\n		 \n\n\n\n\n\n\n\n\n\n\n\n\n\n\n\n\n\n\n\n\n\n\n\n\n\n\n\n\n\n\n\n\n\n\n\n\n\n\n\n\n\n\n\n\n\n\n\n\n\n\n\n\n\nBande annonce
URL:https://plaza-mons.be/film/les-aigles-de-la-republique/2025-12-15
ATTACH;FMTTYPE=image/jpeg:https://plaza-mons.be/wp-content/uploads/2025/10/les-aigles-de-la-republique-poster.jpg
END:VEVENT
BEGIN:VEVENT
DTSTART;TZID=Europe/Brussels:20251215T163000
DTEND;TZID=Europe/Brussels:20251215T173000
DTSTAMP:20260425T044836
CREATED:20251128T163226Z
LAST-MODIFIED:20251230T000021Z
UID:99888-1765816200-1765819800@plaza-mons.be
SUMMARY:Les Baronnes
DESCRIPTION:Super Charlie\n\n\n\n\n\n			\n				Bande annonce\n			\n		 \n\n\n\n\n\n\n\n\n\n\n\n\n\n\n\n\n\n\n\n\n\n\n\n\n\n\n\n\n\n\n\n\n\n\n\n\n\n\n\n\n\n\n\n\n\n\n\n\n\n\n\n\n\nBande annonce
URL:https://plaza-mons.be/film/les-baronnes/2025-12-15
ATTACH;FMTTYPE=image/jpeg:https://plaza-mons.be/wp-content/uploads/2025/10/15829-lesbaronnes-cineart-def2.jpg
END:VEVENT
BEGIN:VEVENT
DTSTART;TZID=Europe/Brussels:20251215T173000
DTEND;TZID=Europe/Brussels:20251215T191900
DTSTAMP:20260425T044836
CREATED:20251203T134142Z
LAST-MODIFIED:20251230T000111Z
UID:101255-1765819800-1765826340@plaza-mons.be
SUMMARY:Left-Handed Girl
DESCRIPTION:Super Charlie\n\n\n\n\n\n			\n				Bande annonce\n			\n		 \n\n\n\n\n\n\n\n\n\n\n\n\n\n\n\n\n\n\n\n\n\n\n\n\n\n\n\n\n\n\n\n\n\n\n\n\n\n\n\n\n\n\n\n\n\n\n\n\n\n\n\n\n\nBande annonce
URL:https://plaza-mons.be/film/left-handed-girl/2025-12-15
ATTACH;FMTTYPE=image/jpeg:https://plaza-mons.be/wp-content/uploads/2025/12/left-handed-girl-poster-be-def.jpg
END:VEVENT
BEGIN:VEVENT
DTSTART;TZID=Europe/Brussels:20251215T180000
DTEND;TZID=Europe/Brussels:20251215T195600
DTSTAMP:20260425T044836
CREATED:20251104T131006Z
LAST-MODIFIED:20260106T000009Z
UID:99846-1765821600-1765828560@plaza-mons.be
SUMMARY:Dossier 137
DESCRIPTION:Super Charlie\n\n\n\n\n\n			\n				Bande annonce\n			\n		 \n\n\n\n\n\n\n\n\n\n\n\n\n\n\n\n\n\n\n\n\n\n\n\n\n\n\n\n\n\n\n\n\n\n\n\n\n\n\n\n\n\n\n\n\n\n\n\n\n\n\n\n\n\nBande annonce
URL:https://plaza-mons.be/film/dossier-137/2025-12-15
ATTACH;FMTTYPE=image/jpeg:https://plaza-mons.be/wp-content/uploads/2025/11/dossier-137-poster.jpg
END:VEVENT
BEGIN:VEVENT
DTSTART;TZID=Europe/Brussels:20251215T181500
DTEND;TZID=Europe/Brussels:20251215T181500
DTSTAMP:20260425T044836
CREATED:20251104T130838Z
LAST-MODIFIED:20251230T000047Z
UID:99838-1765822500-1765822500@plaza-mons.be
SUMMARY:La voix de Hind Rajab
DESCRIPTION:Super Charlie\n\n\n\n\n\n			\n				Bande annonce\n			\n		 \n\n\n\n\n\n\n\n\n\n\n\n\n\n\n\n\n\n\n\n\n\n\n\n\n\n\n\n\n\n\n\n\n\n\n\n\n\n\n\n\n\n\n\n\n\n\n\n\n\n\n\n\n\nBande annonce
URL:https://plaza-mons.be/film/la-voix-de-hind-rajab/2025-12-15
ATTACH;FMTTYPE=image/jpeg:https://plaza-mons.be/wp-content/uploads/2025/11/la-voix-de-hind-rajab-poster.jpg
END:VEVENT
BEGIN:VEVENT
DTSTART;TZID=Europe/Brussels:20251215T190000
DTEND;TZID=Europe/Brussels:20251215T211400
DTSTAMP:20260425T044836
CREATED:20251204T095133Z
LAST-MODIFIED:20251215T000146Z
UID:99928-1765825200-1765833240@plaza-mons.be
SUMMARY:English Evening : The Running Man
DESCRIPTION:Super Charlie\n\n\n\n\n\n			\n				Bande annonce\n			\n		 \n\n\n\n\n\n\n\n\n\n\n\n\n\n\n\n\n\n\n\n\n\n\n\n\n\n\n\n\n\n\n\n\n\n\n\n\n\n\n\n\n\n\n\n\n\n\n\n\n\n\n\n\n\nBande annonce
URL:https://plaza-mons.be/film/english-evening-the-running-man/2025-12-15
CATEGORIES:Avant-première
ATTACH;FMTTYPE=image/jpeg:https://plaza-mons.be/wp-content/uploads/2025/12/the-running-man-poster.jpg
END:VEVENT
BEGIN:VEVENT
DTSTART;TZID=Europe/Brussels:20251215T200000
DTEND;TZID=Europe/Brussels:20251215T224000
DTSTAMP:20260425T044836
CREATED:20251203T134805Z
LAST-MODIFIED:20260120T000011Z
UID:101270-1765828800-1765838400@plaza-mons.be
SUMMARY:Resurrection
DESCRIPTION:Super Charlie\n\n\n\n\n\n			\n				Bande annonce\n			\n		 \n\n\n\n\n\n\n\n\n\n\n\n\n\n\n\n\n\n\n\n\n\n\n\n\n\n\n\n\n\n\n\n\n\n\n\n\n\n\n\n\n\n\n\n\n\n\n\n\n\n\n\n\n\nBande annonce
URL:https://plaza-mons.be/film/resurrection/2025-12-15
ATTACH;FMTTYPE=image/jpeg:https://plaza-mons.be/wp-content/uploads/2025/12/resurrection-2.jpeg
END:VEVENT
BEGIN:VEVENT
DTSTART;TZID=Europe/Brussels:20251215T203000
DTEND;TZID=Europe/Brussels:20251215T220200
DTSTAMP:20260425T044836
CREATED:20251203T140209Z
LAST-MODIFIED:20260106T000406Z
UID:99924-1765830600-1765836120@plaza-mons.be
SUMMARY:Six jours\, ce printemps-là
DESCRIPTION:Super Charlie\n\n\n\n\n\n			\n				Bande annonce\n			\n		 \n\n\n\n\n\n\n\n\n\n\n\n\n\n\n\n\n\n\n\n\n\n\n\n\n\n\n\n\n\n\n\n\n\n\n\n\n\n\n\n\n\n\n\n\n\n\n\n\n\n\n\n\n\nBande annonce
URL:https://plaza-mons.be/film/six-jours-ce-printemps-la/2025-12-15/2
ATTACH;FMTTYPE=image/jpeg:https://plaza-mons.be/wp-content/uploads/2025/12/six-jours-ce-printemps-la-poster.jpg
END:VEVENT
BEGIN:VEVENT
DTSTART;TZID=Europe/Brussels:20251215T203000
DTEND;TZID=Europe/Brussels:20251215T222200
DTSTAMP:20260425T044836
CREATED:20251203T132945Z
LAST-MODIFIED:20251230T000346Z
UID:99869-1765830600-1765837320@plaza-mons.be
SUMMARY:Relay
DESCRIPTION:Super Charlie\n\n\n\n\n\n			\n				Bande annonce\n			\n		 \n\n\n\n\n\n\n\n\n\n\n\n\n\n\n\n\n\n\n\n\n\n\n\n\n\n\n\n\n\n\n\n\n\n\n\n\n\n\n\n\n\n\n\n\n\n\n\n\n\n\n\n\n\nBande annonce
URL:https://plaza-mons.be/film/relay/2025-12-15
ATTACH;FMTTYPE=image/jpeg:https://plaza-mons.be/wp-content/uploads/2025/12/relay-poster.jpg
END:VEVENT
BEGIN:VEVENT
DTSTART;TZID=Europe/Brussels:20251216T140000
DTEND;TZID=Europe/Brussels:20251216T160200
DTSTAMP:20260425T044836
CREATED:20251204T095546Z
LAST-MODIFIED:20251216T000001Z
UID:99929-1765893600-1765900920@plaza-mons.be
SUMMARY:Ciné Pour Tous : La vie passionnée de Vincent Van Gogh
DESCRIPTION:Super Charlie
URL:https://plaza-mons.be/film/cine-pour-tous-la-vie-passionnee-de-vincent-van-gogh/2025-12-16
CATEGORIES:Avant-première
ATTACH;FMTTYPE=image/jpeg:https://plaza-mons.be/wp-content/uploads/2025/12/la-vie-passionnee-de-vincent-van-gogh-poster.jpg
END:VEVENT
BEGIN:VEVENT
DTSTART;TZID=Europe/Brussels:20251216T150000
DTEND;TZID=Europe/Brussels:20251216T160000
DTSTAMP:20260425T044836
CREATED:20251128T163226Z
LAST-MODIFIED:20251230T000021Z
UID:99889-1765897200-1765900800@plaza-mons.be
SUMMARY:Les Baronnes
DESCRIPTION:Super Charlie\n\n\n\n\n\n			\n				Bande annonce\n			\n		 \n\n\n\n\n\n\n\n\n\n\n\n\n\n\n\n\n\n\n\n\n\n\n\n\n\n\n\n\n\n\n\n\n\n\n\n\n\n\n\n\n\n\n\n\n\n\n\n\n\n\n\n\n\nBande annonce
URL:https://plaza-mons.be/film/les-baronnes/2025-12-16
ATTACH;FMTTYPE=image/jpeg:https://plaza-mons.be/wp-content/uploads/2025/10/15829-lesbaronnes-cineart-def2.jpg
END:VEVENT
BEGIN:VEVENT
DTSTART;TZID=Europe/Brussels:20251216T150000
DTEND;TZID=Europe/Brussels:20251216T161100
DTSTAMP:20260425T044836
CREATED:20251203T133729Z
LAST-MODIFIED:20251229T000048Z
UID:101242-1765897200-1765901460@plaza-mons.be
SUMMARY:L’œuf de l'ange
DESCRIPTION:Super Charlie\n\n\n\n\n\n			\n				Bande annonce\n			\n		 \n\n\n\n\n\n\n\n\n\n\n\n\n\n\n\n\n\n\n\n\n\n\n\n\n\n\n\n\n\n\n\n\n\n\n\n\n\n\n\n\n\n\n\n\n\n\n\n\n\n\n\n\n\nBande annonce
URL:https://plaza-mons.be/film/loeuf-de-lange/2025-12-16
ATTACH;FMTTYPE=image/jpeg:https://plaza-mons.be/wp-content/uploads/2025/12/loeuf-de-lange-poster.jpg
END:VEVENT
BEGIN:VEVENT
DTSTART;TZID=Europe/Brussels:20251216T150000
DTEND;TZID=Europe/Brussels:20251216T170000
DTSTAMP:20260425T044836
CREATED:20251203T132601Z
LAST-MODIFIED:20251230T000034Z
UID:99859-1765897200-1765904400@plaza-mons.be
SUMMARY:Blue Velvet
DESCRIPTION:Super Charlie\n\n\n\n\n\n			\n				Bande annonce\n			\n		 \n\n\n\n\n\n\n\n\n\n\n\n\n\n\n\n\n\n\n\n\n\n\n\n\n\n\n\n\n\n\n\n\n\n\n\n\n\n\n\n\n\n\n\n\n\n\n\n\n\n\n\n\n\nBande annonce
URL:https://plaza-mons.be/film/blue-velvet/2025-12-16
ATTACH;FMTTYPE=image/jpeg:https://plaza-mons.be/wp-content/uploads/2025/12/blue-velvet-poster.jpg
END:VEVENT
BEGIN:VEVENT
DTSTART;TZID=Europe/Brussels:20251216T161500
DTEND;TZID=Europe/Brussels:20251216T161500
DTSTAMP:20260425T044836
CREATED:20250701T113746Z
LAST-MODIFIED:20251107T000458Z
UID:90628-1765901700-1765901700@plaza-mons.be
SUMMARY:La ruée vers l'or
DESCRIPTION:Super Charlie\n\n\n\n\n\n			\n				Bande annonce\n			\n		 \n\n\n\n\n\n\n\n\n\n\n\n\n\n\n\n\n\n\n\n\n\n\n\n\n\n\n\n\n\n\n\n\n\n\n\n\n\n\n\n\n\n\n\n\n\n\n\n\n\n\n\n\n\nBande annonce
URL:https://plaza-mons.be/film/la-ruee-vers-lor/2025-12-16
CATEGORIES:Comédie dramatique
ATTACH;FMTTYPE=image/jpeg:https://plaza-mons.be/wp-content/uploads/2025/07/la-ruee-vers-lor-poster.jpg
END:VEVENT
BEGIN:VEVENT
DTSTART;TZID=Europe/Brussels:20251216T174500
DTEND;TZID=Europe/Brussels:20251216T193400
DTSTAMP:20260425T044836
CREATED:20251203T134142Z
LAST-MODIFIED:20251230T000111Z
UID:101256-1765907100-1765913640@plaza-mons.be
SUMMARY:Left-Handed Girl
DESCRIPTION:Super Charlie\n\n\n\n\n\n			\n				Bande annonce\n			\n		 \n\n\n\n\n\n\n\n\n\n\n\n\n\n\n\n\n\n\n\n\n\n\n\n\n\n\n\n\n\n\n\n\n\n\n\n\n\n\n\n\n\n\n\n\n\n\n\n\n\n\n\n\n\nBande annonce
URL:https://plaza-mons.be/film/left-handed-girl/2025-12-16
ATTACH;FMTTYPE=image/jpeg:https://plaza-mons.be/wp-content/uploads/2025/12/left-handed-girl-poster-be-def.jpg
END:VEVENT
BEGIN:VEVENT
DTSTART;TZID=Europe/Brussels:20251216T180000
DTEND;TZID=Europe/Brussels:20251216T193700
DTSTAMP:20260425T044836
CREATED:20251203T133105Z
LAST-MODIFIED:20251223T000423Z
UID:99876-1765908000-1765913820@plaza-mons.be
SUMMARY:Des preuves  d’amour
DESCRIPTION:Super Charlie\n\n\n\n\n\n			\n				Bande annonce\n			\n		 \n\n\n\n\n\n\n\n\n\n\n\n\n\n\n\n\n\n\n\n\n\n\n\n\n\n\n\n\n\n\n\n\n\n\n\n\n\n\n\n\n\n\n\n\n\n\n\n\n\n\n\n\n\nBande annonce
URL:https://plaza-mons.be/film/des-preuves-damour-2/2025-12-16
ATTACH;FMTTYPE=image/jpeg:https://plaza-mons.be/wp-content/uploads/2025/12/des-preuves-damour-poster.jpg
END:VEVENT
BEGIN:VEVENT
DTSTART;TZID=Europe/Brussels:20251216T180000
DTEND;TZID=Europe/Brussels:20251216T194300
DTSTAMP:20260425T044836
CREATED:20251203T133318Z
LAST-MODIFIED:20251230T000011Z
UID:100731-1765908000-1765914180@plaza-mons.be
SUMMARY:Mother
DESCRIPTION:Super Charlie\n\n\n\n\n\n			\n				Bande annonce\n			\n		 \n\n\n\n\n\n\n\n\n\n\n\n\n\n\n\n\n\n\n\n\n\n\n\n\n\n\n\n\n\n\n\n\n\n\n\n\n\n\n\n\n\n\n\n\n\n\n\n\n\n\n\n\n\nBande annonce
URL:https://plaza-mons.be/film/mother/2025-12-16
ATTACH;FMTTYPE=image/jpeg:https://plaza-mons.be/wp-content/uploads/2025/12/mother-be-original.jpg
END:VEVENT
BEGIN:VEVENT
DTSTART;TZID=Europe/Brussels:20251216T180000
DTEND;TZID=Europe/Brussels:20251216T195600
DTSTAMP:20260425T044836
CREATED:20251104T131006Z
LAST-MODIFIED:20260106T000009Z
UID:99847-1765908000-1765914960@plaza-mons.be
SUMMARY:Dossier 137
DESCRIPTION:Super Charlie\n\n\n\n\n\n			\n				Bande annonce\n			\n		 \n\n\n\n\n\n\n\n\n\n\n\n\n\n\n\n\n\n\n\n\n\n\n\n\n\n\n\n\n\n\n\n\n\n\n\n\n\n\n\n\n\n\n\n\n\n\n\n\n\n\n\n\n\nBande annonce
URL:https://plaza-mons.be/film/dossier-137/2025-12-16
ATTACH;FMTTYPE=image/jpeg:https://plaza-mons.be/wp-content/uploads/2025/11/dossier-137-poster.jpg
END:VEVENT
BEGIN:VEVENT
DTSTART;TZID=Europe/Brussels:20251216T200000
DTEND;TZID=Europe/Brussels:20251216T224000
DTSTAMP:20260425T044836
CREATED:20251203T134805Z
LAST-MODIFIED:20260120T000011Z
UID:101271-1765915200-1765924800@plaza-mons.be
SUMMARY:Resurrection
DESCRIPTION:Super Charlie\n\n\n\n\n\n			\n				Bande annonce\n			\n		 \n\n\n\n\n\n\n\n\n\n\n\n\n\n\n\n\n\n\n\n\n\n\n\n\n\n\n\n\n\n\n\n\n\n\n\n\n\n\n\n\n\n\n\n\n\n\n\n\n\n\n\n\n\nBande annonce
URL:https://plaza-mons.be/film/resurrection/2025-12-16
ATTACH;FMTTYPE=image/jpeg:https://plaza-mons.be/wp-content/uploads/2025/12/resurrection-2.jpeg
END:VEVENT
BEGIN:VEVENT
DTSTART;TZID=Europe/Brussels:20251216T203000
DTEND;TZID=Europe/Brussels:20251216T203000
DTSTAMP:20260425T044836
CREATED:20251104T130838Z
LAST-MODIFIED:20251230T000048Z
UID:99839-1765917000-1765917000@plaza-mons.be
SUMMARY:La voix de Hind Rajab
DESCRIPTION:Super Charlie\n\n\n\n\n\n			\n				Bande annonce\n			\n		 \n\n\n\n\n\n\n\n\n\n\n\n\n\n\n\n\n\n\n\n\n\n\n\n\n\n\n\n\n\n\n\n\n\n\n\n\n\n\n\n\n\n\n\n\n\n\n\n\n\n\n\n\n\nBande annonce
URL:https://plaza-mons.be/film/la-voix-de-hind-rajab/2025-12-16
ATTACH;FMTTYPE=image/jpeg:https://plaza-mons.be/wp-content/uploads/2025/11/la-voix-de-hind-rajab-poster.jpg
END:VEVENT
BEGIN:VEVENT
DTSTART;TZID=Europe/Brussels:20251216T203000
DTEND;TZID=Europe/Brussels:20251216T220200
DTSTAMP:20260425T044836
CREATED:20251203T140209Z
LAST-MODIFIED:20260106T000407Z
UID:99925-1765917000-1765922520@plaza-mons.be
SUMMARY:Six jours\, ce printemps-là
DESCRIPTION:Super Charlie\n\n\n\n\n\n			\n				Bande annonce\n			\n		 \n\n\n\n\n\n\n\n\n\n\n\n\n\n\n\n\n\n\n\n\n\n\n\n\n\n\n\n\n\n\n\n\n\n\n\n\n\n\n\n\n\n\n\n\n\n\n\n\n\n\n\n\n\nBande annonce
URL:https://plaza-mons.be/film/six-jours-ce-printemps-la/2025-12-16
ATTACH;FMTTYPE=image/jpeg:https://plaza-mons.be/wp-content/uploads/2025/12/six-jours-ce-printemps-la-poster.jpg
END:VEVENT
BEGIN:VEVENT
DTSTART;TZID=Europe/Brussels:20251216T203000
DTEND;TZID=Europe/Brussels:20251216T222200
DTSTAMP:20260425T044836
CREATED:20251203T132945Z
LAST-MODIFIED:20251230T000346Z
UID:99870-1765917000-1765923720@plaza-mons.be
SUMMARY:Relay
DESCRIPTION:Super Charlie\n\n\n\n\n\n			\n				Bande annonce\n			\n		 \n\n\n\n\n\n\n\n\n\n\n\n\n\n\n\n\n\n\n\n\n\n\n\n\n\n\n\n\n\n\n\n\n\n\n\n\n\n\n\n\n\n\n\n\n\n\n\n\n\n\n\n\n\nBande annonce
URL:https://plaza-mons.be/film/relay/2025-12-16
ATTACH;FMTTYPE=image/jpeg:https://plaza-mons.be/wp-content/uploads/2025/12/relay-poster.jpg
END:VEVENT
BEGIN:VEVENT
DTSTART;TZID=Europe/Brussels:20251217T133000
DTEND;TZID=Europe/Brussels:20251217T144700
DTSTAMP:20260425T044836
CREATED:20251204T100201Z
LAST-MODIFIED:20260201T000038Z
UID:100135-1765978200-1765982820@plaza-mons.be
SUMMARY:Le secret des mésanges
DESCRIPTION:Super Charlie\n\n\n\n\n\n			\n				Bande annonce\n			\n		 \n\n\n\n\n\n\n\n\n\n\n\n\n\n\n\n\n\n\n\n\n\n\n\n\n\n\n\n\n\n\n\n\n\n\n\n\n\n\n\n\n\n\n\n\n\n\n\n\n\n\n\n\n\nBande annonce
URL:https://plaza-mons.be/film/le-secret-des-mesanges/2025-12-17
ATTACH;FMTTYPE=image/jpeg:https://plaza-mons.be/wp-content/uploads/2025/12/le-secret-des-mesanges-poster.jpg
END:VEVENT
BEGIN:VEVENT
DTSTART;TZID=Europe/Brussels:20251217T140000
DTEND;TZID=Europe/Brussels:20251217T153600
DTSTAMP:20260425T044836
CREATED:20251201T184248Z
LAST-MODIFIED:20260104T000011Z
UID:101285-1765980000-1765985760@plaza-mons.be
SUMMARY:Mission Père Noël
DESCRIPTION:Super Charlie\n\n\n\n\n\n			\n				Bande annonce\n			\n		 \n\n\n\n\n\n\n\n\n\n\n\n\n\n\n\n\n\n\n\n\n\n\n\n\n\n\n\n\n\n\n\n\n\n\n\n\n\n\n\n\n\n\n\n\n\n\n\n\n\n\n\n\n\nBande annonce
URL:https://plaza-mons.be/film/mission-pere-noel/2025-12-17
ATTACH;FMTTYPE=image/jpeg:https://plaza-mons.be/wp-content/uploads/2025/12/mission-pere-noel-poster.jpg
END:VEVENT
BEGIN:VEVENT
DTSTART;TZID=Europe/Brussels:20251217T150000
DTEND;TZID=Europe/Brussels:20251217T160000
DTSTAMP:20260425T044836
CREATED:20251128T163226Z
LAST-MODIFIED:20251230T000021Z
UID:100071-1765983600-1765987200@plaza-mons.be
SUMMARY:Les Baronnes
DESCRIPTION:Super Charlie\n\n\n\n\n\n			\n				Bande annonce\n			\n		 \n\n\n\n\n\n\n\n\n\n\n\n\n\n\n\n\n\n\n\n\n\n\n\n\n\n\n\n\n\n\n\n\n\n\n\n\n\n\n\n\n\n\n\n\n\n\n\n\n\n\n\n\n\nBande annonce
URL:https://plaza-mons.be/film/les-baronnes/2025-12-17
ATTACH;FMTTYPE=image/jpeg:https://plaza-mons.be/wp-content/uploads/2025/10/15829-lesbaronnes-cineart-def2.jpg
END:VEVENT
BEGIN:VEVENT
DTSTART;TZID=Europe/Brussels:20251217T153000
DTEND;TZID=Europe/Brussels:20251217T170700
DTSTAMP:20260425T044836
CREATED:20251203T133105Z
LAST-MODIFIED:20251223T000423Z
UID:100068-1765985400-1765991220@plaza-mons.be
SUMMARY:Des preuves  d’amour
DESCRIPTION:Super Charlie\n\n\n\n\n\n			\n				Bande annonce\n			\n		 \n\n\n\n\n\n\n\n\n\n\n\n\n\n\n\n\n\n\n\n\n\n\n\n\n\n\n\n\n\n\n\n\n\n\n\n\n\n\n\n\n\n\n\n\n\n\n\n\n\n\n\n\n\nBande annonce
URL:https://plaza-mons.be/film/des-preuves-damour-2/2025-12-17
ATTACH;FMTTYPE=image/jpeg:https://plaza-mons.be/wp-content/uploads/2025/12/des-preuves-damour-poster.jpg
END:VEVENT
BEGIN:VEVENT
DTSTART;TZID=Europe/Brussels:20251217T160000
DTEND;TZID=Europe/Brussels:20251217T160000
DTSTAMP:20260425T044836
CREATED:20251104T130838Z
LAST-MODIFIED:20251230T000048Z
UID:100035-1765987200-1765987200@plaza-mons.be
SUMMARY:La voix de Hind Rajab
DESCRIPTION:Super Charlie\n\n\n\n\n\n			\n				Bande annonce\n			\n		 \n\n\n\n\n\n\n\n\n\n\n\n\n\n\n\n\n\n\n\n\n\n\n\n\n\n\n\n\n\n\n\n\n\n\n\n\n\n\n\n\n\n\n\n\n\n\n\n\n\n\n\n\n\nBande annonce
URL:https://plaza-mons.be/film/la-voix-de-hind-rajab/2025-12-17
ATTACH;FMTTYPE=image/jpeg:https://plaza-mons.be/wp-content/uploads/2025/11/la-voix-de-hind-rajab-poster.jpg
END:VEVENT
END:VCALENDAR