BEGIN:VCALENDAR
VERSION:2.0
PRODID:-//Plaza Arthouse Cinema - ECPv5.14.1//NONSGML v1.0//EN
CALSCALE:GREGORIAN
METHOD:PUBLISH
X-WR-CALNAME:Plaza Arthouse Cinema
X-ORIGINAL-URL:https://plaza-mons.be
X-WR-CALDESC:Events for Plaza Arthouse Cinema
REFRESH-INTERVAL;VALUE=DURATION:PT1H
X-Robots-Tag:noindex
X-PUBLISHED-TTL:PT1H
BEGIN:VTIMEZONE
TZID:Europe/Brussels
BEGIN:DAYLIGHT
TZOFFSETFROM:+0100
TZOFFSETTO:+0200
TZNAME:CEST
DTSTART:20250330T010000
END:DAYLIGHT
BEGIN:STANDARD
TZOFFSETFROM:+0200
TZOFFSETTO:+0100
TZNAME:CET
DTSTART:20251026T010000
END:STANDARD
END:VTIMEZONE
BEGIN:VEVENT
DTSTART;TZID=Europe/Brussels:20251103T150000
DTEND;TZID=Europe/Brussels:20251103T161300
DTSTAMP:20260426T050455
CREATED:20251001T122149Z
LAST-MODIFIED:20251117T000046Z
UID:97917-1762182000-1762186380@plaza-mons.be
SUMMARY:L’intérêt d’Adam
DESCRIPTION:Die my Love\n\n\n\n\n\n			\n				Bande annonce\n			\n		 \n\n\n\n\n\n\n\n\n\n\n\n\n\n\n\n\n\n\n\n\n\n\n\n\n\n\n\n\n\n\n\n\n\n\n\n\n\n\n\n\n\n\n\n\n\n\n\n\n\n\n\n\n\nBande annonce
URL:https://plaza-mons.be/film/linteret-dadam/2025-11-03
CATEGORIES:Drame
ATTACH;FMTTYPE=image/jpeg:https://plaza-mons.be/wp-content/uploads/2025/10/linteret-dadam-poster.jpg
END:VEVENT
BEGIN:VEVENT
DTSTART;TZID=Europe/Brussels:20251103T150000
DTEND;TZID=Europe/Brussels:20251103T163500
DTSTAMP:20260426T050455
CREATED:20251001T122422Z
LAST-MODIFIED:20251111T000009Z
UID:97963-1762182000-1762187700@plaza-mons.be
SUMMARY:Exit 8
DESCRIPTION:Die my Love\n\n\n\n\n\n			\n				Bande annonce\n			\n		 \n\n\n\n\n\n\n\n\n\n\n\n\n\n\n\n\n\n\n\n\n\n\n\n\n\n\n\n\n\n\n\n\n\n\n\n\n\n\n\n\n\n\n\n\n\n\n\n\n\n\n\n\n\nBande annonce
URL:https://plaza-mons.be/film/exit-8/2025-11-03
CATEGORIES:Drame,Thriller
ATTACH;FMTTYPE=image/webp:https://plaza-mons.be/wp-content/uploads/2025/10/exit-8-posterfr.webp
END:VEVENT
BEGIN:VEVENT
DTSTART;TZID=Europe/Brussels:20251103T150000
DTEND;TZID=Europe/Brussels:20251103T164600
DTSTAMP:20260426T050455
CREATED:20250930T112452Z
LAST-MODIFIED:20251109T000040Z
UID:97903-1762182000-1762188360@plaza-mons.be
SUMMARY:Un simple accident
DESCRIPTION:Die my Love\n\n\n\n\n\n			\n				Bande annonce\n			\n		 \n\n\n\n\n\n\n\n\n\n\n\n\n\n\n\n\n\n\n\n\n\n\n\n\n\n\n\n\n\n\n\n\n\n\n\n\n\n\n\n\n\n\n\n\n\n\n\n\n\n\n\n\n\nBande annonce
URL:https://plaza-mons.be/film/un-simple-accident-2/2025-11-03
CATEGORIES:Drame
ATTACH;FMTTYPE=image/jpeg:https://plaza-mons.be/wp-content/uploads/2025/09/un-simple-accident-poster.jpg
END:VEVENT
BEGIN:VEVENT
DTSTART;TZID=Europe/Brussels:20251103T150000
DTEND;TZID=Europe/Brussels:20251103T170500
DTSTAMP:20260426T050455
CREATED:20250930T111858Z
LAST-MODIFIED:20251103T000007Z
UID:97912-1762182000-1762189500@plaza-mons.be
SUMMARY:Elephant Man
DESCRIPTION:Die my Love
URL:https://plaza-mons.be/film/elephant-man/2025-11-03
CATEGORIES:Horreur
ATTACH;FMTTYPE=image/jpeg:https://plaza-mons.be/wp-content/uploads/2025/09/elephant-man-poster-1.jpg
END:VEVENT
BEGIN:VEVENT
DTSTART;TZID=Europe/Brussels:20251103T171500
DTEND;TZID=Europe/Brussels:20251103T191500
DTSTAMP:20260426T050455
CREATED:20251002T135919Z
LAST-MODIFIED:20251124T000210Z
UID:97973-1762190100-1762197300@plaza-mons.be
SUMMARY:Springsteen : Deliver Me From Nowhere
DESCRIPTION:Die my Love\n\n\n\n\n\n			\n				Bande annonce\n			\n		 \n\n\n\n\n\n\n\n\n\n\n\n\n\n\n\n\n\n\n\n\n\n\n\n\n\n\n\n\n\n\n\n\n\n\n\n\n\n\n\n\n\n\n\n\n\n\n\n\n\n\n\n\n\nBande annonce
URL:https://plaza-mons.be/film/springsteen-deliver-me-from-nowhere/2025-11-03
CATEGORIES:Biopic
ATTACH;FMTTYPE=image/jpeg:https://plaza-mons.be/wp-content/uploads/2025/10/springsteen-deliver-me-from-nowhere-poster.jpg
END:VEVENT
BEGIN:VEVENT
DTSTART;TZID=Europe/Brussels:20251103T174500
DTEND;TZID=Europe/Brussels:20251103T201300
DTSTAMP:20260426T050455
CREATED:20251001T121939Z
LAST-MODIFIED:20251109T000451Z
UID:97936-1762191900-1762200780@plaza-mons.be
SUMMARY:The End
DESCRIPTION:Die my Love\n\n\n\n\n\n			\n				Bande annonce\n			\n		 \n\n\n\n\n\n\n\n\n\n\n\n\n\n\n\n\n\n\n\n\n\n\n\n\n\n\n\n\n\n\n\n\n\n\n\n\n\n\n\n\n\n\n\n\n\n\n\n\n\n\n\n\n\nBande annonce
URL:https://plaza-mons.be/film/the-end/2025-11-03
CATEGORIES:Drame,Musical
ATTACH;FMTTYPE=image/jpeg:https://plaza-mons.be/wp-content/uploads/2025/10/the-end-poster.jpg
END:VEVENT
BEGIN:VEVENT
DTSTART;TZID=Europe/Brussels:20251103T180000
DTEND;TZID=Europe/Brussels:20251103T194600
DTSTAMP:20260426T050455
CREATED:20251001T121317Z
LAST-MODIFIED:20251111T000112Z
UID:97944-1762192800-1762199160@plaza-mons.be
SUMMARY:Nouvelle vague
DESCRIPTION:Die my Love\n\n\n\n\n\n			\n				Bande annonce\n			\n		 \n\n\n\n\n\n\n\n\n\n\n\n\n\n\n\n\n\n\n\n\n\n\n\n\n\n\n\n\n\n\n\n\n\n\n\n\n\n\n\n\n\n\n\n\n\n\n\n\n\n\n\n\n\nBande annonce
URL:https://plaza-mons.be/film/nouvelle-vague/2025-11-03
CATEGORIES:Biopic,Comedie,Drame
ATTACH;FMTTYPE=image/jpeg:https://plaza-mons.be/wp-content/uploads/2025/10/nouvelle-vague-poster.jpg
END:VEVENT
BEGIN:VEVENT
DTSTART;TZID=Europe/Brussels:20251103T180000
DTEND;TZID=Europe/Brussels:20251103T200000
DTSTAMP:20260426T050455
CREATED:20251027T151756Z
LAST-MODIFIED:20251202T000009Z
UID:98023-1762192800-1762200000@plaza-mons.be
SUMMARY:L'étranger
DESCRIPTION:Die my Love\n\n\n\n\n\n			\n				Bande annonce\n			\n		 \n\n\n\n\n\n\n\n\n\n\n\n\n\n\n\n\n\n\n\n\n\n\n\n\n\n\n\n\n\n\n\n\n\n\n\n\n\n\n\n\n\n\n\n\n\n\n\n\n\n\n\n\n\nBande annonce
URL:https://plaza-mons.be/film/letranger/2025-11-03
ATTACH;FMTTYPE=image/jpeg:https://plaza-mons.be/wp-content/uploads/2025/10/letranger-poster.jpg
END:VEVENT
BEGIN:VEVENT
DTSTART;TZID=Europe/Brussels:20251103T194500
DTEND;TZID=Europe/Brussels:20251103T222700
DTSTAMP:20260426T050455
CREATED:20251001T121715Z
LAST-MODIFIED:20251116T000124Z
UID:97927-1762199100-1762208820@plaza-mons.be
SUMMARY:One Battle After Another (Une Bataille après l’autre)
DESCRIPTION:Die my Love\n\n\n\n\n\n			\n				Bande annonce\n			\n		 \n\n\n\n\n\n\n\n\n\n\n\n\n\n\n\n\n\n\n\n\n\n\n\n\n\n\n\n\n\n\n\n\n\n\n\n\n\n\n\n\n\n\n\n\n\n\n\n\n\n\n\n\n\nBande annonce
URL:https://plaza-mons.be/film/one-battle-after-another-une-bataille-apres-lautre/2025-11-03
CATEGORIES:Action,Drame,Thriller
ATTACH;FMTTYPE=image/jpeg:https://plaza-mons.be/wp-content/uploads/2025/10/be-french-obaa-montage-vert-main-2764x4096-intl-large.jpg
END:VEVENT
BEGIN:VEVENT
DTSTART;TZID=Europe/Brussels:20251103T203000
DTEND;TZID=Europe/Brussels:20251103T221700
DTSTAMP:20260426T050455
CREATED:20251001T123008Z
LAST-MODIFIED:20251125T000036Z
UID:97996-1762201800-1762208220@plaza-mons.be
SUMMARY:La petite dernière
DESCRIPTION:Die my Love\n\n\n\n\n\n			\n				Bande annonce\n			\n		 \n\n\n\n\n\n\n\n\n\n\n\n\n\n\n\n\n\n\n\n\n\n\n\n\n\n\n\n\n\n\n\n\n\n\n\n\n\n\n\n\n\n\n\n\n\n\n\n\n\n\n\n\n\nBande annonce
URL:https://plaza-mons.be/film/la-petite-derniere/2025-11-03
CATEGORIES:Drame
ATTACH;FMTTYPE=image/jpeg:https://plaza-mons.be/wp-content/uploads/2025/10/la-petite-derniere-poster.jpg
END:VEVENT
BEGIN:VEVENT
DTSTART;TZID=Europe/Brussels:20251103T203000
DTEND;TZID=Europe/Brussels:20251103T223000
DTSTAMP:20260426T050455
CREATED:20251027T151632Z
LAST-MODIFIED:20251202T000018Z
UID:98036-1762201800-1762209000@plaza-mons.be
SUMMARY:Bugonia
DESCRIPTION:Die my Love\n\n\n\n\n\n			\n				Bande annonce\n			\n		 \n\n\n\n\n\n\n\n\n\n\n\n\n\n\n\n\n\n\n\n\n\n\n\n\n\n\n\n\n\n\n\n\n\n\n\n\n\n\n\n\n\n\n\n\n\n\n\n\n\n\n\n\n\nBande annonce
URL:https://plaza-mons.be/film/bugonia/2025-11-03
ATTACH;FMTTYPE=image/jpeg:https://plaza-mons.be/wp-content/uploads/2025/10/bugonia-poster.jpg
END:VEVENT
BEGIN:VEVENT
DTSTART;TZID=Europe/Brussels:20251103T203000
DTEND;TZID=Europe/Brussels:20251103T224600
DTSTAMP:20260426T050455
CREATED:20251001T122851Z
LAST-MODIFIED:20251118T000218Z
UID:97982-1762201800-1762209960@plaza-mons.be
SUMMARY:The Disappearance of Josef Mengele
DESCRIPTION:Die my Love\n\n\n\n\n\n			\n				Bande annonce\n			\n		 \n\n\n\n\n\n\n\n\n\n\n\n\n\n\n\n\n\n\n\n\n\n\n\n\n\n\n\n\n\n\n\n\n\n\n\n\n\n\n\n\n\n\n\n\n\n\n\n\n\n\n\n\n\nBande annonce
URL:https://plaza-mons.be/film/the-disappearance-of-josef-mengele/2025-11-03
CATEGORIES:Biopic
ATTACH;FMTTYPE=image/jpeg:https://plaza-mons.be/wp-content/uploads/2025/10/the-disappearance-of-josef-mengele-posterfr.jpg
END:VEVENT
BEGIN:VEVENT
DTSTART;TZID=Europe/Brussels:20251104T150000
DTEND;TZID=Europe/Brussels:20251104T163000
DTSTAMP:20260426T050455
CREATED:20250930T113200Z
LAST-MODIFIED:20251104T000012Z
UID:97866-1762268400-1762273800@plaza-mons.be
SUMMARY:La pleine conscience  du bonheur\, un voyage  avec le Dalaï-Lama  (Wisdom of Happiness)
DESCRIPTION:Die my Love\n\n\n\n\n\n			\n				Bande annonce\n			\n		 \n\n\n\n\n\n\n\n\n\n\n\n\n\n\n\n\n\n\n\n\n\n\n\n\n\n\n\n\n\n\n\n\n\n\n\n\n\n\n\n\n\n\n\n\n\n\n\n\n\n\n\n\n\nBande annonce
URL:https://plaza-mons.be/film/la-pleine-conscience-du-bonheur-un-voyage-avec-le-dalai-lama-wisdom-of-happiness/2025-11-04
ATTACH;FMTTYPE=image/jpeg:https://plaza-mons.be/wp-content/uploads/2025/09/la-pleine-conscience-du-bonheur-poster.jpg
END:VEVENT
BEGIN:VEVENT
DTSTART;TZID=Europe/Brussels:20251104T150000
DTEND;TZID=Europe/Brussels:20251104T164600
DTSTAMP:20260426T050455
CREATED:20250930T112452Z
LAST-MODIFIED:20251109T000041Z
UID:97904-1762268400-1762274760@plaza-mons.be
SUMMARY:Un simple accident
DESCRIPTION:Die my Love\n\n\n\n\n\n			\n				Bande annonce\n			\n		 \n\n\n\n\n\n\n\n\n\n\n\n\n\n\n\n\n\n\n\n\n\n\n\n\n\n\n\n\n\n\n\n\n\n\n\n\n\n\n\n\n\n\n\n\n\n\n\n\n\n\n\n\n\nBande annonce
URL:https://plaza-mons.be/film/un-simple-accident-2/2025-11-04
CATEGORIES:Drame
ATTACH;FMTTYPE=image/jpeg:https://plaza-mons.be/wp-content/uploads/2025/09/un-simple-accident-poster.jpg
END:VEVENT
BEGIN:VEVENT
DTSTART;TZID=Europe/Brussels:20251104T150000
DTEND;TZID=Europe/Brussels:20251104T170200
DTSTAMP:20260426T050455
CREATED:20250930T112733Z
LAST-MODIFIED:20251104T000008Z
UID:97899-1762268400-1762275720@plaza-mons.be
SUMMARY:La Grande Ambizione
DESCRIPTION:Die my Love\n\n\n\n\n\n			\n				Bande annonce\n			\n		 \n\n\n\n\n\n\n\n\n\n\n\n\n\n\n\n\n\n\n\n\n\n\n\n\n\n\n\n\n\n\n\n\n\n\n\n\n\n\n\n\n\n\n\n\n\n\n\n\n\n\n\n\n\nBande annonce
URL:https://plaza-mons.be/film/la-grande-ambizione/2025-11-04
CATEGORIES:Biopic
ATTACH;FMTTYPE=image/jpeg:https://plaza-mons.be/wp-content/uploads/2025/09/la-grande-ambizione-poster-be-def-original.jpg
END:VEVENT
BEGIN:VEVENT
DTSTART;TZID=Europe/Brussels:20251104T150000
DTEND;TZID=Europe/Brussels:20251104T172800
DTSTAMP:20260426T050455
CREATED:20251001T121939Z
LAST-MODIFIED:20251109T000451Z
UID:97937-1762268400-1762277280@plaza-mons.be
SUMMARY:The End
DESCRIPTION:Die my Love\n\n\n\n\n\n			\n				Bande annonce\n			\n		 \n\n\n\n\n\n\n\n\n\n\n\n\n\n\n\n\n\n\n\n\n\n\n\n\n\n\n\n\n\n\n\n\n\n\n\n\n\n\n\n\n\n\n\n\n\n\n\n\n\n\n\n\n\nBande annonce
URL:https://plaza-mons.be/film/the-end/2025-11-04
CATEGORIES:Drame,Musical
ATTACH;FMTTYPE=image/jpeg:https://plaza-mons.be/wp-content/uploads/2025/10/the-end-poster.jpg
END:VEVENT
BEGIN:VEVENT
DTSTART;TZID=Europe/Brussels:20251104T171500
DTEND;TZID=Europe/Brussels:20251104T195700
DTSTAMP:20260426T050455
CREATED:20251001T121715Z
LAST-MODIFIED:20251116T000124Z
UID:97928-1762276500-1762286220@plaza-mons.be
SUMMARY:One Battle After Another (Une Bataille après l’autre)
DESCRIPTION:Die my Love\n\n\n\n\n\n			\n				Bande annonce\n			\n		 \n\n\n\n\n\n\n\n\n\n\n\n\n\n\n\n\n\n\n\n\n\n\n\n\n\n\n\n\n\n\n\n\n\n\n\n\n\n\n\n\n\n\n\n\n\n\n\n\n\n\n\n\n\nBande annonce
URL:https://plaza-mons.be/film/one-battle-after-another-une-bataille-apres-lautre/2025-11-04
CATEGORIES:Action,Drame,Thriller
ATTACH;FMTTYPE=image/jpeg:https://plaza-mons.be/wp-content/uploads/2025/10/be-french-obaa-montage-vert-main-2764x4096-intl-large.jpg
END:VEVENT
BEGIN:VEVENT
DTSTART;TZID=Europe/Brussels:20251104T173000
DTEND;TZID=Europe/Brussels:20251104T193000
DTSTAMP:20260426T050456
CREATED:20251027T151756Z
LAST-MODIFIED:20251202T000009Z
UID:98024-1762277400-1762284600@plaza-mons.be
SUMMARY:L'étranger
DESCRIPTION:Die my Love\n\n\n\n\n\n			\n				Bande annonce\n			\n		 \n\n\n\n\n\n\n\n\n\n\n\n\n\n\n\n\n\n\n\n\n\n\n\n\n\n\n\n\n\n\n\n\n\n\n\n\n\n\n\n\n\n\n\n\n\n\n\n\n\n\n\n\n\nBande annonce
URL:https://plaza-mons.be/film/letranger/2025-11-04
ATTACH;FMTTYPE=image/jpeg:https://plaza-mons.be/wp-content/uploads/2025/10/letranger-poster.jpg
END:VEVENT
BEGIN:VEVENT
DTSTART;TZID=Europe/Brussels:20251104T180000
DTEND;TZID=Europe/Brussels:20251104T194600
DTSTAMP:20260426T050456
CREATED:20251001T121317Z
LAST-MODIFIED:20251111T000115Z
UID:97945-1762279200-1762285560@plaza-mons.be
SUMMARY:Nouvelle vague
DESCRIPTION:Die my Love\n\n\n\n\n\n			\n				Bande annonce\n			\n		 \n\n\n\n\n\n\n\n\n\n\n\n\n\n\n\n\n\n\n\n\n\n\n\n\n\n\n\n\n\n\n\n\n\n\n\n\n\n\n\n\n\n\n\n\n\n\n\n\n\n\n\n\n\nBande annonce
URL:https://plaza-mons.be/film/nouvelle-vague/2025-11-04
CATEGORIES:Biopic,Comedie,Drame
ATTACH;FMTTYPE=image/jpeg:https://plaza-mons.be/wp-content/uploads/2025/10/nouvelle-vague-poster.jpg
END:VEVENT
BEGIN:VEVENT
DTSTART;TZID=Europe/Brussels:20251104T180000
DTEND;TZID=Europe/Brussels:20251104T194700
DTSTAMP:20260426T050456
CREATED:20251001T123008Z
LAST-MODIFIED:20251125T000038Z
UID:97997-1762279200-1762285620@plaza-mons.be
SUMMARY:La petite dernière
DESCRIPTION:Die my Love\n\n\n\n\n\n			\n				Bande annonce\n			\n		 \n\n\n\n\n\n\n\n\n\n\n\n\n\n\n\n\n\n\n\n\n\n\n\n\n\n\n\n\n\n\n\n\n\n\n\n\n\n\n\n\n\n\n\n\n\n\n\n\n\n\n\n\n\nBande annonce
URL:https://plaza-mons.be/film/la-petite-derniere/2025-11-04
CATEGORIES:Drame
ATTACH;FMTTYPE=image/jpeg:https://plaza-mons.be/wp-content/uploads/2025/10/la-petite-derniere-poster.jpg
END:VEVENT
BEGIN:VEVENT
DTSTART;TZID=Europe/Brussels:20251104T200000
DTEND;TZID=Europe/Brussels:20251104T214400
DTSTAMP:20260426T050456
CREATED:20251014T143038Z
LAST-MODIFIED:20251104T000442Z
UID:97726-1762286400-1762292640@plaza-mons.be
SUMMARY:Ponyboi - Ciné Genre.S
DESCRIPTION:Die my Love\n\n\n\n\n\n			\n				Bande annonce\n			\n		 \n\n\n\n\n\n\n\n\n\n\n\n\n\n\n\n\n\n\n\n\n\n\n\n\n\n\n\n\n\n\n\n\n\n\n\n\n\n\n\n\n\n\n\n\n\n\n\n\n\n\n\n\n\nBande annonce
URL:https://plaza-mons.be/film/ponyboi-cine-genre-s/2025-11-04
CATEGORIES:Avant-première,Ciné-Genres,Drame
ATTACH;FMTTYPE=image/jpeg:https://plaza-mons.be/wp-content/uploads/2025/10/ponyboi-poster.jpg
END:VEVENT
BEGIN:VEVENT
DTSTART;TZID=Europe/Brussels:20251104T203000
DTEND;TZID=Europe/Brussels:20251104T223000
DTSTAMP:20260426T050456
CREATED:20251002T135919Z
LAST-MODIFIED:20251124T000210Z
UID:97974-1762288200-1762295400@plaza-mons.be
SUMMARY:Springsteen : Deliver Me From Nowhere
DESCRIPTION:Die my Love\n\n\n\n\n\n			\n				Bande annonce\n			\n		 \n\n\n\n\n\n\n\n\n\n\n\n\n\n\n\n\n\n\n\n\n\n\n\n\n\n\n\n\n\n\n\n\n\n\n\n\n\n\n\n\n\n\n\n\n\n\n\n\n\n\n\n\n\nBande annonce
URL:https://plaza-mons.be/film/springsteen-deliver-me-from-nowhere/2025-11-04
CATEGORIES:Biopic
ATTACH;FMTTYPE=image/jpeg:https://plaza-mons.be/wp-content/uploads/2025/10/springsteen-deliver-me-from-nowhere-poster.jpg
END:VEVENT
BEGIN:VEVENT
DTSTART;TZID=Europe/Brussels:20251104T203000
DTEND;TZID=Europe/Brussels:20251104T223000
DTSTAMP:20260426T050456
CREATED:20251027T151632Z
LAST-MODIFIED:20251202T000018Z
UID:98037-1762288200-1762295400@plaza-mons.be
SUMMARY:Bugonia
DESCRIPTION:Die my Love\n\n\n\n\n\n			\n				Bande annonce\n			\n		 \n\n\n\n\n\n\n\n\n\n\n\n\n\n\n\n\n\n\n\n\n\n\n\n\n\n\n\n\n\n\n\n\n\n\n\n\n\n\n\n\n\n\n\n\n\n\n\n\n\n\n\n\n\nBande annonce
URL:https://plaza-mons.be/film/bugonia/2025-11-04
ATTACH;FMTTYPE=image/jpeg:https://plaza-mons.be/wp-content/uploads/2025/10/bugonia-poster.jpg
END:VEVENT
BEGIN:VEVENT
DTSTART;TZID=Europe/Brussels:20251104T203000
DTEND;TZID=Europe/Brussels:20251104T224600
DTSTAMP:20260426T050456
CREATED:20251001T122851Z
LAST-MODIFIED:20251118T000218Z
UID:97983-1762288200-1762296360@plaza-mons.be
SUMMARY:The Disappearance of Josef Mengele
DESCRIPTION:Die my Love\n\n\n\n\n\n			\n				Bande annonce\n			\n		 \n\n\n\n\n\n\n\n\n\n\n\n\n\n\n\n\n\n\n\n\n\n\n\n\n\n\n\n\n\n\n\n\n\n\n\n\n\n\n\n\n\n\n\n\n\n\n\n\n\n\n\n\n\nBande annonce
URL:https://plaza-mons.be/film/the-disappearance-of-josef-mengele/2025-11-04
CATEGORIES:Biopic
ATTACH;FMTTYPE=image/jpeg:https://plaza-mons.be/wp-content/uploads/2025/10/the-disappearance-of-josef-mengele-posterfr.jpg
END:VEVENT
BEGIN:VEVENT
DTSTART;TZID=Europe/Brussels:20251105T140000
DTEND;TZID=Europe/Brussels:20251105T144200
DTSTAMP:20260426T050456
CREATED:20250930T114147Z
LAST-MODIFIED:20251123T000027Z
UID:97892-1762351200-1762353720@plaza-mons.be
SUMMARY:Timioche
DESCRIPTION:Die my Love\n\n\n\n\n\n			\n				Bande annonce\n			\n		 \n\n\n\n\n\n\n\n\n\n\n\n\n\n\n\n\n\n\n\n\n\n\n\n\n\n\n\n\n\n\n\n\n\n\n\n\n\n\n\n\n\n\n\n\n\n\n\n\n\n\n\n\n\nBande annonce
URL:https://plaza-mons.be/film/timioche/2025-11-05
CATEGORIES:Animation,Jeune public
ATTACH;FMTTYPE=image/png:https://plaza-mons.be/wp-content/uploads/2025/09/timioche-poster.png
END:VEVENT
BEGIN:VEVENT
DTSTART;TZID=Europe/Brussels:20251105T143000
DTEND;TZID=Europe/Brussels:20251105T161600
DTSTAMP:20260426T050456
CREATED:20250930T112452Z
LAST-MODIFIED:20251109T000041Z
UID:97905-1762353000-1762359360@plaza-mons.be
SUMMARY:Un simple accident
DESCRIPTION:Die my Love\n\n\n\n\n\n			\n				Bande annonce\n			\n		 \n\n\n\n\n\n\n\n\n\n\n\n\n\n\n\n\n\n\n\n\n\n\n\n\n\n\n\n\n\n\n\n\n\n\n\n\n\n\n\n\n\n\n\n\n\n\n\n\n\n\n\n\n\nBande annonce
URL:https://plaza-mons.be/film/un-simple-accident-2/2025-11-05
CATEGORIES:Drame
ATTACH;FMTTYPE=image/jpeg:https://plaza-mons.be/wp-content/uploads/2025/09/un-simple-accident-poster.jpg
END:VEVENT
BEGIN:VEVENT
DTSTART;TZID=Europe/Brussels:20251105T150000
DTEND;TZID=Europe/Brussels:20251105T162800
DTSTAMP:20260426T050456
CREATED:20251027T151438Z
LAST-MODIFIED:20251222T000227Z
UID:98014-1762354800-1762360080@plaza-mons.be
SUMMARY:Arco
DESCRIPTION:Die my Love\n\n\n\n\n\n			\n				Bande annonce\n			\n		 \n\n\n\n\n\n\n\n\n\n\n\n\n\n\n\n\n\n\n\n\n\n\n\n\n\n\n\n\n\n\n\n\n\n\n\n\n\n\n\n\n\n\n\n\n\n\n\n\n\n\n\n\n\nBande annonce\n\n\n\n\n\n\n\nhttps://www.youtube.com/watch?v=sob8PB4DddM&list=PL-G2_HG1UM8j8ZeqI-EZ0bvEItkGDcmpz
URL:https://plaza-mons.be/film/arco/2025-11-05
ATTACH;FMTTYPE=image/jpeg:https://plaza-mons.be/wp-content/uploads/2025/10/arco-poster.jpg
END:VEVENT
BEGIN:VEVENT
DTSTART;TZID=Europe/Brussels:20251105T150000
DTEND;TZID=Europe/Brussels:20251105T174200
DTSTAMP:20260426T050456
CREATED:20251001T121715Z
LAST-MODIFIED:20251116T000124Z
UID:97929-1762354800-1762364520@plaza-mons.be
SUMMARY:One Battle After Another (Une Bataille après l’autre)
DESCRIPTION:Die my Love\n\n\n\n\n\n			\n				Bande annonce\n			\n		 \n\n\n\n\n\n\n\n\n\n\n\n\n\n\n\n\n\n\n\n\n\n\n\n\n\n\n\n\n\n\n\n\n\n\n\n\n\n\n\n\n\n\n\n\n\n\n\n\n\n\n\n\n\nBande annonce
URL:https://plaza-mons.be/film/one-battle-after-another-une-bataille-apres-lautre/2025-11-05
CATEGORIES:Action,Drame,Thriller
ATTACH;FMTTYPE=image/jpeg:https://plaza-mons.be/wp-content/uploads/2025/10/be-french-obaa-montage-vert-main-2764x4096-intl-large.jpg
END:VEVENT
BEGIN:VEVENT
DTSTART;TZID=Europe/Brussels:20251105T151500
DTEND;TZID=Europe/Brussels:20251105T173500
DTSTAMP:20260426T050456
CREATED:20251028T152354Z
LAST-MODIFIED:20251202T000004Z
UID:98045-1762355700-1762364100@plaza-mons.be
SUMMARY:Dune
DESCRIPTION:Die my Love
URL:https://plaza-mons.be/film/dune/2025-11-05
ATTACH;FMTTYPE=image/jpeg:https://plaza-mons.be/wp-content/uploads/2025/10/dune-poster.jpeg
END:VEVENT
BEGIN:VEVENT
DTSTART;TZID=Europe/Brussels:20251105T170000
DTEND;TZID=Europe/Brussels:20251105T181300
DTSTAMP:20260426T050456
CREATED:20251001T122149Z
LAST-MODIFIED:20251117T000048Z
UID:97918-1762362000-1762366380@plaza-mons.be
SUMMARY:L’intérêt d’Adam
DESCRIPTION:Die my Love\n\n\n\n\n\n			\n				Bande annonce\n			\n		 \n\n\n\n\n\n\n\n\n\n\n\n\n\n\n\n\n\n\n\n\n\n\n\n\n\n\n\n\n\n\n\n\n\n\n\n\n\n\n\n\n\n\n\n\n\n\n\n\n\n\n\n\n\nBande annonce
URL:https://plaza-mons.be/film/linteret-dadam/2025-11-05
CATEGORIES:Drame
ATTACH;FMTTYPE=image/jpeg:https://plaza-mons.be/wp-content/uploads/2025/10/linteret-dadam-poster.jpg
END:VEVENT
END:VCALENDAR