BEGIN:VCALENDAR
VERSION:2.0
PRODID:-//Plaza Arthouse Cinema - ECPv5.14.1//NONSGML v1.0//EN
CALSCALE:GREGORIAN
METHOD:PUBLISH
X-WR-CALNAME:Plaza Arthouse Cinema
X-ORIGINAL-URL:https://plaza-mons.be
X-WR-CALDESC:Events for Plaza Arthouse Cinema
REFRESH-INTERVAL;VALUE=DURATION:PT1H
X-Robots-Tag:noindex
X-PUBLISHED-TTL:PT1H
BEGIN:VTIMEZONE
TZID:Europe/Brussels
BEGIN:DAYLIGHT
TZOFFSETFROM:+0100
TZOFFSETTO:+0200
TZNAME:CEST
DTSTART:20250330T010000
END:DAYLIGHT
BEGIN:STANDARD
TZOFFSETFROM:+0200
TZOFFSETTO:+0100
TZNAME:CET
DTSTART:20251026T010000
END:STANDARD
END:VTIMEZONE
BEGIN:VEVENT
DTSTART;TZID=Europe/Brussels:20250519T150000
DTEND;TZID=Europe/Brussels:20250519T160000
DTSTAMP:20260420T094158
CREATED:20250331T143919Z
LAST-MODIFIED:20250519T000004Z
UID:87368-1747666800-1747670400@plaza-mons.be
SUMMARY:Black Dog
DESCRIPTION:Pop & Clap ciné-club : Kill Bill: The Whole Bloody Affair\n\n\n\n\n\n			\n				Bande annonce\n			\n		 \n\n\n\n\n\n\n\n\n\n\n\n\n\n\n\n\n\n\n\n\n\n\n\n\n\n\n\n\n\n\n\n\n\n\n\n\n\n\n\n\n\n\n\n\n\n\n\n\n\n\n\n\n\nBande annonce
URL:https://plaza-mons.be/film/black-dog/2025-05-19
CATEGORIES:Drame
ATTACH;FMTTYPE=image/jpeg:https://plaza-mons.be/wp-content/uploads/2025/03/black-dog-poster.jpg
END:VEVENT
BEGIN:VEVENT
DTSTART;TZID=Europe/Brussels:20250519T150000
DTEND;TZID=Europe/Brussels:20250519T162800
DTSTAMP:20260420T094158
CREATED:20250425T125407Z
LAST-MODIFIED:20250526T000318Z
UID:87409-1747666800-1747672080@plaza-mons.be
SUMMARY:Les damnés
DESCRIPTION:Pop & Clap ciné-club : Kill Bill: The Whole Bloody Affair\n\n\n\n\n\n			\n				Bande annonce\n			\n		 \n\n\n\n\n\n\n\n\n\n\n\n\n\n\n\n\n\n\n\n\n\n\n\n\n\n\n\n\n\n\n\n\n\n\n\n\n\n\n\n\n\n\n\n\n\n\n\n\n\n\n\n\n\nBande annonce
URL:https://plaza-mons.be/film/les-damnes/2025-05-19
CATEGORIES:Drame,Guerre
ATTACH;FMTTYPE=image/jpeg:https://plaza-mons.be/wp-content/uploads/2025/04/les-damnes-poster-be-original.jpg
END:VEVENT
BEGIN:VEVENT
DTSTART;TZID=Europe/Brussels:20250519T150000
DTEND;TZID=Europe/Brussels:20250519T163100
DTSTAMP:20260420T094158
CREATED:20250513T094138Z
LAST-MODIFIED:20250610T000348Z
UID:87429-1747666800-1747672260@plaza-mons.be
SUMMARY:Lads
DESCRIPTION:Pop & Clap ciné-club : Kill Bill: The Whole Bloody Affair\n\n\n\n\n\n			\n				Bande annonce\n			\n		 \n\n\n\n\n\n\n\n\n\n\n\n\n\n\n\n\n\n\n\n\n\n\n\n\n\n\n\n\n\n\n\n\n\n\n\n\n\n\n\n\n\n\n\n\n\n\n\n\n\n\n\n\n\nBande annonce
URL:https://plaza-mons.be/film/lads/2025-05-19
CATEGORIES:Drame
ATTACH;FMTTYPE=image/jpeg:https://plaza-mons.be/wp-content/uploads/2025/05/lads-120x160-hd-original.jpg
END:VEVENT
BEGIN:VEVENT
DTSTART;TZID=Europe/Brussels:20250519T160000
DTEND;TZID=Europe/Brussels:20250519T173400
DTSTAMP:20260420T094158
CREATED:20250331T142948Z
LAST-MODIFIED:20250519T000045Z
UID:86567-1747670400-1747676040@plaza-mons.be
SUMMARY:Mexico 86
DESCRIPTION:Pop & Clap ciné-club : Kill Bill: The Whole Bloody Affair\n\n\n\n\n\n			\n				Bande annonce\n			\n		 \n\n\n\n\n\n\n\n\n\n\n\n\n\n\n\n\n\n\n\n\n\n\n\n\n\n\n\n\n\n\n\n\n\n\n\n\n\n\n\n\n\n\n\n\n\n\n\n\n\n\n\n\n\nBande annonce
URL:https://plaza-mons.be/film/mexico-86/2025-05-19
CATEGORIES:Drame
ATTACH;FMTTYPE=image/jpeg:https://plaza-mons.be/wp-content/uploads/2025/03/medium-affiche-mexico-86-1743065828311-2.jpg
END:VEVENT
BEGIN:VEVENT
DTSTART;TZID=Europe/Brussels:20250519T180000
DTEND;TZID=Europe/Brussels:20250519T193700
DTSTAMP:20260420T094158
CREATED:20250425T095538Z
LAST-MODIFIED:20250519T000048Z
UID:87378-1747677600-1747683420@plaza-mons.be
SUMMARY:Deux soeurs
DESCRIPTION:Pop & Clap ciné-club : Kill Bill: The Whole Bloody Affair\n\n\n\n\n\n			\n				Bande annonce\n			\n		 \n\n\n\n\n\n\n\n\n\n\n\n\n\n\n\n\n\n\n\n\n\n\n\n\n\n\n\n\n\n\n\n\n\n\n\n\n\n\n\n\n\n\n\n\n\n\n\n\n\n\n\n\n\nBande annonce
URL:https://plaza-mons.be/film/deux-soeurs/2025-05-19
CATEGORIES:Drame
ATTACH;FMTTYPE=image/jpeg:https://plaza-mons.be/wp-content/uploads/2025/04/deux-soeurs-poster.jpg
END:VEVENT
BEGIN:VEVENT
DTSTART;TZID=Europe/Brussels:20250519T180000
DTEND;TZID=Europe/Brussels:20250519T194300
DTSTAMP:20260420T094158
CREATED:20250331T144108Z
LAST-MODIFIED:20250519T000129Z
UID:87372-1747677600-1747683780@plaza-mons.be
SUMMARY:Le mélange des genres
DESCRIPTION:Pop & Clap ciné-club : Kill Bill: The Whole Bloody Affair\n\n\n\n\n\n			\n				Bande annonce\n			\n		 \n\n\n\n\n\n\n\n\n\n\n\n\n\n\n\n\n\n\n\n\n\n\n\n\n\n\n\n\n\n\n\n\n\n\n\n\n\n\n\n\n\n\n\n\n\n\n\n\n\n\n\n\n\nBande annonce
URL:https://plaza-mons.be/film/le-melange-des-genres/2025-05-19
CATEGORIES:Comédie dramatique
ATTACH;FMTTYPE=image/jpeg:https://plaza-mons.be/wp-content/uploads/2025/03/le-melange-des-genres-poster.jpg
END:VEVENT
BEGIN:VEVENT
DTSTART;TZID=Europe/Brussels:20250519T180000
DTEND;TZID=Europe/Brussels:20250519T194300
DTSTAMP:20260420T094158
CREATED:20250513T095210Z
LAST-MODIFIED:20250610T001021Z
UID:87469-1747677600-1747683780@plaza-mons.be
SUMMARY:The Surfer
DESCRIPTION:Pop & Clap ciné-club : Kill Bill: The Whole Bloody Affair\n\n\n\n\n\n			\n				Bande annonce\n			\n		 \n\n\n\n\n\n\n\n\n\n\n\n\n\n\n\n\n\n\n\n\n\n\n\n\n\n\n\n\n\n\n\n\n\n\n\n\n\n\n\n\n\n\n\n\n\n\n\n\n\n\n\n\n\nBande annonce
URL:https://plaza-mons.be/film/the-surfer/2025-05-19
CATEGORIES:Drame
ATTACH;FMTTYPE=image/jpeg:https://plaza-mons.be/wp-content/uploads/2025/05/the-surfer-rgb-m-original.jpg
END:VEVENT
BEGIN:VEVENT
DTSTART;TZID=Europe/Brussels:20250519T180000
DTEND;TZID=Europe/Brussels:20250519T194300
DTSTAMP:20260420T094158
CREATED:20250513T095530Z
LAST-MODIFIED:20250610T123744Z
UID:87490-1747677600-1747683780@plaza-mons.be
SUMMARY:Oxana
DESCRIPTION:Pop & Clap ciné-club : Kill Bill: The Whole Bloody Affair\n\n\n\n\n\n			\n				Bande annonce\n			\n		 \n\n\n\n\n\n\n\n\n\n\n\n\n\n\n\n\n\n\n\n\n\n\n\n\n\n\n\n\n\n\n\n\n\n\n\n\n\n\n\n\n\n\n\n\n\n\n\n\n\n\n\n\n\nBande annonce
URL:https://plaza-mons.be/film/oxana/2025-05-19
CATEGORIES:Biopic
ATTACH;FMTTYPE=image/jpeg:https://plaza-mons.be/wp-content/uploads/2025/04/oxana-poster-1.jpg
END:VEVENT
BEGIN:VEVENT
DTSTART;TZID=Europe/Brussels:20250519T203000
DTEND;TZID=Europe/Brussels:20250519T215700
DTSTAMP:20260420T094158
CREATED:20250425T100210Z
LAST-MODIFIED:20250526T000122Z
UID:86711-1747686600-1747691820@plaza-mons.be
SUMMARY:Reflet dans un diamant  mort
DESCRIPTION:Pop & Clap ciné-club : Kill Bill: The Whole Bloody Affair\n\n\n\n\n\n			\n				Bande annonce\n			\n		 \n\n\n\n\n\n\n\n\n\n\n\n\n\n\n\n\n\n\n\n\n\n\n\n\n\n\n\n\n\n\n\n\n\n\n\n\n\n\n\n\n\n\n\n\n\n\n\n\n\n\n\n\n\nBande annonce
URL:https://plaza-mons.be/film/86696/2025-05-19
CATEGORIES:Action
ATTACH;FMTTYPE=image/jpeg:https://plaza-mons.be/wp-content/uploads/2025/03/reflet-dans-un-diamant-mort-poster.jpg
END:VEVENT
BEGIN:VEVENT
DTSTART;TZID=Europe/Brussels:20250519T203000
DTEND;TZID=Europe/Brussels:20250519T220500
DTSTAMP:20260420T094158
CREATED:20250425T095742Z
LAST-MODIFIED:20250526T000419Z
UID:87237-1747686600-1747692300@plaza-mons.be
SUMMARY:Warfare
DESCRIPTION:Pop & Clap ciné-club : Kill Bill: The Whole Bloody Affair\n\n\n\n\n\n			\n				Bande annonce\n			\n		 \n\n\n\n\n\n\n\n\n\n\n\n\n\n\n\n\n\n\n\n\n\n\n\n\n\n\n\n\n\n\n\n\n\n\n\n\n\n\n\n\n\n\n\n\n\n\n\n\n\n\n\n\n\nBande annonce
URL:https://plaza-mons.be/film/warfare/2025-05-19
CATEGORIES:Action,Guerre
ATTACH;FMTTYPE=image/jpeg:https://plaza-mons.be/wp-content/uploads/2025/04/warfare-poster.jpg
END:VEVENT
BEGIN:VEVENT
DTSTART;TZID=Europe/Brussels:20250519T203000
DTEND;TZID=Europe/Brussels:20250519T222300
DTSTAMP:20260420T094158
CREATED:20250513T094744Z
LAST-MODIFIED:20250603T000031Z
UID:87507-1747686600-1747693380@plaza-mons.be
SUMMARY:The Bibi Files
DESCRIPTION:Pop & Clap ciné-club : Kill Bill: The Whole Bloody Affair\n\n\n\n\n\n			\n				Bande annonce\n			\n		 \n\n\n\n\n\n\n\n\n\n\n\n\n\n\n\n\n\n\n\n\n\n\n\n\n\n\n\n\n\n\n\n\n\n\n\n\n\n\n\n\n\n\n\n\n\n\n\n\n\n\n\n\n\nBande annonce
URL:https://plaza-mons.be/film/the-bibi-files/2025-05-19
CATEGORIES:Documentaire
ATTACH;FMTTYPE=image/jpeg:https://plaza-mons.be/wp-content/uploads/2025/05/the-bibi-files-poster.jpg
END:VEVENT
BEGIN:VEVENT
DTSTART;TZID=Europe/Brussels:20250519T203000
DTEND;TZID=Europe/Brussels:20250519T222600
DTSTAMP:20260420T094158
CREATED:20250513T094303Z
LAST-MODIFIED:20250624T000005Z
UID:87449-1747686600-1747693560@plaza-mons.be
SUMMARY:Armand
DESCRIPTION:Pop & Clap ciné-club : Kill Bill: The Whole Bloody Affair\n\n\n\n\n\n			\n				Bande annonce\n			\n		 \n\n\n\n\n\n\n\n\n\n\n\n\n\n\n\n\n\n\n\n\n\n\n\n\n\n\n\n\n\n\n\n\n\n\n\n\n\n\n\n\n\n\n\n\n\n\n\n\n\n\n\n\n\nBande annonce
URL:https://plaza-mons.be/film/armand-2/2025-05-19
CATEGORIES:Drame
ATTACH;FMTTYPE=image/jpeg:https://plaza-mons.be/wp-content/uploads/2025/05/armand-poster.jpg
END:VEVENT
BEGIN:VEVENT
DTSTART;TZID=Europe/Brussels:20250520T140000
DTEND;TZID=Europe/Brussels:20250520T154200
DTSTAMP:20260420T094158
CREATED:20250427T142120Z
LAST-MODIFIED:20250519T000431Z
UID:86744-1747749600-1747755720@plaza-mons.be
SUMMARY:Ciné Pour Tous: Les Musiciens
DESCRIPTION:Pop & Clap ciné-club : Kill Bill: The Whole Bloody Affair\n\n\n\n\n\n			\n				Bande annonce\n			\n		 \n\n\n\n\n\n\n\n\n\n\n\n\n\n\n\n\n\n\n\n\n\n\n\n\n\n\n\n\n\n\n\n\n\n\n\n\n\n\n\n\n\n\n\n\n\n\n\n\n\n\n\n\n\nBande annonce\n\n\n\n\n\n\n\nhttps://www.youtube.com/watch?v=gBd14X8eR4E
URL:https://plaza-mons.be/film/cine-pour-tous-les-musiciens/2025-05-20
CATEGORIES:Avant-première,Comédie dramatique
ATTACH;FMTTYPE=image/jpeg:https://plaza-mons.be/wp-content/uploads/2025/04/les-musiciens-poster.jpg
END:VEVENT
BEGIN:VEVENT
DTSTART;TZID=Europe/Brussels:20250520T150000
DTEND;TZID=Europe/Brussels:20250520T164300
DTSTAMP:20260420T094158
CREATED:20250331T144108Z
LAST-MODIFIED:20250519T000131Z
UID:87373-1747753200-1747759380@plaza-mons.be
SUMMARY:Le mélange des genres
DESCRIPTION:Pop & Clap ciné-club : Kill Bill: The Whole Bloody Affair\n\n\n\n\n\n			\n				Bande annonce\n			\n		 \n\n\n\n\n\n\n\n\n\n\n\n\n\n\n\n\n\n\n\n\n\n\n\n\n\n\n\n\n\n\n\n\n\n\n\n\n\n\n\n\n\n\n\n\n\n\n\n\n\n\n\n\n\nBande annonce
URL:https://plaza-mons.be/film/le-melange-des-genres/2025-05-20
CATEGORIES:Comédie dramatique
ATTACH;FMTTYPE=image/jpeg:https://plaza-mons.be/wp-content/uploads/2025/03/le-melange-des-genres-poster.jpg
END:VEVENT
BEGIN:VEVENT
DTSTART;TZID=Europe/Brussels:20250520T150000
DTEND;TZID=Europe/Brussels:20250520T165400
DTSTAMP:20260420T094158
CREATED:20250425T124011Z
LAST-MODIFIED:20250519T000507Z
UID:87364-1747753200-1747760040@plaza-mons.be
SUMMARY:Septembre sans attendre
DESCRIPTION:Pop & Clap ciné-club : Kill Bill: The Whole Bloody Affair\n\n\n\n\n\n			\n				Bande annonce\n			\n		 \n\n\n\n\n\n\n\n\n\n\n\n\n\n\n\n\n\n\n\n\n\n\n\n\n\n\n\n\n\n\n\n\n\n\n\n\n\n\n\n\n\n\n\n\n\n\n\n\n\n\n\n\n\nBande annonce
URL:https://plaza-mons.be/film/septembre-sans-attendre/2025-05-20
CATEGORIES:Comédie dramatique
ATTACH;FMTTYPE=image/jpeg:https://plaza-mons.be/wp-content/uploads/2025/04/septembre-sans-attendre-poster.jpg
END:VEVENT
BEGIN:VEVENT
DTSTART;TZID=Europe/Brussels:20250520T150000
DTEND;TZID=Europe/Brussels:20250520T170500
DTSTAMP:20260420T094158
CREATED:20250425T125601Z
LAST-MODIFIED:20250526T000440Z
UID:87417-1747753200-1747760700@plaza-mons.be
SUMMARY:Tardes de soledad
DESCRIPTION:Pop & Clap ciné-club : Kill Bill: The Whole Bloody Affair\n\n\n\n\n\n			\n				Bande annonce\n			\n		 \n\n\n\n\n\n\n\n\n\n\n\n\n\n\n\n\n\n\n\n\n\n\n\n\n\n\n\n\n\n\n\n\n\n\n\n\n\n\n\n\n\n\n\n\n\n\n\n\n\n\n\n\n\nBande annonce
URL:https://plaza-mons.be/film/tardes-de-soledad/2025-05-20
CATEGORIES:Documentaire
ATTACH;FMTTYPE=image/jpeg:https://plaza-mons.be/wp-content/uploads/2025/04/tardes-de-soledad-be-web-original.jpg
END:VEVENT
BEGIN:VEVENT
DTSTART;TZID=Europe/Brussels:20250520T180000
DTEND;TZID=Europe/Brussels:20250520T190000
DTSTAMP:20260420T094158
CREATED:20250331T143919Z
LAST-MODIFIED:20250519T000005Z
UID:87369-1747764000-1747767600@plaza-mons.be
SUMMARY:Black Dog
DESCRIPTION:Pop & Clap ciné-club : Kill Bill: The Whole Bloody Affair\n\n\n\n\n\n			\n				Bande annonce\n			\n		 \n\n\n\n\n\n\n\n\n\n\n\n\n\n\n\n\n\n\n\n\n\n\n\n\n\n\n\n\n\n\n\n\n\n\n\n\n\n\n\n\n\n\n\n\n\n\n\n\n\n\n\n\n\nBande annonce
URL:https://plaza-mons.be/film/black-dog/2025-05-20
CATEGORIES:Drame
ATTACH;FMTTYPE=image/jpeg:https://plaza-mons.be/wp-content/uploads/2025/03/black-dog-poster.jpg
END:VEVENT
BEGIN:VEVENT
DTSTART;TZID=Europe/Brussels:20250520T180000
DTEND;TZID=Europe/Brussels:20250520T195000
DTSTAMP:20260420T094158
CREATED:20250425T124902Z
LAST-MODIFIED:20250603T000439Z
UID:86725-1747764000-1747770600@plaza-mons.be
SUMMARY:Joika
DESCRIPTION:Pop & Clap ciné-club : Kill Bill: The Whole Bloody Affair\n\n\n\n\n\n			\n				Bande annonce\n			\n		 \n\n\n\n\n\n\n\n\n\n\n\n\n\n\n\n\n\n\n\n\n\n\n\n\n\n\n\n\n\n\n\n\n\n\n\n\n\n\n\n\n\n\n\n\n\n\n\n\n\n\n\n\n\nBande annonce
URL:https://plaza-mons.be/film/joika/2025-05-20
CATEGORIES:Drame
ATTACH;FMTTYPE=image/jpeg:https://plaza-mons.be/wp-content/uploads/2025/04/joika-poster.jpg
END:VEVENT
BEGIN:VEVENT
DTSTART;TZID=Europe/Brussels:20250520T180000
DTEND;TZID=Europe/Brussels:20250520T195600
DTSTAMP:20260420T094158
CREATED:20250513T094303Z
LAST-MODIFIED:20250624T000005Z
UID:87450-1747764000-1747770960@plaza-mons.be
SUMMARY:Armand
DESCRIPTION:Pop & Clap ciné-club : Kill Bill: The Whole Bloody Affair\n\n\n\n\n\n			\n				Bande annonce\n			\n		 \n\n\n\n\n\n\n\n\n\n\n\n\n\n\n\n\n\n\n\n\n\n\n\n\n\n\n\n\n\n\n\n\n\n\n\n\n\n\n\n\n\n\n\n\n\n\n\n\n\n\n\n\n\nBande annonce
URL:https://plaza-mons.be/film/armand-2/2025-05-20
CATEGORIES:Drame
ATTACH;FMTTYPE=image/jpeg:https://plaza-mons.be/wp-content/uploads/2025/05/armand-poster.jpg
END:VEVENT
BEGIN:VEVENT
DTSTART;TZID=Europe/Brussels:20250520T203000
DTEND;TZID=Europe/Brussels:20250520T221300
DTSTAMP:20260420T094158
CREATED:20250513T095210Z
LAST-MODIFIED:20250610T001021Z
UID:87470-1747773000-1747779180@plaza-mons.be
SUMMARY:The Surfer
DESCRIPTION:Pop & Clap ciné-club : Kill Bill: The Whole Bloody Affair\n\n\n\n\n\n			\n				Bande annonce\n			\n		 \n\n\n\n\n\n\n\n\n\n\n\n\n\n\n\n\n\n\n\n\n\n\n\n\n\n\n\n\n\n\n\n\n\n\n\n\n\n\n\n\n\n\n\n\n\n\n\n\n\n\n\n\n\nBande annonce
URL:https://plaza-mons.be/film/the-surfer/2025-05-20
CATEGORIES:Drame
ATTACH;FMTTYPE=image/jpeg:https://plaza-mons.be/wp-content/uploads/2025/05/the-surfer-rgb-m-original.jpg
END:VEVENT
BEGIN:VEVENT
DTSTART;TZID=Europe/Brussels:20250520T203000
DTEND;TZID=Europe/Brussels:20250520T221300
DTSTAMP:20260420T094158
CREATED:20250513T095530Z
LAST-MODIFIED:20250610T123750Z
UID:87491-1747773000-1747779180@plaza-mons.be
SUMMARY:Oxana
DESCRIPTION:Pop & Clap ciné-club : Kill Bill: The Whole Bloody Affair\n\n\n\n\n\n			\n				Bande annonce\n			\n		 \n\n\n\n\n\n\n\n\n\n\n\n\n\n\n\n\n\n\n\n\n\n\n\n\n\n\n\n\n\n\n\n\n\n\n\n\n\n\n\n\n\n\n\n\n\n\n\n\n\n\n\n\n\nBande annonce
URL:https://plaza-mons.be/film/oxana/2025-05-20
CATEGORIES:Biopic
ATTACH;FMTTYPE=image/jpeg:https://plaza-mons.be/wp-content/uploads/2025/04/oxana-poster-1.jpg
END:VEVENT
BEGIN:VEVENT
DTSTART;TZID=Europe/Brussels:20250520T203000
DTEND;TZID=Europe/Brussels:20250520T222300
DTSTAMP:20260420T094158
CREATED:20250513T094744Z
LAST-MODIFIED:20250603T000032Z
UID:87508-1747773000-1747779780@plaza-mons.be
SUMMARY:The Bibi Files
DESCRIPTION:Pop & Clap ciné-club : Kill Bill: The Whole Bloody Affair\n\n\n\n\n\n			\n				Bande annonce\n			\n		 \n\n\n\n\n\n\n\n\n\n\n\n\n\n\n\n\n\n\n\n\n\n\n\n\n\n\n\n\n\n\n\n\n\n\n\n\n\n\n\n\n\n\n\n\n\n\n\n\n\n\n\n\n\nBande annonce
URL:https://plaza-mons.be/film/the-bibi-files/2025-05-20
CATEGORIES:Documentaire
ATTACH;FMTTYPE=image/jpeg:https://plaza-mons.be/wp-content/uploads/2025/05/the-bibi-files-poster.jpg
END:VEVENT
BEGIN:VEVENT
DTSTART;TZID=Europe/Brussels:20250520T203000
DTEND;TZID=Europe/Brussels:20250520T224100
DTSTAMP:20260420T094158
CREATED:20250425T125048Z
LAST-MODIFIED:20250603T000025Z
UID:87269-1747773000-1747780860@plaza-mons.be
SUMMARY:La chambre de Mariana
DESCRIPTION:Pop & Clap ciné-club : Kill Bill: The Whole Bloody Affair\n\n\n\n\n\n			\n				Bande annonce\n			\n		 \n\n\n\n\n\n\n\n\n\n\n\n\n\n\n\n\n\n\n\n\n\n\n\n\n\n\n\n\n\n\n\n\n\n\n\n\n\n\n\n\n\n\n\n\n\n\n\n\n\n\n\n\n\nBande annonce
URL:https://plaza-mons.be/film/la-chambre-de-mariana-2/2025-05-20
CATEGORIES:Drame
ATTACH;FMTTYPE=image/jpeg:https://plaza-mons.be/wp-content/uploads/2025/04/la-chambre-de-mariana-poster.jpg
END:VEVENT
BEGIN:VEVENT
DTSTART;TZID=Europe/Brussels:20250521T140000
DTEND;TZID=Europe/Brussels:20250521T144100
DTSTAMP:20260420T094158
CREATED:20250513T124027Z
LAST-MODIFIED:20250621T000010Z
UID:87518-1747836000-1747838460@plaza-mons.be
SUMMARY:Au fil de l'eau
DESCRIPTION:Pop & Clap ciné-club : Kill Bill: The Whole Bloody Affair\n\n\n\n\n\n			\n				Bande annonce\n			\n		 \n\n\n\n\n\n\n\n\n\n\n\n\n\n\n\n\n\n\n\n\n\n\n\n\n\n\n\n\n\n\n\n\n\n\n\n\n\n\n\n\n\n\n\n\n\n\n\n\n\n\n\n\n\nBande annonce
URL:https://plaza-mons.be/film/au-fil-de-leau/2025-05-21
CATEGORIES:Animation
ATTACH;FMTTYPE=image/jpeg:https://plaza-mons.be/wp-content/uploads/2025/04/au-fil-de-leau-poster.jpg
END:VEVENT
BEGIN:VEVENT
DTSTART;TZID=Europe/Brussels:20250521T140000
DTEND;TZID=Europe/Brussels:20250521T153100
DTSTAMP:20260420T094158
CREATED:20250513T094138Z
LAST-MODIFIED:20250610T000348Z
UID:87430-1747836000-1747841460@plaza-mons.be
SUMMARY:Lads
DESCRIPTION:Pop & Clap ciné-club : Kill Bill: The Whole Bloody Affair\n\n\n\n\n\n			\n				Bande annonce\n			\n		 \n\n\n\n\n\n\n\n\n\n\n\n\n\n\n\n\n\n\n\n\n\n\n\n\n\n\n\n\n\n\n\n\n\n\n\n\n\n\n\n\n\n\n\n\n\n\n\n\n\n\n\n\n\nBande annonce
URL:https://plaza-mons.be/film/lads/2025-05-21
CATEGORIES:Drame
ATTACH;FMTTYPE=image/jpeg:https://plaza-mons.be/wp-content/uploads/2025/05/lads-120x160-hd-original.jpg
END:VEVENT
BEGIN:VEVENT
DTSTART;TZID=Europe/Brussels:20250521T140000
DTEND;TZID=Europe/Brussels:20250521T153500
DTSTAMP:20260420T094158
CREATED:20250425T095943Z
LAST-MODIFIED:20250525T000016Z
UID:87359-1747836000-1747841700@plaza-mons.be
SUMMARY:Dog Man
DESCRIPTION:Pop & Clap ciné-club : Kill Bill: The Whole Bloody Affair\n\n\n\n\n\n			\n				Bande annonce\n			\n		 \n\n\n\n\n\n\n\n\n\n\n\n\n\n\n\n\n\n\n\n\n\n\n\n\n\n\n\n\n\n\n\n\n\n\n\n\n\n\n\n\n\n\n\n\n\n\n\n\n\n\n\n\n\nBande annonce
URL:https://plaza-mons.be/film/dog-man/2025-05-21
CATEGORIES:Animation
ATTACH;FMTTYPE=image/png:https://plaza-mons.be/wp-content/uploads/2025/03/dog-man-poster.png
END:VEVENT
BEGIN:VEVENT
DTSTART;TZID=Europe/Brussels:20250521T140000
DTEND;TZID=Europe/Brussels:20250521T155000
DTSTAMP:20260420T094158
CREATED:20250425T124902Z
LAST-MODIFIED:20250603T000445Z
UID:87393-1747836000-1747842600@plaza-mons.be
SUMMARY:Joika
DESCRIPTION:Pop & Clap ciné-club : Kill Bill: The Whole Bloody Affair\n\n\n\n\n\n			\n				Bande annonce\n			\n		 \n\n\n\n\n\n\n\n\n\n\n\n\n\n\n\n\n\n\n\n\n\n\n\n\n\n\n\n\n\n\n\n\n\n\n\n\n\n\n\n\n\n\n\n\n\n\n\n\n\n\n\n\n\nBande annonce
URL:https://plaza-mons.be/film/joika/2025-05-21
CATEGORIES:Drame
ATTACH;FMTTYPE=image/jpeg:https://plaza-mons.be/wp-content/uploads/2025/04/joika-poster.jpg
END:VEVENT
BEGIN:VEVENT
DTSTART;TZID=Europe/Brussels:20250521T151500
DTEND;TZID=Europe/Brussels:20250521T172600
DTSTAMP:20260420T094158
CREATED:20250425T125048Z
LAST-MODIFIED:20250603T000025Z
UID:87270-1747840500-1747848360@plaza-mons.be
SUMMARY:La chambre de Mariana
DESCRIPTION:Pop & Clap ciné-club : Kill Bill: The Whole Bloody Affair\n\n\n\n\n\n			\n				Bande annonce\n			\n		 \n\n\n\n\n\n\n\n\n\n\n\n\n\n\n\n\n\n\n\n\n\n\n\n\n\n\n\n\n\n\n\n\n\n\n\n\n\n\n\n\n\n\n\n\n\n\n\n\n\n\n\n\n\nBande annonce
URL:https://plaza-mons.be/film/la-chambre-de-mariana-2/2025-05-21
CATEGORIES:Drame
ATTACH;FMTTYPE=image/jpeg:https://plaza-mons.be/wp-content/uploads/2025/04/la-chambre-de-mariana-poster.jpg
END:VEVENT
BEGIN:VEVENT
DTSTART;TZID=Europe/Brussels:20250521T160000
DTEND;TZID=Europe/Brussels:20250521T173500
DTSTAMP:20260420T094158
CREATED:20250425T095742Z
LAST-MODIFIED:20250526T000421Z
UID:87387-1747843200-1747848900@plaza-mons.be
SUMMARY:Warfare
DESCRIPTION:Pop & Clap ciné-club : Kill Bill: The Whole Bloody Affair\n\n\n\n\n\n			\n				Bande annonce\n			\n		 \n\n\n\n\n\n\n\n\n\n\n\n\n\n\n\n\n\n\n\n\n\n\n\n\n\n\n\n\n\n\n\n\n\n\n\n\n\n\n\n\n\n\n\n\n\n\n\n\n\n\n\n\n\nBande annonce
URL:https://plaza-mons.be/film/warfare/2025-05-21
CATEGORIES:Action,Guerre
ATTACH;FMTTYPE=image/jpeg:https://plaza-mons.be/wp-content/uploads/2025/04/warfare-poster.jpg
END:VEVENT
BEGIN:VEVENT
DTSTART;TZID=Europe/Brussels:20250521T160000
DTEND;TZID=Europe/Brussels:20250521T180400
DTSTAMP:20260420T094158
CREATED:20250425T100629Z
LAST-MODIFIED:20250525T000225Z
UID:87257-1747843200-1747850640@plaza-mons.be
SUMMARY:Le garçon et le héron VF
DESCRIPTION:Pop & Clap ciné-club : Kill Bill: The Whole Bloody Affair\n\n\n\n\n\n			\n				Bande annonce\n			\n		 \n\n\n\n\n\n\n\n\n\n\n\n\n\n\n\n\n\n\n\n\n\n\n\n\n\n\n\n\n\n\n\n\n\n\n\n\n\n\n\n\n\n\n\n\n\n\n\n\n\n\n\n\n\nBande annonce
URL:https://plaza-mons.be/film/le-garcon-et-le-heron-vf-2/2025-05-21
CATEGORIES:Animation
ATTACH;FMTTYPE=image/jpeg:https://plaza-mons.be/wp-content/uploads/2025/04/le-garcon-et-le-heron-poster.jpg
END:VEVENT
END:VCALENDAR