BEGIN:VCALENDAR
VERSION:2.0
PRODID:-//Plaza Arthouse Cinema - ECPv5.14.1//NONSGML v1.0//EN
CALSCALE:GREGORIAN
METHOD:PUBLISH
X-WR-CALNAME:Plaza Arthouse Cinema
X-ORIGINAL-URL:https://plaza-mons.be
X-WR-CALDESC:Events for Plaza Arthouse Cinema
REFRESH-INTERVAL;VALUE=DURATION:PT1H
X-Robots-Tag:noindex
X-PUBLISHED-TTL:PT1H
BEGIN:VTIMEZONE
TZID:Europe/Brussels
BEGIN:DAYLIGHT
TZOFFSETFROM:+0100
TZOFFSETTO:+0200
TZNAME:CEST
DTSTART:20250330T010000
END:DAYLIGHT
BEGIN:STANDARD
TZOFFSETFROM:+0200
TZOFFSETTO:+0100
TZNAME:CET
DTSTART:20251026T010000
END:STANDARD
END:VTIMEZONE
BEGIN:VEVENT
DTSTART;TZID=Europe/Brussels:20250331T150000
DTEND;TZID=Europe/Brussels:20250331T150000
DTSTAMP:20260425T044730
CREATED:20250224T134124Z
LAST-MODIFIED:20250411T000122Z
UID:83457-1743433200-1743433200@plaza-mons.be
SUMMARY:Ma mère\, Dieu et Sylvie Vartan
DESCRIPTION:Super Charlie\n\n\n\n\n\n			\n				Bande annonce\n			\n		 \n\n\n\n\n\n\n\n\n\n\n\n\n\n\n\n\n\n\n\n\n\n\n\n\n\n\n\n\n\n\n\n\n\n\n\n\n\n\n\n\n\n\n\n\n\n\n\n\n\n\n\n\n\nBande annonce
URL:https://plaza-mons.be/film/ma-mere-dieu-et-sylvie-vartan/2025-03-31
CATEGORIES:Drame
ATTACH;FMTTYPE=image/jpeg:https://plaza-mons.be/wp-content/uploads/2025/02/ma-mere-dieu-et-sylvie-vartan-poster.jpg
END:VEVENT
BEGIN:VEVENT
DTSTART;TZID=Europe/Brussels:20250331T150000
DTEND;TZID=Europe/Brussels:20250331T162200
DTSTAMP:20260425T044730
CREATED:20250224T132657Z
LAST-MODIFIED:20250331T124725Z
UID:83413-1743433200-1743438120@plaza-mons.be
SUMMARY:When The Light Breaks
DESCRIPTION:Super Charlie\n\n\n\n\n\n			\n				Bande annonce\n			\n		 \n\n\n\n\n\n\n\n\n\n\n\n\n\n\n\n\n\n\n\n\n\n\n\n\n\n\n\n\n\n\n\n\n\n\n\n\n\n\n\n\n\n\n\n\n\n\n\n\n\n\n\n\n\nBande annonce
URL:https://plaza-mons.be/film/83400/2025-03-31
CATEGORIES:Drame
ATTACH;FMTTYPE=image/jpeg:https://plaza-mons.be/wp-content/uploads/2025/02/when-the-light-breaks-affiche-be-original.jpg
END:VEVENT
BEGIN:VEVENT
DTSTART;TZID=Europe/Brussels:20250331T150000
DTEND;TZID=Europe/Brussels:20250331T163800
DTSTAMP:20260425T044730
CREATED:20250224T134930Z
LAST-MODIFIED:20250422T000133Z
UID:83497-1743433200-1743439080@plaza-mons.be
SUMMARY:Sarah Bernardt\, La Divine
DESCRIPTION:Super Charlie\n\n\n\n\n\n			\n				Bande annonce\n			\n		 \n\n\n\n\n\n\n\n\n\n\n\n\n\n\n\n\n\n\n\n\n\n\n\n\n\n\n\n\n\n\n\n\n\n\n\n\n\n\n\n\n\n\n\n\n\n\n\n\n\n\n\n\n\nBande annonce
URL:https://plaza-mons.be/film/sarah-bernardt-la-divine/2025-03-31
CATEGORIES:Biopic
ATTACH;FMTTYPE=image/jpeg:https://plaza-mons.be/wp-content/uploads/2025/02/sarah-bernhardt-la-divine-poster-def-be-original.jpg
END:VEVENT
BEGIN:VEVENT
DTSTART;TZID=Europe/Brussels:20250331T150000
DTEND;TZID=Europe/Brussels:20250331T172500
DTSTAMP:20260425T044730
CREATED:20250128T124517Z
LAST-MODIFIED:20250407T000022Z
UID:83237-1743433200-1743441900@plaza-mons.be
SUMMARY:A Complete Unknown
DESCRIPTION:Super Charlie\n\n\n\n\n\n			\n				Bande annonce\n			\n		 \n\n\n\n\n\n\n\n\n\n\n\n\n\n\n\n\n\n\n\n\n\n\n\n\n\n\n\n\n\n\n\n\n\n\n\n\n\n\n\n\n\n\n\n\n\n\n\n\n\n\n\n\n\nBande annonce
URL:https://plaza-mons.be/film/a-complete-unknown/2025-03-31
CATEGORIES:Biopic,Nouveauté
ATTACH;FMTTYPE=image/jpeg:https://plaza-mons.be/wp-content/uploads/2025/01/a-complete-unknown-poster.jpg
END:VEVENT
BEGIN:VEVENT
DTSTART;TZID=Europe/Brussels:20250331T170000
DTEND;TZID=Europe/Brussels:20250331T183400
DTSTAMP:20260425T044730
CREATED:20250224T133018Z
LAST-MODIFIED:20250407T000310Z
UID:83443-1743440400-1743446040@plaza-mons.be
SUMMARY:Mémoires d'un escargot  / Memoir of a Snail
DESCRIPTION:Super Charlie\n\n\n\n\n\n			\n				Bande annonce\n			\n		 \n\n\n\n\n\n\n\n\n\n\n\n\n\n\n\n\n\n\n\n\n\n\n\n\n\n\n\n\n\n\n\n\n\n\n\n\n\n\n\n\n\n\n\n\n\n\n\n\n\n\n\n\n\nBande annonce
URL:https://plaza-mons.be/film/memoires-dun-escargot-memoir-of-a-snail/2025-03-31
CATEGORIES:Animation
ATTACH;FMTTYPE=image/jpeg:https://plaza-mons.be/wp-content/uploads/2025/02/memoir-of-a-snail-poster-1.jpg
END:VEVENT
BEGIN:VEVENT
DTSTART;TZID=Europe/Brussels:20250331T173000
DTEND;TZID=Europe/Brussels:20250331T194600
DTSTAMP:20260425T044730
CREATED:20250224T133933Z
LAST-MODIFIED:20250411T000306Z
UID:83485-1743442200-1743450360@plaza-mons.be
SUMMARY:Parthenope
DESCRIPTION:Super Charlie\n\n\n\n\n\n			\n				Bande annonce\n			\n		 \n\n\n\n\n\n\n\n\n\n\n\n\n\n\n\n\n\n\n\n\n\n\n\n\n\n\n\n\n\n\n\n\n\n\n\n\n\n\n\n\n\n\n\n\n\n\n\n\n\n\n\n\n\nBande annonce
URL:https://plaza-mons.be/film/parthenope/2025-03-31
CATEGORIES:Drame
ATTACH;FMTTYPE=image/jpeg:https://plaza-mons.be/wp-content/uploads/2025/02/parthenope-poster.jpg
END:VEVENT
BEGIN:VEVENT
DTSTART;TZID=Europe/Brussels:20250331T174500
DTEND;TZID=Europe/Brussels:20250331T200200
DTSTAMP:20260425T044730
CREATED:20250224T131738Z
LAST-MODIFIED:20250407T000140Z
UID:83363-1743443100-1743451320@plaza-mons.be
SUMMARY:Queer
DESCRIPTION:Super Charlie\n\n\n\n\n\n			\n				Bande annonce\n			\n		 \n\n\n\n\n\n\n\n\n\n\n\n\n\n\n\n\n\n\n\n\n\n\n\n\n\n\n\n\n\n\n\n\n\n\n\n\n\n\n\n\n\n\n\n\n\n\n\n\n\n\n\n\n\nBande annonce
URL:https://plaza-mons.be/film/queer/2025-03-31
CATEGORIES:Drame
ATTACH;FMTTYPE=image/jpeg:https://plaza-mons.be/wp-content/uploads/2025/02/queer-poster.jpg
END:VEVENT
BEGIN:VEVENT
DTSTART;TZID=Europe/Brussels:20250331T180000
DTEND;TZID=Europe/Brussels:20250331T194300
DTSTAMP:20260425T044730
CREATED:20250224T132035Z
LAST-MODIFIED:20250331T124924Z
UID:83385-1743444000-1743450180@plaza-mons.be
SUMMARY:Diamant brut
DESCRIPTION:Super Charlie\n\n\n\n\n\n			\n				Bande annonce\n			\n		 \n\n\n\n\n\n\n\n\n\n\n\n\n\n\n\n\n\n\n\n\n\n\n\n\n\n\n\n\n\n\n\n\n\n\n\n\n\n\n\n\n\n\n\n\n\n\n\n\n\n\n\n\n\nBande annonce
URL:https://plaza-mons.be/film/diamant-brut/2025-03-31
CATEGORIES:Drame
ATTACH;FMTTYPE=image/jpeg:https://plaza-mons.be/wp-content/uploads/2025/02/diamant-brut-poster-1.jpg
END:VEVENT
BEGIN:VEVENT
DTSTART;TZID=Europe/Brussels:20250331T190000
DTEND;TZID=Europe/Brussels:20250331T220000
DTSTAMP:20260425T044730
CREATED:20250128T112504Z
LAST-MODIFIED:20250331T124945Z
UID:83209-1743447600-1743458400@plaza-mons.be
SUMMARY:The Brutalist
DESCRIPTION:Super Charlie\n\n\n\n\n\n			\n				Bande annonce\n			\n		 \n\n\n\n\n\n\n\n\n\n\n\n\n\n\n\n\n\n\n\n\n\n\n\n\n\n\n\n\n\n\n\n\n\n\n\n\n\n\n\n\n\n\n\n\n\n\n\n\n\n\n\n\n\nBande annonce
URL:https://plaza-mons.be/film/the-brutalist/2025-03-31
CATEGORIES:Drame
ATTACH;FMTTYPE=image/jpeg:https://plaza-mons.be/wp-content/uploads/2025/01/the-brutalist-poster.jpg
END:VEVENT
BEGIN:VEVENT
DTSTART;TZID=Europe/Brussels:20250331T203000
DTEND;TZID=Europe/Brussels:20250331T213000
DTSTAMP:20260425T044730
CREATED:20250224T134620Z
LAST-MODIFIED:20250411T000231Z
UID:83490-1743453000-1743456600@plaza-mons.be
SUMMARY:Soft Leaves
DESCRIPTION:Super Charlie\n\n\n\n\n\n			\n				Bande annonce\n			\n		 \n\n\n\n\n\n\n\n\n\n\n\n\n\n\n\n\n\n\n\n\n\n\n\n\n\n\n\n\n\n\n\n\n\n\n\n\n\n\n\n\n\n\n\n\n\n\n\n\n\n\n\n\n\nBande annonce
URL:https://plaza-mons.be/film/soft-leaves/2025-03-31
CATEGORIES:Drame
ATTACH;FMTTYPE=image/jpeg:https://plaza-mons.be/wp-content/uploads/2025/02/soft-leaves-poster.jpg
END:VEVENT
BEGIN:VEVENT
DTSTART;TZID=Europe/Brussels:20250331T203000
DTEND;TZID=Europe/Brussels:20250331T224500
DTSTAMP:20260425T044730
CREATED:20250224T135040Z
LAST-MODIFIED:20250505T000107Z
UID:83506-1743453000-1743461100@plaza-mons.be
SUMMARY:Je suis toujours là / I'm Still Here
DESCRIPTION:Super Charlie\n\n\n\n\n\n			\n				Bande annonce\n			\n		 \n\n\n\n\n\n\n\n\n\n\n\n\n\n\n\n\n\n\n\n\n\n\n\n\n\n\n\n\n\n\n\n\n\n\n\n\n\n\n\n\n\n\n\n\n\n\n\n\n\n\n\n\n\nBande annonce
URL:https://plaza-mons.be/film/je-suis-toujours-la-im-still-here/2025-03-31
CATEGORIES:Drame
ATTACH;FMTTYPE=image/jpeg:https://plaza-mons.be/wp-content/uploads/2025/02/je-suis-toujours-la-poster.jpg
END:VEVENT
BEGIN:VEVENT
DTSTART;TZID=Europe/Brussels:20250331T203000
DTEND;TZID=Europe/Brussels:20250331T224600
DTSTAMP:20260425T044730
CREATED:20250224T133512Z
LAST-MODIFIED:20250428T115838Z
UID:83472-1743453000-1743461160@plaza-mons.be
SUMMARY:Mickey 17
DESCRIPTION:Super Charlie\n\n\n\n\n\n			\n				Bande annonce\n			\n		 \n\n\n\n\n\n\n\n\n\n\n\n\n\n\n\n\n\n\n\n\n\n\n\n\n\n\n\n\n\n\n\n\n\n\n\n\n\n\n\n\n\n\n\n\n\n\n\n\n\n\n\n\n\nBande annonce
URL:https://plaza-mons.be/film/mickey-17/2025-03-31
CATEGORIES:Drame
ATTACH;FMTTYPE=image/jpeg:https://plaza-mons.be/wp-content/uploads/2025/02/mickey-17-poster.jpg
END:VEVENT
BEGIN:VEVENT
DTSTART;TZID=Europe/Brussels:20250401T150000
DTEND;TZID=Europe/Brussels:20250401T160000
DTSTAMP:20260425T044730
CREATED:20250224T134620Z
LAST-MODIFIED:20250411T000231Z
UID:83491-1743519600-1743523200@plaza-mons.be
SUMMARY:Soft Leaves
DESCRIPTION:Super Charlie\n\n\n\n\n\n			\n				Bande annonce\n			\n		 \n\n\n\n\n\n\n\n\n\n\n\n\n\n\n\n\n\n\n\n\n\n\n\n\n\n\n\n\n\n\n\n\n\n\n\n\n\n\n\n\n\n\n\n\n\n\n\n\n\n\n\n\n\nBande annonce
URL:https://plaza-mons.be/film/soft-leaves/2025-04-01
CATEGORIES:Drame
ATTACH;FMTTYPE=image/jpeg:https://plaza-mons.be/wp-content/uploads/2025/02/soft-leaves-poster.jpg
END:VEVENT
BEGIN:VEVENT
DTSTART;TZID=Europe/Brussels:20250401T150000
DTEND;TZID=Europe/Brussels:20250401T162300
DTSTAMP:20260425T044730
CREATED:20250224T133121Z
LAST-MODIFIED:20250331T125610Z
UID:83428-1743519600-1743524580@plaza-mons.be
SUMMARY:Merckx
DESCRIPTION:Super Charlie\n\n\n\n\n\n			\n				Bande annonce\n			\n		 \n\n\n\n\n\n\n\n\n\n\n\n\n\n\n\n\n\n\n\n\n\n\n\n\n\n\n\n\n\n\n\n\n\n\n\n\n\n\n\n\n\n\n\n\n\n\n\n\n\n\n\n\n\nBande annonce
URL:https://plaza-mons.be/film/merckx/2025-04-01
CATEGORIES:Documentaire
ATTACH;FMTTYPE=image/png:https://plaza-mons.be/wp-content/uploads/2025/02/merckx-poster.png
END:VEVENT
BEGIN:VEVENT
DTSTART;TZID=Europe/Brussels:20250401T150000
DTEND;TZID=Europe/Brussels:20250401T163400
DTSTAMP:20260425T044730
CREATED:20250224T133018Z
LAST-MODIFIED:20250407T000312Z
UID:83444-1743519600-1743525240@plaza-mons.be
SUMMARY:Mémoires d'un escargot  / Memoir of a Snail
DESCRIPTION:Super Charlie\n\n\n\n\n\n			\n				Bande annonce\n			\n		 \n\n\n\n\n\n\n\n\n\n\n\n\n\n\n\n\n\n\n\n\n\n\n\n\n\n\n\n\n\n\n\n\n\n\n\n\n\n\n\n\n\n\n\n\n\n\n\n\n\n\n\n\n\nBande annonce
URL:https://plaza-mons.be/film/memoires-dun-escargot-memoir-of-a-snail/2025-04-01
CATEGORIES:Animation
ATTACH;FMTTYPE=image/jpeg:https://plaza-mons.be/wp-content/uploads/2025/02/memoir-of-a-snail-poster-1.jpg
END:VEVENT
BEGIN:VEVENT
DTSTART;TZID=Europe/Brussels:20250401T150000
DTEND;TZID=Europe/Brussels:20250401T171500
DTSTAMP:20260425T044730
CREATED:20250224T135040Z
LAST-MODIFIED:20250505T000108Z
UID:83507-1743519600-1743527700@plaza-mons.be
SUMMARY:Je suis toujours là / I'm Still Here
DESCRIPTION:Super Charlie\n\n\n\n\n\n			\n				Bande annonce\n			\n		 \n\n\n\n\n\n\n\n\n\n\n\n\n\n\n\n\n\n\n\n\n\n\n\n\n\n\n\n\n\n\n\n\n\n\n\n\n\n\n\n\n\n\n\n\n\n\n\n\n\n\n\n\n\nBande annonce
URL:https://plaza-mons.be/film/je-suis-toujours-la-im-still-here/2025-04-01
CATEGORIES:Drame
ATTACH;FMTTYPE=image/jpeg:https://plaza-mons.be/wp-content/uploads/2025/02/je-suis-toujours-la-poster.jpg
END:VEVENT
BEGIN:VEVENT
DTSTART;TZID=Europe/Brussels:20250401T174500
DTEND;TZID=Europe/Brussels:20250401T192600
DTSTAMP:20260425T044730
CREATED:20250224T132801Z
LAST-MODIFIED:20250331T125612Z
UID:83399-1743529500-1743535560@plaza-mons.be
SUMMARY:Ponyo sur la falaise VOSTFR
DESCRIPTION:Super Charlie
URL:https://plaza-mons.be/film/ponyo-sur-la-falaise-vostfr/2025-04-01
CATEGORIES:Animation
ATTACH;FMTTYPE=image/jpeg:https://plaza-mons.be/wp-content/uploads/2025/02/ponyo-sur-la-falaise-poster.jpeg
END:VEVENT
BEGIN:VEVENT
DTSTART;TZID=Europe/Brussels:20250401T174500
DTEND;TZID=Europe/Brussels:20250401T201000
DTSTAMP:20260425T044730
CREATED:20250128T124517Z
LAST-MODIFIED:20250407T000022Z
UID:83238-1743529500-1743538200@plaza-mons.be
SUMMARY:A Complete Unknown
DESCRIPTION:Super Charlie\n\n\n\n\n\n			\n				Bande annonce\n			\n		 \n\n\n\n\n\n\n\n\n\n\n\n\n\n\n\n\n\n\n\n\n\n\n\n\n\n\n\n\n\n\n\n\n\n\n\n\n\n\n\n\n\n\n\n\n\n\n\n\n\n\n\n\n\nBande annonce
URL:https://plaza-mons.be/film/a-complete-unknown/2025-04-01
CATEGORIES:Biopic,Nouveauté
ATTACH;FMTTYPE=image/jpeg:https://plaza-mons.be/wp-content/uploads/2025/01/a-complete-unknown-poster.jpg
END:VEVENT
BEGIN:VEVENT
DTSTART;TZID=Europe/Brussels:20250401T180000
DTEND;TZID=Europe/Brussels:20250401T180000
DTSTAMP:20260425T044730
CREATED:20250224T134124Z
LAST-MODIFIED:20250411T000126Z
UID:83458-1743530400-1743530400@plaza-mons.be
SUMMARY:Ma mère\, Dieu et Sylvie Vartan
DESCRIPTION:Super Charlie\n\n\n\n\n\n			\n				Bande annonce\n			\n		 \n\n\n\n\n\n\n\n\n\n\n\n\n\n\n\n\n\n\n\n\n\n\n\n\n\n\n\n\n\n\n\n\n\n\n\n\n\n\n\n\n\n\n\n\n\n\n\n\n\n\n\n\n\nBande annonce
URL:https://plaza-mons.be/film/ma-mere-dieu-et-sylvie-vartan/2025-04-01
CATEGORIES:Drame
ATTACH;FMTTYPE=image/jpeg:https://plaza-mons.be/wp-content/uploads/2025/02/ma-mere-dieu-et-sylvie-vartan-poster.jpg
END:VEVENT
BEGIN:VEVENT
DTSTART;TZID=Europe/Brussels:20250401T180000
DTEND;TZID=Europe/Brussels:20250401T194300
DTSTAMP:20260425T044730
CREATED:20250224T132035Z
LAST-MODIFIED:20250331T124925Z
UID:83386-1743530400-1743536580@plaza-mons.be
SUMMARY:Diamant brut
DESCRIPTION:Super Charlie\n\n\n\n\n\n			\n				Bande annonce\n			\n		 \n\n\n\n\n\n\n\n\n\n\n\n\n\n\n\n\n\n\n\n\n\n\n\n\n\n\n\n\n\n\n\n\n\n\n\n\n\n\n\n\n\n\n\n\n\n\n\n\n\n\n\n\n\nBande annonce
URL:https://plaza-mons.be/film/diamant-brut/2025-04-01
CATEGORIES:Drame
ATTACH;FMTTYPE=image/jpeg:https://plaza-mons.be/wp-content/uploads/2025/02/diamant-brut-poster-1.jpg
END:VEVENT
BEGIN:VEVENT
DTSTART;TZID=Europe/Brussels:20250401T203000
DTEND;TZID=Europe/Brussels:20250401T220800
DTSTAMP:20260425T044730
CREATED:20250224T134930Z
LAST-MODIFIED:20250422T000134Z
UID:83498-1743539400-1743545280@plaza-mons.be
SUMMARY:Sarah Bernardt\, La Divine
DESCRIPTION:Super Charlie\n\n\n\n\n\n			\n				Bande annonce\n			\n		 \n\n\n\n\n\n\n\n\n\n\n\n\n\n\n\n\n\n\n\n\n\n\n\n\n\n\n\n\n\n\n\n\n\n\n\n\n\n\n\n\n\n\n\n\n\n\n\n\n\n\n\n\n\nBande annonce
URL:https://plaza-mons.be/film/sarah-bernardt-la-divine/2025-04-01
CATEGORIES:Biopic
ATTACH;FMTTYPE=image/jpeg:https://plaza-mons.be/wp-content/uploads/2025/02/sarah-bernhardt-la-divine-poster-def-be-original.jpg
END:VEVENT
BEGIN:VEVENT
DTSTART;TZID=Europe/Brussels:20250401T203000
DTEND;TZID=Europe/Brussels:20250401T224500
DTSTAMP:20260425T044730
CREATED:20250224T135040Z
LAST-MODIFIED:20250505T000108Z
UID:84373-1743539400-1743547500@plaza-mons.be
SUMMARY:Je suis toujours là / I'm Still Here
DESCRIPTION:Super Charlie\n\n\n\n\n\n			\n				Bande annonce\n			\n		 \n\n\n\n\n\n\n\n\n\n\n\n\n\n\n\n\n\n\n\n\n\n\n\n\n\n\n\n\n\n\n\n\n\n\n\n\n\n\n\n\n\n\n\n\n\n\n\n\n\n\n\n\n\nBande annonce
URL:https://plaza-mons.be/film/je-suis-toujours-la-im-still-here/2025-04-01
CATEGORIES:Drame
ATTACH;FMTTYPE=image/jpeg:https://plaza-mons.be/wp-content/uploads/2025/02/je-suis-toujours-la-poster.jpg
END:VEVENT
BEGIN:VEVENT
DTSTART;TZID=Europe/Brussels:20250401T203000
DTEND;TZID=Europe/Brussels:20250401T224600
DTSTAMP:20260425T044730
CREATED:20250224T133512Z
LAST-MODIFIED:20250428T115838Z
UID:83473-1743539400-1743547560@plaza-mons.be
SUMMARY:Mickey 17
DESCRIPTION:Super Charlie\n\n\n\n\n\n			\n				Bande annonce\n			\n		 \n\n\n\n\n\n\n\n\n\n\n\n\n\n\n\n\n\n\n\n\n\n\n\n\n\n\n\n\n\n\n\n\n\n\n\n\n\n\n\n\n\n\n\n\n\n\n\n\n\n\n\n\n\nBande annonce
URL:https://plaza-mons.be/film/mickey-17/2025-04-01
CATEGORIES:Drame
ATTACH;FMTTYPE=image/jpeg:https://plaza-mons.be/wp-content/uploads/2025/02/mickey-17-poster.jpg
END:VEVENT
BEGIN:VEVENT
DTSTART;TZID=Europe/Brussels:20250401T203000
DTEND;TZID=Europe/Brussels:20250401T224600
DTSTAMP:20260425T044730
CREATED:20250224T133933Z
LAST-MODIFIED:20250411T000309Z
UID:83486-1743539400-1743547560@plaza-mons.be
SUMMARY:Parthenope
DESCRIPTION:Super Charlie\n\n\n\n\n\n			\n				Bande annonce\n			\n		 \n\n\n\n\n\n\n\n\n\n\n\n\n\n\n\n\n\n\n\n\n\n\n\n\n\n\n\n\n\n\n\n\n\n\n\n\n\n\n\n\n\n\n\n\n\n\n\n\n\n\n\n\n\nBande annonce
URL:https://plaza-mons.be/film/parthenope/2025-04-01
CATEGORIES:Drame
ATTACH;FMTTYPE=image/jpeg:https://plaza-mons.be/wp-content/uploads/2025/02/parthenope-poster.jpg
END:VEVENT
BEGIN:VEVENT
DTSTART;TZID=Europe/Brussels:20250402T140000
DTEND;TZID=Europe/Brussels:20250402T152100
DTSTAMP:20260425T044730
CREATED:20250128T124252Z
LAST-MODIFIED:20250411T000937Z
UID:85565-1743602400-1743607260@plaza-mons.be
SUMMARY:Angelo dans la forêt mystérieuse
DESCRIPTION:Super Charlie\n\n\n\n\n\n			\n				Bande annonce\n			\n		 \n\n\n\n\n\n\n\n\n\n\n\n\n\n\n\n\n\n\n\n\n\n\n\n\n\n\n\n\n\n\n\n\n\n\n\n\n\n\n\n\n\n\n\n\n\n\n\n\n\n\n\n\n\nBande annonce
URL:https://plaza-mons.be/film/angelo-dans-la-foret-mysterieuse/2025-04-02
CATEGORIES:Animation
ATTACH;FMTTYPE=image/jpeg:https://plaza-mons.be/wp-content/uploads/2025/01/angelo-dans-la-foret-mysterieuse-poster.jpg
END:VEVENT
BEGIN:VEVENT
DTSTART;TZID=Europe/Brussels:20250402T140000
DTEND;TZID=Europe/Brussels:20250402T153800
DTSTAMP:20260425T044730
CREATED:20250224T134930Z
LAST-MODIFIED:20250422T000135Z
UID:85694-1743602400-1743608280@plaza-mons.be
SUMMARY:Sarah Bernardt\, La Divine
DESCRIPTION:Super Charlie\n\n\n\n\n\n			\n				Bande annonce\n			\n		 \n\n\n\n\n\n\n\n\n\n\n\n\n\n\n\n\n\n\n\n\n\n\n\n\n\n\n\n\n\n\n\n\n\n\n\n\n\n\n\n\n\n\n\n\n\n\n\n\n\n\n\n\n\nBande annonce
URL:https://plaza-mons.be/film/sarah-bernardt-la-divine/2025-04-02
CATEGORIES:Biopic
ATTACH;FMTTYPE=image/jpeg:https://plaza-mons.be/wp-content/uploads/2025/02/sarah-bernhardt-la-divine-poster-def-be-original.jpg
END:VEVENT
BEGIN:VEVENT
DTSTART;TZID=Europe/Brussels:20250402T150000
DTEND;TZID=Europe/Brussels:20250402T162600
DTSTAMP:20260425T044730
CREATED:20250331T144712Z
LAST-MODIFIED:20250505T000556Z
UID:85817-1743606000-1743611160@plaza-mons.be
SUMMARY:La légende de l'ours blanc
DESCRIPTION:Super Charlie\n\n\n\n\n\n			\n				Bande annonce\n			\n		 \n\n\n\n\n\n\n\n\n\n\n\n\n\n\n\n\n\n\n\n\n\n\n\n\n\n\n\n\n\n\n\n\n\n\n\n\n\n\n\n\n\n\n\n\n\n\n\n\n\n\n\n\n\nBande annonce
URL:https://plaza-mons.be/film/la-legende-de-lours-blanc/2025-04-02
CATEGORIES:Animation
ATTACH;FMTTYPE=image/jpeg:https://plaza-mons.be/wp-content/uploads/2025/03/la-legende-de-lours-blanc-poster.jpg
END:VEVENT
BEGIN:VEVENT
DTSTART;TZID=Europe/Brussels:20250402T150000
DTEND;TZID=Europe/Brussels:20250402T163400
DTSTAMP:20260425T044730
CREATED:20250224T133018Z
LAST-MODIFIED:20250407T000313Z
UID:85530-1743606000-1743611640@plaza-mons.be
SUMMARY:Mémoires d'un escargot  / Memoir of a Snail
DESCRIPTION:Super Charlie\n\n\n\n\n\n			\n				Bande annonce\n			\n		 \n\n\n\n\n\n\n\n\n\n\n\n\n\n\n\n\n\n\n\n\n\n\n\n\n\n\n\n\n\n\n\n\n\n\n\n\n\n\n\n\n\n\n\n\n\n\n\n\n\n\n\n\n\nBande annonce
URL:https://plaza-mons.be/film/memoires-dun-escargot-memoir-of-a-snail/2025-04-02
CATEGORIES:Animation
ATTACH;FMTTYPE=image/jpeg:https://plaza-mons.be/wp-content/uploads/2025/02/memoir-of-a-snail-poster-1.jpg
END:VEVENT
BEGIN:VEVENT
DTSTART;TZID=Europe/Brussels:20250402T160000
DTEND;TZID=Europe/Brussels:20250402T160000
DTSTAMP:20260425T044730
CREATED:20250224T134124Z
LAST-MODIFIED:20250411T000129Z
UID:85539-1743609600-1743609600@plaza-mons.be
SUMMARY:Ma mère\, Dieu et Sylvie Vartan
DESCRIPTION:Super Charlie\n\n\n\n\n\n			\n				Bande annonce\n			\n		 \n\n\n\n\n\n\n\n\n\n\n\n\n\n\n\n\n\n\n\n\n\n\n\n\n\n\n\n\n\n\n\n\n\n\n\n\n\n\n\n\n\n\n\n\n\n\n\n\n\n\n\n\n\nBande annonce
URL:https://plaza-mons.be/film/ma-mere-dieu-et-sylvie-vartan/2025-04-02
CATEGORIES:Drame
ATTACH;FMTTYPE=image/jpeg:https://plaza-mons.be/wp-content/uploads/2025/02/ma-mere-dieu-et-sylvie-vartan-poster.jpg
END:VEVENT
BEGIN:VEVENT
DTSTART;TZID=Europe/Brussels:20250402T163000
DTEND;TZID=Europe/Brussels:20250402T181500
DTSTAMP:20260425T044730
CREATED:20250331T135231Z
LAST-MODIFIED:20250428T115908Z
UID:85834-1743611400-1743617700@plaza-mons.be
SUMMARY:Ernest Cole\, Lost and Found
DESCRIPTION:Super Charlie\n\n\n\n\n\n			\n				Bande annonce\n			\n		 \n\n\n\n\n\n\n\n\n\n\n\n\n\n\n\n\n\n\n\n\n\n\n\n\n\n\n\n\n\n\n\n\n\n\n\n\n\n\n\n\n\n\n\n\n\n\n\n\n\n\n\n\n\nBande annonce
URL:https://plaza-mons.be/film/ernest-cole-lost-and-found/2025-04-02
CATEGORIES:Biopic
ATTACH;FMTTYPE=image/jpeg:https://plaza-mons.be/wp-content/uploads/2025/03/ernest-cole-lost-and-found-poster.jpg
END:VEVENT
END:VCALENDAR