BEGIN:VCALENDAR
VERSION:2.0
PRODID:-//Plaza Arthouse Cinema - ECPv5.14.1//NONSGML v1.0//EN
CALSCALE:GREGORIAN
METHOD:PUBLISH
X-WR-CALNAME:Plaza Arthouse Cinema
X-ORIGINAL-URL:https://plaza-mons.be
X-WR-CALDESC:Events for Plaza Arthouse Cinema
REFRESH-INTERVAL;VALUE=DURATION:PT1H
X-Robots-Tag:noindex
X-PUBLISHED-TTL:PT1H
BEGIN:VTIMEZONE
TZID:Europe/Brussels
BEGIN:DAYLIGHT
TZOFFSETFROM:+0100
TZOFFSETTO:+0200
TZNAME:CEST
DTSTART:20250330T010000
END:DAYLIGHT
BEGIN:STANDARD
TZOFFSETFROM:+0200
TZOFFSETTO:+0100
TZNAME:CET
DTSTART:20251026T010000
END:STANDARD
END:VTIMEZONE
BEGIN:VEVENT
DTSTART;TZID=Europe/Brussels:20250303T110000
DTEND;TZID=Europe/Brussels:20250303T114000
DTSTAMP:20260426T032232
CREATED:20250124T094759Z
LAST-MODIFIED:20250306T000023Z
UID:83294-1740999600-1741002000@plaza-mons.be
SUMMARY:MacPat le chat chanteur
DESCRIPTION:Fusion Studio TIFF File\n\n\n\nDie my Love\n\n\n\n\n\n			\n				Bande annonce\n			\n		 \n\n\n\n\n\n\n\n\n\n\n\n\n\n\n\n\n\n\n\n\n\n\n\n\n\n\n\n\n\n\n\n\n\n\n\n\n\n\n\n\n\n\n\n\n\n\n\n\n\n\n\n\n\nBande annonce
URL:https://plaza-mons.be/film/81734/2025-03-03
ATTACH;FMTTYPE=image/jpeg:https://plaza-mons.be/wp-content/uploads/2025/01/macpat-poster.jpg
END:VEVENT
BEGIN:VEVENT
DTSTART;TZID=Europe/Brussels:20250303T110000
DTEND;TZID=Europe/Brussels:20250303T122100
DTSTAMP:20260426T032233
CREATED:20250128T124252Z
LAST-MODIFIED:20250411T000930Z
UID:83031-1740999600-1741004460@plaza-mons.be
SUMMARY:Angelo dans la forêt mystérieuse
DESCRIPTION:Die my Love\n\n\n\n\n\n			\n				Bande annonce\n			\n		 \n\n\n\n\n\n\n\n\n\n\n\n\n\n\n\n\n\n\n\n\n\n\n\n\n\n\n\n\n\n\n\n\n\n\n\n\n\n\n\n\n\n\n\n\n\n\n\n\n\n\n\n\n\nBande annonce
URL:https://plaza-mons.be/film/angelo-dans-la-foret-mysterieuse/2025-03-03
CATEGORIES:Animation
ATTACH;FMTTYPE=image/jpeg:https://plaza-mons.be/wp-content/uploads/2025/01/angelo-dans-la-foret-mysterieuse-poster.jpg
END:VEVENT
BEGIN:VEVENT
DTSTART;TZID=Europe/Brussels:20250303T110000
DTEND;TZID=Europe/Brussels:20250303T122500
DTSTAMP:20260426T032233
CREATED:20250106T095937Z
LAST-MODIFIED:20250325T000016Z
UID:82998-1740999600-1741004700@plaza-mons.be
SUMMARY:Flow\, le chat qui n’avait  plus peur de l’eau
DESCRIPTION:Die my Love\n\n\n\n\n\n			\n				Bande annonce\n			\n		 \n\n\n\n\n\n\n\n\n\n\n\n\n\n\n\n\n\n\n\n\n\n\n\n\n\n\n\n\n\n\n\n\n\n\n\n\n\n\n\n\n\n\n\n\n\n\n\n\n\n\n\n\n\nBande annonce
URL:https://plaza-mons.be/film/flow-le-chat-qui-navait-plus-peur-de-leau/2025-03-03
CATEGORIES:Animation
ATTACH;FMTTYPE=image/jpeg:https://plaza-mons.be/wp-content/uploads/2025/01/flow-poster.jpg
END:VEVENT
BEGIN:VEVENT
DTSTART;TZID=Europe/Brussels:20250303T110000
DTEND;TZID=Europe/Brussels:20250303T125500
DTSTAMP:20260426T032233
CREATED:20250128T112919Z
LAST-MODIFIED:20250303T000023Z
UID:84167-1740999600-1741006500@plaza-mons.be
SUMMARY:Riefenstahl
DESCRIPTION:Die my Love
URL:https://plaza-mons.be/film/riefenstahl/2025-03-03
CATEGORIES:Documentaire
ATTACH;FMTTYPE=image/jpeg:https://plaza-mons.be/wp-content/uploads/2025/01/riefenstahl-poster.jpg
END:VEVENT
BEGIN:VEVENT
DTSTART;TZID=Europe/Brussels:20250303T140000
DTEND;TZID=Europe/Brussels:20250303T151800
DTSTAMP:20260426T032233
CREATED:20250128T113110Z
LAST-MODIFIED:20250304T000040Z
UID:83007-1741010400-1741015080@plaza-mons.be
SUMMARY:Fiore mio
DESCRIPTION:Die my Love\n\n\n\n\n\n			\n				Bande annonce\n			\n		 \n\n\n\n\n\n\n\n\n\n\n\n\n\n\n\n\n\n\n\n\n\n\n\n\n\n\n\n\n\n\n\n\n\n\n\n\n\n\n\n\n\n\n\n\n\n\n\n\n\n\n\n\n\nBande annonce
URL:https://plaza-mons.be/film/fiore-mio/2025-03-03
CATEGORIES:Documentaire
ATTACH;FMTTYPE=image/jpeg:https://plaza-mons.be/wp-content/uploads/2025/01/fiore-mio-poster.jpg
END:VEVENT
BEGIN:VEVENT
DTSTART;TZID=Europe/Brussels:20250303T140000
DTEND;TZID=Europe/Brussels:20250303T152500
DTSTAMP:20260426T032233
CREATED:20250106T095937Z
LAST-MODIFIED:20250325T000017Z
UID:82999-1741010400-1741015500@plaza-mons.be
SUMMARY:Flow\, le chat qui n’avait  plus peur de l’eau
DESCRIPTION:Die my Love\n\n\n\n\n\n			\n				Bande annonce\n			\n		 \n\n\n\n\n\n\n\n\n\n\n\n\n\n\n\n\n\n\n\n\n\n\n\n\n\n\n\n\n\n\n\n\n\n\n\n\n\n\n\n\n\n\n\n\n\n\n\n\n\n\n\n\n\nBande annonce
URL:https://plaza-mons.be/film/flow-le-chat-qui-navait-plus-peur-de-leau/2025-03-03/4
CATEGORIES:Animation
ATTACH;FMTTYPE=image/jpeg:https://plaza-mons.be/wp-content/uploads/2025/01/flow-poster.jpg
END:VEVENT
BEGIN:VEVENT
DTSTART;TZID=Europe/Brussels:20250303T143000
DTEND;TZID=Europe/Brussels:20250303T155200
DTSTAMP:20260426T032233
CREATED:20250128T123614Z
LAST-MODIFIED:20250304T000035Z
UID:83140-1741012200-1741017120@plaza-mons.be
SUMMARY:Comeback
DESCRIPTION:Die my Love\n\n\n\n\n\n			\n				Bande annonce\n			\n		 \n\n\n\n\n\n\n\n\n\n\n\n\n\n\n\n\n\n\n\n\n\n\n\n\n\n\n\n\n\n\n\n\n\n\n\n\n\n\n\n\n\n\n\n\n\n\n\n\n\n\n\n\n\nBande annonce
URL:https://plaza-mons.be/film/comeback/2025-03-03
ATTACH;FMTTYPE=image/jpeg:https://plaza-mons.be/wp-content/uploads/2025/01/come.jpg
END:VEVENT
BEGIN:VEVENT
DTSTART;TZID=Europe/Brussels:20250303T150000
DTEND;TZID=Europe/Brussels:20250303T163500
DTSTAMP:20260426T032233
CREATED:20250128T124008Z
LAST-MODIFIED:20250307T000047Z
UID:83132-1741014000-1741019700@plaza-mons.be
SUMMARY:Rabia
DESCRIPTION:Die my Love\n\n\n\n\n\n			\n				Bande annonce\n			\n		 \n\n\n\n\n\n\n\n\n\n\n\n\n\n\n\n\n\n\n\n\n\n\n\n\n\n\n\n\n\n\n\n\n\n\n\n\n\n\n\n\n\n\n\n\n\n\n\n\n\n\n\n\n\nBande annonce
URL:https://plaza-mons.be/film/rabia/2025-03-03
CATEGORIES:Drame
ATTACH;FMTTYPE=image/jpeg:https://plaza-mons.be/wp-content/uploads/2025/01/rabia-poster.jpg
END:VEVENT
BEGIN:VEVENT
DTSTART;TZID=Europe/Brussels:20250303T160000
DTEND;TZID=Europe/Brussels:20250303T164500
DTSTAMP:20260426T032233
CREATED:20250219T145039Z
LAST-MODIFIED:20250304T000045Z
UID:82906-1741017600-1741020300@plaza-mons.be
SUMMARY:Avant-premières : Chouette\, un jeu d’enfants !
DESCRIPTION:Die my Love\n\n\n\n\n\n			\n				Bande annonce\n			\n		 \n\n\n\n\n\n\n\n\n\n\n\n\n\n\n\n\n\n\n\n\n\n\n\n\n\n\n\n\n\n\n\n\n\n\n\n\n\n\n\n\n\n\n\n\n\n\n\n\n\n\n\n\n\nBande annonce
URL:https://plaza-mons.be/film/avant-premieres-chouette-un-jeu-denfants/2025-03-03
CATEGORIES:Avant-première
ATTACH;FMTTYPE=image/jpeg:https://plaza-mons.be/wp-content/uploads/2025/02/chouette-un-jeu-denfants-poster.jpeg
END:VEVENT
BEGIN:VEVENT
DTSTART;TZID=Europe/Brussels:20250303T160000
DTEND;TZID=Europe/Brussels:20250303T174700
DTSTAMP:20260426T032233
CREATED:20250219T145748Z
LAST-MODIFIED:20250331T125712Z
UID:83309-1741017600-1741024020@plaza-mons.be
SUMMARY:Paddington au Pérou
DESCRIPTION:Die my Love\n\n\n\n\n\n			\n				Bande annonce\n			\n		 \n\n\n\n\n\n\n\n\n\n\n\n\n\n\n\n\n\n\n\n\n\n\n\n\n\n\n\n\n\n\n\n\n\n\n\n\n\n\n\n\n\n\n\n\n\n\n\n\n\n\n\n\n\nBande annonce
URL:https://plaza-mons.be/film/paddington-au-perou/2025-03-03
CATEGORIES:Animation
ATTACH;FMTTYPE=image/jpeg:https://plaza-mons.be/wp-content/uploads/2025/02/paddington-au-perou-poster.jpg
END:VEVENT
BEGIN:VEVENT
DTSTART;TZID=Europe/Brussels:20250303T163000
DTEND;TZID=Europe/Brussels:20250303T181700
DTSTAMP:20260426T032233
CREATED:20250128T112316Z
LAST-MODIFIED:20250128T112316Z
UID:85433-1741019400-1741025820@plaza-mons.be
SUMMARY:Sing Sing
DESCRIPTION:Die my Love\n\n\n\n\n\n			\n				Bande annonce\n			\n		 \n\n\n\n\n\n\n\n\n\n\n\n\n\n\n\n\n\n\n\n\n\n\n\n\n\n\n\n\n\n\n\n\n\n\n\n\n\n\n\n\n\n\n\n\n\n\n\n\n\n\n\n\n\nBande annonce
URL:https://plaza-mons.be/film/sing-sing/2025-03-03
CATEGORIES:Drame
ATTACH;FMTTYPE=image/jpeg:https://plaza-mons.be/wp-content/uploads/2025/01/singsing-poster.jpg
END:VEVENT
BEGIN:VEVENT
DTSTART;TZID=Europe/Brussels:20250303T173000
DTEND;TZID=Europe/Brussels:20250303T194700
DTSTAMP:20260426T032233
CREATED:20250224T131738Z
LAST-MODIFIED:20250407T000116Z
UID:83343-1741023000-1741031220@plaza-mons.be
SUMMARY:Queer
DESCRIPTION:Die my Love\n\n\n\n\n\n			\n				Bande annonce\n			\n		 \n\n\n\n\n\n\n\n\n\n\n\n\n\n\n\n\n\n\n\n\n\n\n\n\n\n\n\n\n\n\n\n\n\n\n\n\n\n\n\n\n\n\n\n\n\n\n\n\n\n\n\n\n\nBande annonce
URL:https://plaza-mons.be/film/queer/2025-03-03
CATEGORIES:Drame
ATTACH;FMTTYPE=image/jpeg:https://plaza-mons.be/wp-content/uploads/2025/02/queer-poster.jpg
END:VEVENT
BEGIN:VEVENT
DTSTART;TZID=Europe/Brussels:20250303T180000
DTEND;TZID=Europe/Brussels:20250303T200300
DTSTAMP:20260426T032233
CREATED:20250224T130822Z
LAST-MODIFIED:20250325T000331Z
UID:83324-1741024800-1741032180@plaza-mons.be
SUMMARY:All we Imagine as Light
DESCRIPTION:Die my Love\n\n\n\n\n\n			\n				Bande annonce\n			\n		 \n\n\n\n\n\n\n\n\n\n\n\n\n\n\n\n\n\n\n\n\n\n\n\n\n\n\n\n\n\n\n\n\n\n\n\n\n\n\n\n\n\n\n\n\n\n\n\n\n\n\n\n\n\nBande annonce
URL:https://plaza-mons.be/film/all-we-imagine-as-light/2025-03-03
CATEGORIES:Drame
ATTACH;FMTTYPE=image/jpeg:https://plaza-mons.be/wp-content/uploads/2025/02/all-we-imagine-as-light-poster.jpg
END:VEVENT
BEGIN:VEVENT
DTSTART;TZID=Europe/Brussels:20250303T181500
DTEND;TZID=Europe/Brussels:20250303T200300
DTSTAMP:20260426T032233
CREATED:20250128T123839Z
LAST-MODIFIED:20250307T000054Z
UID:83010-1741025700-1741032180@plaza-mons.be
SUMMARY:L'amour au présent ( We Live in Time )
DESCRIPTION:Die my Love\n\n\n\n\n\n			\n				Bande annonce\n			\n		 \n\n\n\n\n\n\n\n\n\n\n\n\n\n\n\n\n\n\n\n\n\n\n\n\n\n\n\n\n\n\n\n\n\n\n\n\n\n\n\n\n\n\n\n\n\n\n\n\n\n\n\n\n\nBande annonce
URL:https://plaza-mons.be/film/lamour-au-present-we-live-in-time/2025-03-03
CATEGORIES:Comédie dramatique
ATTACH;FMTTYPE=image/jpeg:https://plaza-mons.be/wp-content/uploads/2025/01/lamour-au-present-poster-hq-original.jpg
END:VEVENT
BEGIN:VEVENT
DTSTART;TZID=Europe/Brussels:20250303T190000
DTEND;TZID=Europe/Brussels:20250303T220000
DTSTAMP:20260426T032233
CREATED:20250128T112504Z
LAST-MODIFIED:20250331T124939Z
UID:83193-1741028400-1741039200@plaza-mons.be
SUMMARY:The Brutalist
DESCRIPTION:Die my Love\n\n\n\n\n\n			\n				Bande annonce\n			\n		 \n\n\n\n\n\n\n\n\n\n\n\n\n\n\n\n\n\n\n\n\n\n\n\n\n\n\n\n\n\n\n\n\n\n\n\n\n\n\n\n\n\n\n\n\n\n\n\n\n\n\n\n\n\nBande annonce
URL:https://plaza-mons.be/film/the-brutalist/2025-03-03
CATEGORIES:Drame
ATTACH;FMTTYPE=image/jpeg:https://plaza-mons.be/wp-content/uploads/2025/01/the-brutalist-poster.jpg
END:VEVENT
BEGIN:VEVENT
DTSTART;TZID=Europe/Brussels:20250303T203000
DTEND;TZID=Europe/Brussels:20250303T221600
DTSTAMP:20260426T032233
CREATED:20250128T124641Z
LAST-MODIFIED:20250324T000221Z
UID:83249-1741033800-1741040160@plaza-mons.be
SUMMARY:L'attachement
DESCRIPTION:Die my Love\n\n\n\n\n\n			\n				Bande annonce\n			\n		 \n\n\n\n\n\n\n\n\n\n\n\n\n\n\n\n\n\n\n\n\n\n\n\n\n\n\n\n\n\n\n\n\n\n\n\n\n\n\n\n\n\n\n\n\n\n\n\n\n\n\n\n\n\nBande annonce
URL:https://plaza-mons.be/film/lattachement/2025-03-03
CATEGORIES:Drame
ATTACH;FMTTYPE=image/jpeg:https://plaza-mons.be/wp-content/uploads/2025/01/lattachement-poster.jpg
END:VEVENT
BEGIN:VEVENT
DTSTART;TZID=Europe/Brussels:20250303T203000
DTEND;TZID=Europe/Brussels:20250303T223300
DTSTAMP:20260426T032233
CREATED:20250128T124838Z
LAST-MODIFIED:20250325T000037Z
UID:83047-1741033800-1741041180@plaza-mons.be
SUMMARY:Maria
DESCRIPTION:Die my Love\n\n\n\n\n\n			\n				Bande annonce\n			\n		 \n\n\n\n\n\n\n\n\n\n\n\n\n\n\n\n\n\n\n\n\n\n\n\n\n\n\n\n\n\n\n\n\n\n\n\n\n\n\n\n\n\n\n\n\n\n\n\n\n\n\n\n\n\nBande annonce
URL:https://plaza-mons.be/film/maria-2/2025-03-03
CATEGORIES:Biopic
ATTACH;FMTTYPE=image/jpeg:https://plaza-mons.be/wp-content/uploads/2025/01/maria-poster.jpg
END:VEVENT
BEGIN:VEVENT
DTSTART;TZID=Europe/Brussels:20250303T203000
DTEND;TZID=Europe/Brussels:20250303T225500
DTSTAMP:20260426T032233
CREATED:20250128T124517Z
LAST-MODIFIED:20250407T000011Z
UID:83037-1741033800-1741042500@plaza-mons.be
SUMMARY:A Complete Unknown
DESCRIPTION:Die my Love\n\n\n\n\n\n			\n				Bande annonce\n			\n		 \n\n\n\n\n\n\n\n\n\n\n\n\n\n\n\n\n\n\n\n\n\n\n\n\n\n\n\n\n\n\n\n\n\n\n\n\n\n\n\n\n\n\n\n\n\n\n\n\n\n\n\n\n\nBande annonce
URL:https://plaza-mons.be/film/a-complete-unknown/2025-03-03
CATEGORIES:Biopic,Nouveauté
ATTACH;FMTTYPE=image/jpeg:https://plaza-mons.be/wp-content/uploads/2025/01/a-complete-unknown-poster.jpg
END:VEVENT
BEGIN:VEVENT
DTSTART;TZID=Europe/Brussels:20250304T110000
DTEND;TZID=Europe/Brussels:20250304T114000
DTSTAMP:20260426T032233
CREATED:20250124T094759Z
LAST-MODIFIED:20250306T000023Z
UID:83295-1741086000-1741088400@plaza-mons.be
SUMMARY:MacPat le chat chanteur
DESCRIPTION:Fusion Studio TIFF File\n\n\n\nDie my Love\n\n\n\n\n\n			\n				Bande annonce\n			\n		 \n\n\n\n\n\n\n\n\n\n\n\n\n\n\n\n\n\n\n\n\n\n\n\n\n\n\n\n\n\n\n\n\n\n\n\n\n\n\n\n\n\n\n\n\n\n\n\n\n\n\n\n\n\nBande annonce
URL:https://plaza-mons.be/film/81734/2025-03-04
ATTACH;FMTTYPE=image/jpeg:https://plaza-mons.be/wp-content/uploads/2025/01/macpat-poster.jpg
END:VEVENT
BEGIN:VEVENT
DTSTART;TZID=Europe/Brussels:20250304T110000
DTEND;TZID=Europe/Brussels:20250304T122500
DTSTAMP:20260426T032233
CREATED:20250106T095937Z
LAST-MODIFIED:20250325T000017Z
UID:83000-1741086000-1741091100@plaza-mons.be
SUMMARY:Flow\, le chat qui n’avait  plus peur de l’eau
DESCRIPTION:Die my Love\n\n\n\n\n\n			\n				Bande annonce\n			\n		 \n\n\n\n\n\n\n\n\n\n\n\n\n\n\n\n\n\n\n\n\n\n\n\n\n\n\n\n\n\n\n\n\n\n\n\n\n\n\n\n\n\n\n\n\n\n\n\n\n\n\n\n\n\nBande annonce
URL:https://plaza-mons.be/film/flow-le-chat-qui-navait-plus-peur-de-leau/2025-03-04
CATEGORIES:Animation
ATTACH;FMTTYPE=image/jpeg:https://plaza-mons.be/wp-content/uploads/2025/01/flow-poster.jpg
END:VEVENT
BEGIN:VEVENT
DTSTART;TZID=Europe/Brussels:20250304T110000
DTEND;TZID=Europe/Brussels:20250304T124700
DTSTAMP:20260426T032233
CREATED:20250219T145748Z
LAST-MODIFIED:20250331T125713Z
UID:83056-1741086000-1741092420@plaza-mons.be
SUMMARY:Paddington au Pérou
DESCRIPTION:Die my Love\n\n\n\n\n\n			\n				Bande annonce\n			\n		 \n\n\n\n\n\n\n\n\n\n\n\n\n\n\n\n\n\n\n\n\n\n\n\n\n\n\n\n\n\n\n\n\n\n\n\n\n\n\n\n\n\n\n\n\n\n\n\n\n\n\n\n\n\nBande annonce
URL:https://plaza-mons.be/film/paddington-au-perou/2025-03-04
CATEGORIES:Animation
ATTACH;FMTTYPE=image/jpeg:https://plaza-mons.be/wp-content/uploads/2025/02/paddington-au-perou-poster.jpg
END:VEVENT
BEGIN:VEVENT
DTSTART;TZID=Europe/Brussels:20250304T110000
DTEND;TZID=Europe/Brussels:20250304T125900
DTSTAMP:20260426T032233
CREATED:20250128T112714Z
LAST-MODIFIED:20250304T000024Z
UID:83290-1741086000-1741093140@plaza-mons.be
SUMMARY:Le château ambulant
DESCRIPTION:Die my Love
URL:https://plaza-mons.be/film/le-chateau-ambulant/2025-03-04
CATEGORIES:Animation
ATTACH;FMTTYPE=image/jpeg:https://plaza-mons.be/wp-content/uploads/2025/01/le-chateau-ambulant-poster.jpg
END:VEVENT
BEGIN:VEVENT
DTSTART;TZID=Europe/Brussels:20250304T140000
DTEND;TZID=Europe/Brussels:20250304T151800
DTSTAMP:20260426T032233
CREATED:20250128T113110Z
LAST-MODIFIED:20250304T000040Z
UID:83120-1741096800-1741101480@plaza-mons.be
SUMMARY:Fiore mio
DESCRIPTION:Die my Love\n\n\n\n\n\n			\n				Bande annonce\n			\n		 \n\n\n\n\n\n\n\n\n\n\n\n\n\n\n\n\n\n\n\n\n\n\n\n\n\n\n\n\n\n\n\n\n\n\n\n\n\n\n\n\n\n\n\n\n\n\n\n\n\n\n\n\n\nBande annonce
URL:https://plaza-mons.be/film/fiore-mio/2025-03-04
CATEGORIES:Documentaire
ATTACH;FMTTYPE=image/jpeg:https://plaza-mons.be/wp-content/uploads/2025/01/fiore-mio-poster.jpg
END:VEVENT
BEGIN:VEVENT
DTSTART;TZID=Europe/Brussels:20250304T140000
DTEND;TZID=Europe/Brussels:20250304T152200
DTSTAMP:20260426T032233
CREATED:20250128T123614Z
LAST-MODIFIED:20250304T000035Z
UID:83141-1741096800-1741101720@plaza-mons.be
SUMMARY:Comeback
DESCRIPTION:Die my Love\n\n\n\n\n\n			\n				Bande annonce\n			\n		 \n\n\n\n\n\n\n\n\n\n\n\n\n\n\n\n\n\n\n\n\n\n\n\n\n\n\n\n\n\n\n\n\n\n\n\n\n\n\n\n\n\n\n\n\n\n\n\n\n\n\n\n\n\nBande annonce
URL:https://plaza-mons.be/film/comeback/2025-03-04
ATTACH;FMTTYPE=image/jpeg:https://plaza-mons.be/wp-content/uploads/2025/01/come.jpg
END:VEVENT
BEGIN:VEVENT
DTSTART;TZID=Europe/Brussels:20250304T140000
DTEND;TZID=Europe/Brussels:20250304T152500
DTSTAMP:20260426T032233
CREATED:20250106T095937Z
LAST-MODIFIED:20250325T000017Z
UID:83001-1741096800-1741101900@plaza-mons.be
SUMMARY:Flow\, le chat qui n’avait  plus peur de l’eau
DESCRIPTION:Die my Love\n\n\n\n\n\n			\n				Bande annonce\n			\n		 \n\n\n\n\n\n\n\n\n\n\n\n\n\n\n\n\n\n\n\n\n\n\n\n\n\n\n\n\n\n\n\n\n\n\n\n\n\n\n\n\n\n\n\n\n\n\n\n\n\n\n\n\n\nBande annonce
URL:https://plaza-mons.be/film/flow-le-chat-qui-navait-plus-peur-de-leau/2025-03-04/4
CATEGORIES:Animation
ATTACH;FMTTYPE=image/jpeg:https://plaza-mons.be/wp-content/uploads/2025/01/flow-poster.jpg
END:VEVENT
BEGIN:VEVENT
DTSTART;TZID=Europe/Brussels:20250304T143000
DTEND;TZID=Europe/Brussels:20250304T155100
DTSTAMP:20260426T032233
CREATED:20250128T124252Z
LAST-MODIFIED:20250411T000931Z
UID:83276-1741098600-1741103460@plaza-mons.be
SUMMARY:Angelo dans la forêt mystérieuse
DESCRIPTION:Die my Love\n\n\n\n\n\n			\n				Bande annonce\n			\n		 \n\n\n\n\n\n\n\n\n\n\n\n\n\n\n\n\n\n\n\n\n\n\n\n\n\n\n\n\n\n\n\n\n\n\n\n\n\n\n\n\n\n\n\n\n\n\n\n\n\n\n\n\n\nBande annonce
URL:https://plaza-mons.be/film/angelo-dans-la-foret-mysterieuse/2025-03-04
CATEGORIES:Animation
ATTACH;FMTTYPE=image/jpeg:https://plaza-mons.be/wp-content/uploads/2025/01/angelo-dans-la-foret-mysterieuse-poster.jpg
END:VEVENT
BEGIN:VEVENT
DTSTART;TZID=Europe/Brussels:20250304T160000
DTEND;TZID=Europe/Brussels:20250304T164500
DTSTAMP:20260426T032233
CREATED:20250219T145039Z
LAST-MODIFIED:20250304T000045Z
UID:82907-1741104000-1741106700@plaza-mons.be
SUMMARY:Avant-premières : Chouette\, un jeu d’enfants !
DESCRIPTION:Die my Love\n\n\n\n\n\n			\n				Bande annonce\n			\n		 \n\n\n\n\n\n\n\n\n\n\n\n\n\n\n\n\n\n\n\n\n\n\n\n\n\n\n\n\n\n\n\n\n\n\n\n\n\n\n\n\n\n\n\n\n\n\n\n\n\n\n\n\n\nBande annonce
URL:https://plaza-mons.be/film/avant-premieres-chouette-un-jeu-denfants/2025-03-04
CATEGORIES:Avant-première
ATTACH;FMTTYPE=image/jpeg:https://plaza-mons.be/wp-content/uploads/2025/02/chouette-un-jeu-denfants-poster.jpeg
END:VEVENT
BEGIN:VEVENT
DTSTART;TZID=Europe/Brussels:20250304T160000
DTEND;TZID=Europe/Brussels:20250304T174600
DTSTAMP:20260426T032233
CREATED:20250128T124641Z
LAST-MODIFIED:20250324T000221Z
UID:83250-1741104000-1741110360@plaza-mons.be
SUMMARY:L'attachement
DESCRIPTION:Die my Love\n\n\n\n\n\n			\n				Bande annonce\n			\n		 \n\n\n\n\n\n\n\n\n\n\n\n\n\n\n\n\n\n\n\n\n\n\n\n\n\n\n\n\n\n\n\n\n\n\n\n\n\n\n\n\n\n\n\n\n\n\n\n\n\n\n\n\n\nBande annonce
URL:https://plaza-mons.be/film/lattachement/2025-03-04
CATEGORIES:Drame
ATTACH;FMTTYPE=image/jpeg:https://plaza-mons.be/wp-content/uploads/2025/01/lattachement-poster.jpg
END:VEVENT
BEGIN:VEVENT
DTSTART;TZID=Europe/Brussels:20250304T160000
DTEND;TZID=Europe/Brussels:20250304T183000
DTSTAMP:20260426T032233
CREATED:20250106T101110Z
LAST-MODIFIED:20250320T000320Z
UID:83143-1741104000-1741113000@plaza-mons.be
SUMMARY:Maldoror
DESCRIPTION:Die my Love\n\n\n\n\n\n			\n				Bande annonce\n			\n		 \n\n\n\n\n\n\n\n\n\n\n\n\n\n\n\n\n\n\n\n\n\n\n\n\n\n\n\n\n\n\n\n\n\n\n\n\n\n\n\n\n\n\n\n\n\n\n\n\n\n\n\n\n\nBande annonce
URL:https://plaza-mons.be/film/maldoror/2025-03-04
ATTACH;FMTTYPE=image/jpeg:https://plaza-mons.be/wp-content/uploads/2025/01/maldoror-poster.jpg
END:VEVENT
BEGIN:VEVENT
DTSTART;TZID=Europe/Brussels:20250304T170000
DTEND;TZID=Europe/Brussels:20250304T192500
DTSTAMP:20260426T032233
CREATED:20250128T124517Z
LAST-MODIFIED:20250407T000012Z
UID:83038-1741107600-1741116300@plaza-mons.be
SUMMARY:A Complete Unknown
DESCRIPTION:Die my Love\n\n\n\n\n\n			\n				Bande annonce\n			\n		 \n\n\n\n\n\n\n\n\n\n\n\n\n\n\n\n\n\n\n\n\n\n\n\n\n\n\n\n\n\n\n\n\n\n\n\n\n\n\n\n\n\n\n\n\n\n\n\n\n\n\n\n\n\nBande annonce
URL:https://plaza-mons.be/film/a-complete-unknown/2025-03-04
CATEGORIES:Biopic,Nouveauté
ATTACH;FMTTYPE=image/jpeg:https://plaza-mons.be/wp-content/uploads/2025/01/a-complete-unknown-poster.jpg
END:VEVENT
END:VCALENDAR