BEGIN:VCALENDAR
VERSION:2.0
PRODID:-//Plaza Arthouse Cinema - ECPv5.14.1//NONSGML v1.0//EN
CALSCALE:GREGORIAN
METHOD:PUBLISH
X-WR-CALNAME:Plaza Arthouse Cinema
X-ORIGINAL-URL:https://plaza-mons.be
X-WR-CALDESC:Events for Plaza Arthouse Cinema
REFRESH-INTERVAL;VALUE=DURATION:PT1H
X-Robots-Tag:noindex
X-PUBLISHED-TTL:PT1H
BEGIN:VTIMEZONE
TZID:Europe/Brussels
BEGIN:DAYLIGHT
TZOFFSETFROM:+0100
TZOFFSETTO:+0200
TZNAME:CEST
DTSTART:20260329T010000
END:DAYLIGHT
BEGIN:STANDARD
TZOFFSETFROM:+0200
TZOFFSETTO:+0100
TZNAME:CET
DTSTART:20261025T010000
END:STANDARD
END:VTIMEZONE
BEGIN:VEVENT
DTSTART;TZID=Europe/Brussels:20260503T133000
DTEND;TZID=Europe/Brussels:20260503T153100
DTSTAMP:20260425T192710
CREATED:20260317T113154Z
LAST-MODIFIED:20260317T113154Z
UID:107343-1777815000-1777822260@plaza-mons.be
SUMMARY:I swear
DESCRIPTION:La guerre des prix\n\n\n\n\n\n			\n				Bande annonce\n			\n		 \n\n\n\n\n\n\n\n\n\n\n\n\n\n\n\n\n\n\n\n\n\n\n\n\n\n\n\n\n\n\n\n\n\n\n\n\n\n\n\n\n\n\n\n\n\n\n\n\n\n\n\n\n\nBande annonce
URL:https://plaza-mons.be/film/i-swear/2026-05-03
ATTACH;FMTTYPE=image/jpeg:https://plaza-mons.be/wp-content/uploads/2026/03/i-swear-1.jpg
END:VEVENT
BEGIN:VEVENT
DTSTART;TZID=Europe/Brussels:20260503T140000
DTEND;TZID=Europe/Brussels:20260503T152200
DTSTAMP:20260425T192710
CREATED:20260421T114855Z
LAST-MODIFIED:20260425T121359Z
UID:107251-1777816800-1777821720@plaza-mons.be
SUMMARY:Super Charlie
DESCRIPTION:La guerre des prix\n\n\n\n\n\n			\n				Bande annonce\n			\n		 \n\n\n\n\n\n\n\n\n\n\n\n\n\n\n\n\n\n\n\n\n\n\n\n\n\n\n\n\n\n\n\n\n\n\n\n\n\n\n\n\n\n\n\n\n\n\n\n\n\n\n\n\n\nBande annonce
URL:https://plaza-mons.be/film/super-charlie/2026-05-03/3
ATTACH;FMTTYPE=image/jpeg:https://plaza-mons.be/wp-content/uploads/2026/04/super.jpg
END:VEVENT
BEGIN:VEVENT
DTSTART;TZID=Europe/Brussels:20260503T140000
DTEND;TZID=Europe/Brussels:20260503T152600
DTSTAMP:20260425T192710
CREATED:20260425T120831Z
LAST-MODIFIED:20260425T120832Z
UID:107386-1777816800-1777821960@plaza-mons.be
SUMMARY:Sauvons les meubles
DESCRIPTION:La guerre des prix\n\n\n\n\n\n			\n				Bande annonce\n			\n		 \n\n\n\n\n\n\n\n\n\n\n\n\n\n\n\n\n\n\n\n\n\n\n\n\n\n\n\n\n\n\n\n\n\n\n\n\n\n\n\n\n\n\n\n\n\n\n\n\n\n\n\n\n\nBande annonce
URL:https://plaza-mons.be/film/sauvons-les-meubles/2026-05-03
CATEGORIES:Nouveauté
ATTACH;FMTTYPE=image/jpeg:https://plaza-mons.be/wp-content/uploads/2026/04/sauvons-les-meubles-3.jpg
END:VEVENT
BEGIN:VEVENT
DTSTART;TZID=Europe/Brussels:20260503T140000
DTEND;TZID=Europe/Brussels:20260503T171500
DTSTAMP:20260425T192711
CREATED:20260331T113653Z
LAST-MODIFIED:20260331T113653Z
UID:107310-1777816800-1777828500@plaza-mons.be
SUMMARY:Les rayons et les ombres
DESCRIPTION:La guerre des prix\n\n\n\n\n\n			\n				Bande annonce\n			\n		 \n\n\n\n\n\n\n\n\n\n\n\n\n\n\n\n\n\n\n\n\n\n\n\n\n\n\n\n\n\n\n\n\n\n\n\n\n\n\n\n\n\n\n\n\n\n\n\n\n\n\n\n\n\nBande annonce
URL:https://plaza-mons.be/film/les-rayons-et-les-ombres/2026-05-03
ATTACH;FMTTYPE=image/jpeg:https://plaza-mons.be/wp-content/uploads/2026/03/lesrayonsetlesombres-cineart-def-original.jpg
END:VEVENT
BEGIN:VEVENT
DTSTART;TZID=Europe/Brussels:20260503T160000
DTEND;TZID=Europe/Brussels:20260503T160000
DTSTAMP:20260425T192711
CREATED:20260331T114759Z
LAST-MODIFIED:20260331T114759Z
UID:107216-1777824000-1777824000@plaza-mons.be
SUMMARY:L'ourse et l'oiseau
DESCRIPTION:La guerre des prix\n\n\n\n\n\n			\n				Bande annonce\n			\n		 \n\n\n\n\n\n\n\n\n\n\n\n\n\n\n\n\n\n\n\n\n\n\n\n\n\n\n\n\n\n\n\n\n\n\n\n\n\n\n\n\n\n\n\n\n\n\n\n\n\n\n\n\n\nBande annonce
URL:https://plaza-mons.be/film/lourse-et-loiseau/2026-05-03/4
ATTACH;FMTTYPE=image/jpeg:https://plaza-mons.be/wp-content/uploads/2026/03/ourse-et-oiseau-affiche-original-1.jpg
END:VEVENT
BEGIN:VEVENT
DTSTART;TZID=Europe/Brussels:20260503T160000
DTEND;TZID=Europe/Brussels:20260503T174000
DTSTAMP:20260425T192711
CREATED:20260421T113952Z
LAST-MODIFIED:20260425T121525Z
UID:107320-1777824000-1777830000@plaza-mons.be
SUMMARY:Alter ego
DESCRIPTION:La guerre des prix\n\n\n\n\n\n			\n				Bande annonce\n			\n		 \n\n\n\n\n\n\n\n\n\n\n\n\n\n\n\n\n\n\n\n\n\n\n\n\n\n\n\n\n\n\n\n\n\n\n\n\n\n\n\n\n\n\n\n\n\n\n\n\n\n\n\n\n\nBande annonce
URL:https://plaza-mons.be/film/alter-ego/2026-05-03
ATTACH;FMTTYPE=image/jpeg:https://plaza-mons.be/wp-content/uploads/2026/04/alter-ego.jpg
END:VEVENT
BEGIN:VEVENT
DTSTART;TZID=Europe/Brussels:20260503T160000
DTEND;TZID=Europe/Brussels:20260503T175500
DTSTAMP:20260425T192711
CREATED:20260425T120645Z
LAST-MODIFIED:20260425T120646Z
UID:107357-1777824000-1777830900@plaza-mons.be
SUMMARY:Juste une illusion
DESCRIPTION:La guerre des prix\n\n\n\n\n\n			\n				Bande annonce\n			\n		 \n\n\n\n\n\n\n\n\n\n\n\n\n\n\n\n\n\n\n\n\n\n\n\n\n\n\n\n\n\n\n\n\n\n\n\n\n\n\n\n\n\n\n\n\n\n\n\n\n\n\n\n\n\nBande annonce
URL:https://plaza-mons.be/film/juste-une-illusion/2026-05-03
CATEGORIES:Nouveauté
ATTACH;FMTTYPE=image/jpeg:https://plaza-mons.be/wp-content/uploads/2026/04/juste-une-illusion.jpg
END:VEVENT
BEGIN:VEVENT
DTSTART;TZID=Europe/Brussels:20260503T173000
DTEND;TZID=Europe/Brussels:20260503T195700
DTSTAMP:20260425T192711
CREATED:20260425T120408Z
LAST-MODIFIED:20260425T120408Z
UID:107349-1777829400-1777838220@plaza-mons.be
SUMMARY:Mulholland Drive
DESCRIPTION:La guerre des prix
URL:https://plaza-mons.be/film/mulholland-drive/2026-05-03
CATEGORIES:Nouveauté
ATTACH;FMTTYPE=image/webp:https://plaza-mons.be/wp-content/uploads/2026/04/mulholland-drive.webp
END:VEVENT
BEGIN:VEVENT
DTSTART;TZID=Europe/Brussels:20260503T180000
DTEND;TZID=Europe/Brussels:20260503T194500
DTSTAMP:20260425T192711
CREATED:20260414T080306Z
LAST-MODIFIED:20260414T080306Z
UID:107298-1777831200-1777837500@plaza-mons.be
SUMMARY:La corde au cou (Dead Man's Wire)
DESCRIPTION:La guerre des prix\n\n\n\n\n\n			\n				Bande annonce\n			\n		 \n\n\n\n\n\n\n\n\n\n\n\n\n\n\n\n\n\n\n\n\n\n\n\n\n\n\n\n\n\n\n\n\n\n\n\n\n\n\n\n\n\n\n\n\n\n\n\n\n\n\n\n\n\nBande annonce
URL:https://plaza-mons.be/film/la-corde-au-cou-dead-mans-wire/2026-05-03
ATTACH;FMTTYPE=image/jpeg:https://plaza-mons.be/wp-content/uploads/2026/04/la-corde-au-coup-1sheet-fr-large-1.jpg
END:VEVENT
BEGIN:VEVENT
DTSTART;TZID=Europe/Brussels:20260503T181500
DTEND;TZID=Europe/Brussels:20260503T200100
DTSTAMP:20260425T192711
CREATED:20260421T114317Z
LAST-MODIFIED:20260421T114317Z
UID:107275-1777832100-1777838460@plaza-mons.be
SUMMARY:The Drama
DESCRIPTION:La guerre des prix\n\n\n\n\n\n			\n				Bande annonce\n			\n		 \n\n\n\n\n\n\n\n\n\n\n\n\n\n\n\n\n\n\n\n\n\n\n\n\n\n\n\n\n\n\n\n\n\n\n\n\n\n\n\n\n\n\n\n\n\n\n\n\n\n\n\n\n\nBande annonce
URL:https://plaza-mons.be/film/the-drama/2026-05-03
CATEGORIES:Nouveauté
ATTACH;FMTTYPE=image/jpeg:https://plaza-mons.be/wp-content/uploads/2026/04/the-drama.jpg
END:VEVENT
BEGIN:VEVENT
DTSTART;TZID=Europe/Brussels:20260503T183000
DTEND;TZID=Europe/Brussels:20260503T200600
DTSTAMP:20260425T192711
CREATED:20260414T080106Z
LAST-MODIFIED:20260414T080106Z
UID:107261-1777833000-1777838760@plaza-mons.be
SUMMARY:Ceux qui comptent
DESCRIPTION:La guerre des prix\n\n\n\n\n\n			\n				Bande annonce\n			\n		 \n\n\n\n\n\n\n\n\n\n\n\n\n\n\n\n\n\n\n\n\n\n\n\n\n\n\n\n\n\n\n\n\n\n\n\n\n\n\n\n\n\n\n\n\n\n\n\n\n\n\n\n\n\nBande annonce
URL:https://plaza-mons.be/film/ceux-qui-comptent/2026-05-03
ATTACH;FMTTYPE=image/jpeg:https://plaza-mons.be/wp-content/uploads/2026/04/ceux-qui-comptent2.jpg
END:VEVENT
BEGIN:VEVENT
DTSTART;TZID=Europe/Brussels:20260503T203000
DTEND;TZID=Europe/Brussels:20260503T220600
DTSTAMP:20260425T192711
CREATED:20260421T114445Z
LAST-MODIFIED:20260425T121349Z
UID:107287-1777840200-1777845960@plaza-mons.be
SUMMARY:La guerre des prix
DESCRIPTION:La guerre des prix\n\n\n\n\n\n			\n				Bande annonce\n			\n		 \n\n\n\n\n\n\n\n\n\n\n\n\n\n\n\n\n\n\n\n\n\n\n\n\n\n\n\n\n\n\n\n\n\n\n\n\n\n\n\n\n\n\n\n\n\n\n\n\n\n\n\n\n\nBande annonce
URL:https://plaza-mons.be/film/la-guerre-des-prix/2026-05-03
ATTACH;FMTTYPE=image/png:https://plaza-mons.be/wp-content/uploads/2026/04/la-guerre-des-prix.png
END:VEVENT
BEGIN:VEVENT
DTSTART;TZID=Europe/Brussels:20260503T203000
DTEND;TZID=Europe/Brussels:20260503T222500
DTSTAMP:20260425T192711
CREATED:20260425T121001Z
LAST-MODIFIED:20260425T121002Z
UID:107398-1777840200-1777847100@plaza-mons.be
SUMMARY:Sukkwan Island
DESCRIPTION:La guerre des prix\n\n\n\n\n\n			\n				Bande annonce\n			\n		 \n\n\n\n\n\n\n\n\n\n\n\n\n\n\n\n\n\n\n\n\n\n\n\n\n\n\n\n\n\n\n\n\n\n\n\n\n\n\n\n\n\n\n\n\n\n\n\n\n\n\n\n\n\nBande annonce
URL:https://plaza-mons.be/film/sukkwan-island/2026-05-03
CATEGORIES:Nouveauté
ATTACH;FMTTYPE=image/jpeg:https://plaza-mons.be/wp-content/uploads/2026/04/sukkwan-island.jpg
END:VEVENT
BEGIN:VEVENT
DTSTART;TZID=Europe/Brussels:20260503T203000
DTEND;TZID=Europe/Brussels:20260503T222900
DTSTAMP:20260425T192711
CREATED:20260425T121151Z
LAST-MODIFIED:20260425T121152Z
UID:107372-1777840200-1777847340@plaza-mons.be
SUMMARY:Die my Love
DESCRIPTION:La guerre des prix\n\n\n\n\n\n			\n				Bande annonce\n			\n		 \n\n\n\n\n\n\n\n\n\n\n\n\n\n\n\n\n\n\n\n\n\n\n\n\n\n\n\n\n\n\n\n\n\n\n\n\n\n\n\n\n\n\n\n\n\n\n\n\n\n\n\n\n\nBande annonce
URL:https://plaza-mons.be/film/die-my-love-2/2026-05-03
CATEGORIES:Nouveauté
ATTACH;FMTTYPE=image/jpeg:https://plaza-mons.be/wp-content/uploads/2026/04/diemylove-cineart-def-large.jpg
END:VEVENT
BEGIN:VEVENT
DTSTART;TZID=Europe/Brussels:20260503T204500
DTEND;TZID=Europe/Brussels:20260503T225300
DTSTAMP:20260425T192711
CREATED:20260421T114115Z
LAST-MODIFIED:20260425T121355Z
UID:107331-1777841100-1777848780@plaza-mons.be
SUMMARY:Yellow Letters
DESCRIPTION:La guerre des prix\n\n\n\n\n\n			\n				Bande annonce\n			\n		 \n\n\n\n\n\n\n\n\n\n\n\n\n\n\n\n\n\n\n\n\n\n\n\n\n\n\n\n\n\n\n\n\n\n\n\n\n\n\n\n\n\n\n\n\n\n\n\n\n\n\n\n\n\nBande annonce
URL:https://plaza-mons.be/film/yellow-letters/2026-05-03
ATTACH;FMTTYPE=image/jpeg:https://plaza-mons.be/wp-content/uploads/2026/04/yellow-letters-1.jpg
END:VEVENT
BEGIN:VEVENT
DTSTART;TZID=Europe/Brussels:20260504T140000
DTEND;TZID=Europe/Brussels:20260504T152200
DTSTAMP:20260425T192711
CREATED:20260421T114855Z
LAST-MODIFIED:20260425T121359Z
UID:107252-1777903200-1777908120@plaza-mons.be
SUMMARY:Super Charlie
DESCRIPTION:La guerre des prix\n\n\n\n\n\n			\n				Bande annonce\n			\n		 \n\n\n\n\n\n\n\n\n\n\n\n\n\n\n\n\n\n\n\n\n\n\n\n\n\n\n\n\n\n\n\n\n\n\n\n\n\n\n\n\n\n\n\n\n\n\n\n\n\n\n\n\n\nBande annonce
URL:https://plaza-mons.be/film/super-charlie/2026-05-04
ATTACH;FMTTYPE=image/jpeg:https://plaza-mons.be/wp-content/uploads/2026/04/super.jpg
END:VEVENT
BEGIN:VEVENT
DTSTART;TZID=Europe/Brussels:20260504T140000
DTEND;TZID=Europe/Brussels:20260504T152600
DTSTAMP:20260425T192711
CREATED:20260425T120831Z
LAST-MODIFIED:20260425T120832Z
UID:107387-1777903200-1777908360@plaza-mons.be
SUMMARY:Sauvons les meubles
DESCRIPTION:La guerre des prix\n\n\n\n\n\n			\n				Bande annonce\n			\n		 \n\n\n\n\n\n\n\n\n\n\n\n\n\n\n\n\n\n\n\n\n\n\n\n\n\n\n\n\n\n\n\n\n\n\n\n\n\n\n\n\n\n\n\n\n\n\n\n\n\n\n\n\n\nBande annonce
URL:https://plaza-mons.be/film/sauvons-les-meubles/2026-05-04
CATEGORIES:Nouveauté
ATTACH;FMTTYPE=image/jpeg:https://plaza-mons.be/wp-content/uploads/2026/04/sauvons-les-meubles-3.jpg
END:VEVENT
BEGIN:VEVENT
DTSTART;TZID=Europe/Brussels:20260504T140000
DTEND;TZID=Europe/Brussels:20260504T153600
DTSTAMP:20260425T192711
CREATED:20260421T114445Z
LAST-MODIFIED:20260425T121349Z
UID:107288-1777903200-1777908960@plaza-mons.be
SUMMARY:La guerre des prix
DESCRIPTION:La guerre des prix\n\n\n\n\n\n			\n				Bande annonce\n			\n		 \n\n\n\n\n\n\n\n\n\n\n\n\n\n\n\n\n\n\n\n\n\n\n\n\n\n\n\n\n\n\n\n\n\n\n\n\n\n\n\n\n\n\n\n\n\n\n\n\n\n\n\n\n\nBande annonce
URL:https://plaza-mons.be/film/la-guerre-des-prix/2026-05-04
ATTACH;FMTTYPE=image/png:https://plaza-mons.be/wp-content/uploads/2026/04/la-guerre-des-prix.png
END:VEVENT
BEGIN:VEVENT
DTSTART;TZID=Europe/Brussels:20260504T140000
DTEND;TZID=Europe/Brussels:20260504T171500
DTSTAMP:20260425T192711
CREATED:20260331T113653Z
LAST-MODIFIED:20260331T113653Z
UID:107311-1777903200-1777914900@plaza-mons.be
SUMMARY:Les rayons et les ombres
DESCRIPTION:La guerre des prix\n\n\n\n\n\n			\n				Bande annonce\n			\n		 \n\n\n\n\n\n\n\n\n\n\n\n\n\n\n\n\n\n\n\n\n\n\n\n\n\n\n\n\n\n\n\n\n\n\n\n\n\n\n\n\n\n\n\n\n\n\n\n\n\n\n\n\n\nBande annonce
URL:https://plaza-mons.be/film/les-rayons-et-les-ombres/2026-05-04
ATTACH;FMTTYPE=image/jpeg:https://plaza-mons.be/wp-content/uploads/2026/03/lesrayonsetlesombres-cineart-def-original.jpg
END:VEVENT
BEGIN:VEVENT
DTSTART;TZID=Europe/Brussels:20260504T160000
DTEND;TZID=Europe/Brussels:20260504T171000
DTSTAMP:20260425T192711
CREATED:20260414T075414Z
LAST-MODIFIED:20260425T121349Z
UID:107236-1777910400-1777914600@plaza-mons.be
SUMMARY:Les contes du pommier
DESCRIPTION:La guerre des prix\n\n\n\n\n\n			\n				Bande annonce\n			\n		 \n\n\n\n\n\n\n\n\n\n\n\n\n\n\n\n\n\n\n\n\n\n\n\n\n\n\n\n\n\n\n\n\n\n\n\n\n\n\n\n\n\n\n\n\n\n\n\n\n\n\n\n\n\nBande annonce
URL:https://plaza-mons.be/film/les-contes-du-pommier/2026-05-04
ATTACH;FMTTYPE=image/jpeg:https://plaza-mons.be/wp-content/uploads/2026/03/les-contes-du-pommier-2.jpg
END:VEVENT
BEGIN:VEVENT
DTSTART;TZID=Europe/Brussels:20260504T160000
DTEND;TZID=Europe/Brussels:20260504T173300
DTSTAMP:20260425T192711
CREATED:20260127T152216Z
LAST-MODIFIED:20260127T152216Z
UID:107227-1777910400-1777915980@plaza-mons.be
SUMMARY:Le chant des forêts
DESCRIPTION:La guerre des prix\n\n\n\n\n\n			\n				Bande annonce\n			\n		 \n\n\n\n\n\n\n\n\n\n\n\n\n\n\n\n\n\n\n\n\n\n\n\n\n\n\n\n\n\n\n\n\n\n\n\n\n\n\n\n\n\n\n\n\n\n\n\n\n\n\n\n\n\nBande annonce
URL:https://plaza-mons.be/film/le-chant-des-forets/2026-05-04
ATTACH;FMTTYPE=image/jpeg:https://plaza-mons.be/wp-content/uploads/2026/01/lechantdesforets-cineart-70x100-fr-original.jpg
END:VEVENT
BEGIN:VEVENT
DTSTART;TZID=Europe/Brussels:20260504T160000
DTEND;TZID=Europe/Brussels:20260504T173600
DTSTAMP:20260425T192711
CREATED:20260414T080106Z
LAST-MODIFIED:20260414T080106Z
UID:107262-1777910400-1777916160@plaza-mons.be
SUMMARY:Ceux qui comptent
DESCRIPTION:La guerre des prix\n\n\n\n\n\n			\n				Bande annonce\n			\n		 \n\n\n\n\n\n\n\n\n\n\n\n\n\n\n\n\n\n\n\n\n\n\n\n\n\n\n\n\n\n\n\n\n\n\n\n\n\n\n\n\n\n\n\n\n\n\n\n\n\n\n\n\n\nBande annonce
URL:https://plaza-mons.be/film/ceux-qui-comptent/2026-05-04
ATTACH;FMTTYPE=image/jpeg:https://plaza-mons.be/wp-content/uploads/2026/04/ceux-qui-comptent2.jpg
END:VEVENT
BEGIN:VEVENT
DTSTART;TZID=Europe/Brussels:20260504T180000
DTEND;TZID=Europe/Brussels:20260504T194600
DTSTAMP:20260425T192711
CREATED:20260421T114317Z
LAST-MODIFIED:20260421T114317Z
UID:107276-1777917600-1777923960@plaza-mons.be
SUMMARY:The Drama
DESCRIPTION:La guerre des prix\n\n\n\n\n\n			\n				Bande annonce\n			\n		 \n\n\n\n\n\n\n\n\n\n\n\n\n\n\n\n\n\n\n\n\n\n\n\n\n\n\n\n\n\n\n\n\n\n\n\n\n\n\n\n\n\n\n\n\n\n\n\n\n\n\n\n\n\nBande annonce
URL:https://plaza-mons.be/film/the-drama/2026-05-04
CATEGORIES:Nouveauté
ATTACH;FMTTYPE=image/jpeg:https://plaza-mons.be/wp-content/uploads/2026/04/the-drama.jpg
END:VEVENT
BEGIN:VEVENT
DTSTART;TZID=Europe/Brussels:20260504T180000
DTEND;TZID=Europe/Brussels:20260504T195500
DTSTAMP:20260425T192711
CREATED:20260425T120645Z
LAST-MODIFIED:20260425T120646Z
UID:107358-1777917600-1777924500@plaza-mons.be
SUMMARY:Juste une illusion
DESCRIPTION:La guerre des prix\n\n\n\n\n\n			\n				Bande annonce\n			\n		 \n\n\n\n\n\n\n\n\n\n\n\n\n\n\n\n\n\n\n\n\n\n\n\n\n\n\n\n\n\n\n\n\n\n\n\n\n\n\n\n\n\n\n\n\n\n\n\n\n\n\n\n\n\nBande annonce
URL:https://plaza-mons.be/film/juste-une-illusion/2026-05-04
CATEGORIES:Nouveauté
ATTACH;FMTTYPE=image/jpeg:https://plaza-mons.be/wp-content/uploads/2026/04/juste-une-illusion.jpg
END:VEVENT
BEGIN:VEVENT
DTSTART;TZID=Europe/Brussels:20260504T180000
DTEND;TZID=Europe/Brussels:20260504T200100
DTSTAMP:20260425T192711
CREATED:20260317T113154Z
LAST-MODIFIED:20260317T113154Z
UID:107344-1777917600-1777924860@plaza-mons.be
SUMMARY:I swear
DESCRIPTION:La guerre des prix\n\n\n\n\n\n			\n				Bande annonce\n			\n		 \n\n\n\n\n\n\n\n\n\n\n\n\n\n\n\n\n\n\n\n\n\n\n\n\n\n\n\n\n\n\n\n\n\n\n\n\n\n\n\n\n\n\n\n\n\n\n\n\n\n\n\n\n\nBande annonce
URL:https://plaza-mons.be/film/i-swear/2026-05-04
ATTACH;FMTTYPE=image/jpeg:https://plaza-mons.be/wp-content/uploads/2026/03/i-swear-1.jpg
END:VEVENT
BEGIN:VEVENT
DTSTART;TZID=Europe/Brussels:20260504T180000
DTEND;TZID=Europe/Brussels:20260504T200800
DTSTAMP:20260425T192711
CREATED:20260421T114115Z
LAST-MODIFIED:20260425T121355Z
UID:107332-1777917600-1777925280@plaza-mons.be
SUMMARY:Yellow Letters
DESCRIPTION:La guerre des prix\n\n\n\n\n\n			\n				Bande annonce\n			\n		 \n\n\n\n\n\n\n\n\n\n\n\n\n\n\n\n\n\n\n\n\n\n\n\n\n\n\n\n\n\n\n\n\n\n\n\n\n\n\n\n\n\n\n\n\n\n\n\n\n\n\n\n\n\nBande annonce
URL:https://plaza-mons.be/film/yellow-letters/2026-05-04
ATTACH;FMTTYPE=image/jpeg:https://plaza-mons.be/wp-content/uploads/2026/04/yellow-letters-1.jpg
END:VEVENT
BEGIN:VEVENT
DTSTART;TZID=Europe/Brussels:20260504T203000
DTEND;TZID=Europe/Brussels:20260504T221000
DTSTAMP:20260425T192711
CREATED:20260421T113952Z
LAST-MODIFIED:20260425T121525Z
UID:107321-1777926600-1777932600@plaza-mons.be
SUMMARY:Alter ego
DESCRIPTION:La guerre des prix\n\n\n\n\n\n			\n				Bande annonce\n			\n		 \n\n\n\n\n\n\n\n\n\n\n\n\n\n\n\n\n\n\n\n\n\n\n\n\n\n\n\n\n\n\n\n\n\n\n\n\n\n\n\n\n\n\n\n\n\n\n\n\n\n\n\n\n\nBande annonce
URL:https://plaza-mons.be/film/alter-ego/2026-05-04
ATTACH;FMTTYPE=image/jpeg:https://plaza-mons.be/wp-content/uploads/2026/04/alter-ego.jpg
END:VEVENT
BEGIN:VEVENT
DTSTART;TZID=Europe/Brussels:20260504T203000
DTEND;TZID=Europe/Brussels:20260504T221500
DTSTAMP:20260425T192711
CREATED:20260414T080306Z
LAST-MODIFIED:20260414T080306Z
UID:107299-1777926600-1777932900@plaza-mons.be
SUMMARY:La corde au cou (Dead Man's Wire)
DESCRIPTION:La guerre des prix\n\n\n\n\n\n			\n				Bande annonce\n			\n		 \n\n\n\n\n\n\n\n\n\n\n\n\n\n\n\n\n\n\n\n\n\n\n\n\n\n\n\n\n\n\n\n\n\n\n\n\n\n\n\n\n\n\n\n\n\n\n\n\n\n\n\n\n\nBande annonce
URL:https://plaza-mons.be/film/la-corde-au-cou-dead-mans-wire/2026-05-04
ATTACH;FMTTYPE=image/jpeg:https://plaza-mons.be/wp-content/uploads/2026/04/la-corde-au-coup-1sheet-fr-large-1.jpg
END:VEVENT
BEGIN:VEVENT
DTSTART;TZID=Europe/Brussels:20260504T203000
DTEND;TZID=Europe/Brussels:20260504T222500
DTSTAMP:20260425T192711
CREATED:20260425T121001Z
LAST-MODIFIED:20260425T121003Z
UID:107399-1777926600-1777933500@plaza-mons.be
SUMMARY:Sukkwan Island
DESCRIPTION:La guerre des prix\n\n\n\n\n\n			\n				Bande annonce\n			\n		 \n\n\n\n\n\n\n\n\n\n\n\n\n\n\n\n\n\n\n\n\n\n\n\n\n\n\n\n\n\n\n\n\n\n\n\n\n\n\n\n\n\n\n\n\n\n\n\n\n\n\n\n\n\nBande annonce
URL:https://plaza-mons.be/film/sukkwan-island/2026-05-04
CATEGORIES:Nouveauté
ATTACH;FMTTYPE=image/jpeg:https://plaza-mons.be/wp-content/uploads/2026/04/sukkwan-island.jpg
END:VEVENT
BEGIN:VEVENT
DTSTART;TZID=Europe/Brussels:20260504T203000
DTEND;TZID=Europe/Brussels:20260504T222900
DTSTAMP:20260425T192711
CREATED:20260425T121151Z
LAST-MODIFIED:20260425T121152Z
UID:107373-1777926600-1777933740@plaza-mons.be
SUMMARY:Die my Love
DESCRIPTION:La guerre des prix\n\n\n\n\n\n			\n				Bande annonce\n			\n		 \n\n\n\n\n\n\n\n\n\n\n\n\n\n\n\n\n\n\n\n\n\n\n\n\n\n\n\n\n\n\n\n\n\n\n\n\n\n\n\n\n\n\n\n\n\n\n\n\n\n\n\n\n\nBande annonce
URL:https://plaza-mons.be/film/die-my-love-2/2026-05-04
CATEGORIES:Nouveauté
ATTACH;FMTTYPE=image/jpeg:https://plaza-mons.be/wp-content/uploads/2026/04/diemylove-cineart-def-large.jpg
END:VEVENT
END:VCALENDAR