BEGIN:VCALENDAR
VERSION:2.0
PRODID:-//Plaza Arthouse Cinema - ECPv5.14.1//NONSGML v1.0//EN
CALSCALE:GREGORIAN
METHOD:PUBLISH
X-WR-CALNAME:Plaza Arthouse Cinema
X-ORIGINAL-URL:https://plaza-mons.be
X-WR-CALDESC:Events for Plaza Arthouse Cinema
REFRESH-INTERVAL;VALUE=DURATION:PT1H
X-Robots-Tag:noindex
X-PUBLISHED-TTL:PT1H
BEGIN:VTIMEZONE
TZID:Europe/Brussels
BEGIN:DAYLIGHT
TZOFFSETFROM:+0100
TZOFFSETTO:+0200
TZNAME:CEST
DTSTART:20260329T010000
END:DAYLIGHT
BEGIN:STANDARD
TZOFFSETFROM:+0200
TZOFFSETTO:+0100
TZNAME:CET
DTSTART:20261025T010000
END:STANDARD
END:VTIMEZONE
BEGIN:VEVENT
DTSTART;TZID=Europe/Brussels:20260425T183000
DTEND;TZID=Europe/Brussels:20260425T200600
DTSTAMP:20260423T204648
CREATED:20260414T075755Z
LAST-MODIFIED:20260423T000203Z
UID:106951-1777141800-1777147560@plaza-mons.be
SUMMARY:Beginnings
DESCRIPTION:Yellow Letters\n\n\n\n\n\n			\n				Bande annonce\n			\n		 \n\n\n\n\n\n\n\n\n\n\n\n\n\n\n\n\n\n\n\n\n\n\n\n\n\n\n\n\n\n\n\n\n\n\n\n\n\n\n\n\n\n\n\n\n\n\n\n\n\n\n\n\n\nBande annonce
URL:https://plaza-mons.be/film/beginnings/2026-04-25
ATTACH;FMTTYPE=image/webp:https://plaza-mons.be/wp-content/uploads/2026/04/beginnings.webp
END:VEVENT
BEGIN:VEVENT
DTSTART;TZID=Europe/Brussels:20260425T193000
DTEND;TZID=Europe/Brussels:20260425T224500
DTSTAMP:20260423T204648
CREATED:20260331T113653Z
LAST-MODIFIED:20260423T000322Z
UID:106976-1777145400-1777157100@plaza-mons.be
SUMMARY:Les rayons et les ombres
DESCRIPTION:Yellow Letters\n\n\n\n\n\n			\n				Bande annonce\n			\n		 \n\n\n\n\n\n\n\n\n\n\n\n\n\n\n\n\n\n\n\n\n\n\n\n\n\n\n\n\n\n\n\n\n\n\n\n\n\n\n\n\n\n\n\n\n\n\n\n\n\n\n\n\n\nBande annonce
URL:https://plaza-mons.be/film/les-rayons-et-les-ombres/2026-04-25
ATTACH;FMTTYPE=image/jpeg:https://plaza-mons.be/wp-content/uploads/2026/03/lesrayonsetlesombres-cineart-def-original.jpg
END:VEVENT
BEGIN:VEVENT
DTSTART;TZID=Europe/Brussels:20260425T203000
DTEND;TZID=Europe/Brussels:20260425T221000
DTSTAMP:20260423T204648
CREATED:20260421T113952Z
LAST-MODIFIED:20260423T000329Z
UID:106995-1777149000-1777155000@plaza-mons.be
SUMMARY:Alter ego
DESCRIPTION:Yellow Letters\n\n\n\n\n\n			\n				Bande annonce\n			\n		 \n\n\n\n\n\n\n\n\n\n\n\n\n\n\n\n\n\n\n\n\n\n\n\n\n\n\n\n\n\n\n\n\n\n\n\n\n\n\n\n\n\n\n\n\n\n\n\n\n\n\n\n\n\nBande annonce
URL:https://plaza-mons.be/film/alter-ego/2026-04-25
CATEGORIES:Nouveauté
ATTACH;FMTTYPE=image/jpeg:https://plaza-mons.be/wp-content/uploads/2026/04/alter-ego.jpg
END:VEVENT
BEGIN:VEVENT
DTSTART;TZID=Europe/Brussels:20260425T203000
DTEND;TZID=Europe/Brussels:20260425T221600
DTSTAMP:20260423T204648
CREATED:20260421T114317Z
LAST-MODIFIED:20260423T000331Z
UID:107007-1777149000-1777155360@plaza-mons.be
SUMMARY:The Drama
DESCRIPTION:Yellow Letters\n\n\n\n\n\n			\n				Bande annonce\n			\n		 \n\n\n\n\n\n\n\n\n\n\n\n\n\n\n\n\n\n\n\n\n\n\n\n\n\n\n\n\n\n\n\n\n\n\n\n\n\n\n\n\n\n\n\n\n\n\n\n\n\n\n\n\n\nBande annonce
URL:https://plaza-mons.be/film/the-drama/2026-04-25/2
CATEGORIES:Nouveauté
ATTACH;FMTTYPE=image/jpeg:https://plaza-mons.be/wp-content/uploads/2026/04/the-drama.jpg
END:VEVENT
BEGIN:VEVENT
DTSTART;TZID=Europe/Brussels:20260425T203000
DTEND;TZID=Europe/Brussels:20260425T223800
DTSTAMP:20260423T204648
CREATED:20260421T114115Z
LAST-MODIFIED:20260423T000333Z
UID:107015-1777149000-1777156680@plaza-mons.be
SUMMARY:Yellow Letters
DESCRIPTION:Yellow Letters\n\n\n\n\n\n			\n				Bande annonce\n			\n		 \n\n\n\n\n\n\n\n\n\n\n\n\n\n\n\n\n\n\n\n\n\n\n\n\n\n\n\n\n\n\n\n\n\n\n\n\n\n\n\n\n\n\n\n\n\n\n\n\n\n\n\n\n\nBande annonce
URL:https://plaza-mons.be/film/yellow-letters/2026-04-25
CATEGORIES:Nouveauté
ATTACH;FMTTYPE=image/jpeg:https://plaza-mons.be/wp-content/uploads/2026/04/yellow-letters-1.jpg
END:VEVENT
BEGIN:VEVENT
DTSTART;TZID=Europe/Brussels:20260426T110000
DTEND;TZID=Europe/Brussels:20260426T110000
DTSTAMP:20260423T204648
CREATED:20260331T114759Z
LAST-MODIFIED:20260423T000351Z
UID:107036-1777201200-1777201200@plaza-mons.be
SUMMARY:L'ourse et l'oiseau
DESCRIPTION:Yellow Letters\n\n\n\n\n\n			\n				Bande annonce\n			\n		 \n\n\n\n\n\n\n\n\n\n\n\n\n\n\n\n\n\n\n\n\n\n\n\n\n\n\n\n\n\n\n\n\n\n\n\n\n\n\n\n\n\n\n\n\n\n\n\n\n\n\n\n\n\nBande annonce
URL:https://plaza-mons.be/film/lourse-et-loiseau/2026-04-26
ATTACH;FMTTYPE=image/jpeg:https://plaza-mons.be/wp-content/uploads/2026/03/ourse-et-oiseau-affiche-original-1.jpg
END:VEVENT
BEGIN:VEVENT
DTSTART;TZID=Europe/Brussels:20260426T110000
DTEND;TZID=Europe/Brussels:20260426T121000
DTSTAMP:20260423T204648
CREATED:20260414T075414Z
LAST-MODIFIED:20260423T000355Z
UID:107041-1777201200-1777205400@plaza-mons.be
SUMMARY:Les contes du pommier
DESCRIPTION:Yellow Letters\n\n\n\n\n\n			\n				Bande annonce\n			\n		 \n\n\n\n\n\n\n\n\n\n\n\n\n\n\n\n\n\n\n\n\n\n\n\n\n\n\n\n\n\n\n\n\n\n\n\n\n\n\n\n\n\n\n\n\n\n\n\n\n\n\n\n\n\nBande annonce
URL:https://plaza-mons.be/film/les-contes-du-pommier/2026-04-26
CATEGORIES:Nouveauté
ATTACH;FMTTYPE=image/jpeg:https://plaza-mons.be/wp-content/uploads/2026/03/les-contes-du-pommier-2.jpg
END:VEVENT
BEGIN:VEVENT
DTSTART;TZID=Europe/Brussels:20260426T110000
DTEND;TZID=Europe/Brussels:20260426T122200
DTSTAMP:20260423T204648
CREATED:20260421T114855Z
LAST-MODIFIED:20260423T000358Z
UID:107046-1777201200-1777206120@plaza-mons.be
SUMMARY:Super Charlie
DESCRIPTION:Yellow Letters\n\n\n\n\n\n			\n				Bande annonce\n			\n		 \n\n\n\n\n\n\n\n\n\n\n\n\n\n\n\n\n\n\n\n\n\n\n\n\n\n\n\n\n\n\n\n\n\n\n\n\n\n\n\n\n\n\n\n\n\n\n\n\n\n\n\n\n\nBande annonce
URL:https://plaza-mons.be/film/super-charlie/2026-04-26
CATEGORIES:Nouveauté
ATTACH;FMTTYPE=image/jpeg:https://plaza-mons.be/wp-content/uploads/2026/04/super.jpg
END:VEVENT
BEGIN:VEVENT
DTSTART;TZID=Europe/Brussels:20260426T110000
DTEND;TZID=Europe/Brussels:20260426T123300
DTSTAMP:20260423T204649
CREATED:20260127T152216Z
LAST-MODIFIED:20260423T000106Z
UID:107028-1777201200-1777206780@plaza-mons.be
SUMMARY:Le chant des forêts
DESCRIPTION:Yellow Letters\n\n\n\n\n\n			\n				Bande annonce\n			\n		 \n\n\n\n\n\n\n\n\n\n\n\n\n\n\n\n\n\n\n\n\n\n\n\n\n\n\n\n\n\n\n\n\n\n\n\n\n\n\n\n\n\n\n\n\n\n\n\n\n\n\n\n\n\nBande annonce
URL:https://plaza-mons.be/film/le-chant-des-forets/2026-04-26
ATTACH;FMTTYPE=image/jpeg:https://plaza-mons.be/wp-content/uploads/2026/01/lechantdesforets-cineart-70x100-fr-original.jpg
END:VEVENT
BEGIN:VEVENT
DTSTART;TZID=Europe/Brussels:20260426T140000
DTEND;TZID=Europe/Brussels:20260426T140000
DTSTAMP:20260423T204649
CREATED:20260331T114759Z
LAST-MODIFIED:20260423T000352Z
UID:107037-1777212000-1777212000@plaza-mons.be
SUMMARY:L'ourse et l'oiseau
DESCRIPTION:Yellow Letters\n\n\n\n\n\n			\n				Bande annonce\n			\n		 \n\n\n\n\n\n\n\n\n\n\n\n\n\n\n\n\n\n\n\n\n\n\n\n\n\n\n\n\n\n\n\n\n\n\n\n\n\n\n\n\n\n\n\n\n\n\n\n\n\n\n\n\n\nBande annonce
URL:https://plaza-mons.be/film/lourse-et-loiseau/2026-04-26/3
ATTACH;FMTTYPE=image/jpeg:https://plaza-mons.be/wp-content/uploads/2026/03/ourse-et-oiseau-affiche-original-1.jpg
END:VEVENT
BEGIN:VEVENT
DTSTART;TZID=Europe/Brussels:20260426T140000
DTEND;TZID=Europe/Brussels:20260426T153600
DTSTAMP:20260423T204649
CREATED:20260414T080106Z
LAST-MODIFIED:20260423T000234Z
UID:106985-1777212000-1777217760@plaza-mons.be
SUMMARY:Ceux qui comptent
DESCRIPTION:Yellow Letters\n\n\n\n\n\n			\n				Bande annonce\n			\n		 \n\n\n\n\n\n\n\n\n\n\n\n\n\n\n\n\n\n\n\n\n\n\n\n\n\n\n\n\n\n\n\n\n\n\n\n\n\n\n\n\n\n\n\n\n\n\n\n\n\n\n\n\n\nBande annonce
URL:https://plaza-mons.be/film/ceux-qui-comptent/2026-04-26
ATTACH;FMTTYPE=image/jpeg:https://plaza-mons.be/wp-content/uploads/2026/04/ceux-qui-comptent2.jpg
END:VEVENT
BEGIN:VEVENT
DTSTART;TZID=Europe/Brussels:20260426T140000
DTEND;TZID=Europe/Brussels:20260426T153600
DTSTAMP:20260423T204649
CREATED:20260421T114445Z
LAST-MODIFIED:20260423T000124Z
UID:107023-1777212000-1777217760@plaza-mons.be
SUMMARY:La guerre des prix
DESCRIPTION:Yellow Letters\n\n\n\n\n\n			\n				Bande annonce\n			\n		 \n\n\n\n\n\n\n\n\n\n\n\n\n\n\n\n\n\n\n\n\n\n\n\n\n\n\n\n\n\n\n\n\n\n\n\n\n\n\n\n\n\n\n\n\n\n\n\n\n\n\n\n\n\nBande annonce
URL:https://plaza-mons.be/film/la-guerre-des-prix/2026-04-26
CATEGORIES:Nouveauté
ATTACH;FMTTYPE=image/png:https://plaza-mons.be/wp-content/uploads/2026/04/la-guerre-des-prix.png
END:VEVENT
BEGIN:VEVENT
DTSTART;TZID=Europe/Brussels:20260426T140000
DTEND;TZID=Europe/Brussels:20260426T160100
DTSTAMP:20260423T204649
CREATED:20260317T113154Z
LAST-MODIFIED:20260423T000120Z
UID:106957-1777212000-1777219260@plaza-mons.be
SUMMARY:I swear
DESCRIPTION:Yellow Letters\n\n\n\n\n\n			\n				Bande annonce\n			\n		 \n\n\n\n\n\n\n\n\n\n\n\n\n\n\n\n\n\n\n\n\n\n\n\n\n\n\n\n\n\n\n\n\n\n\n\n\n\n\n\n\n\n\n\n\n\n\n\n\n\n\n\n\n\nBande annonce
URL:https://plaza-mons.be/film/i-swear/2026-04-26
ATTACH;FMTTYPE=image/jpeg:https://plaza-mons.be/wp-content/uploads/2026/03/i-swear-1.jpg
END:VEVENT
BEGIN:VEVENT
DTSTART;TZID=Europe/Brussels:20260426T160000
DTEND;TZID=Europe/Brussels:20260426T174600
DTSTAMP:20260423T204649
CREATED:20260421T114317Z
LAST-MODIFIED:20260423T000331Z
UID:107008-1777219200-1777225560@plaza-mons.be
SUMMARY:The Drama
DESCRIPTION:Yellow Letters\n\n\n\n\n\n			\n				Bande annonce\n			\n		 \n\n\n\n\n\n\n\n\n\n\n\n\n\n\n\n\n\n\n\n\n\n\n\n\n\n\n\n\n\n\n\n\n\n\n\n\n\n\n\n\n\n\n\n\n\n\n\n\n\n\n\n\n\nBande annonce
URL:https://plaza-mons.be/film/the-drama/2026-04-26
CATEGORIES:Nouveauté
ATTACH;FMTTYPE=image/jpeg:https://plaza-mons.be/wp-content/uploads/2026/04/the-drama.jpg
END:VEVENT
BEGIN:VEVENT
DTSTART;TZID=Europe/Brussels:20260426T160000
DTEND;TZID=Europe/Brussels:20260426T175200
DTSTAMP:20260423T204649
CREATED:20260331T114602Z
LAST-MODIFIED:20260423T000123Z
UID:107033-1777219200-1777225920@plaza-mons.be
SUMMARY:Une histoire vraie
DESCRIPTION:Yellow Letters
URL:https://plaza-mons.be/film/une-histoire-vraie/2026-04-26
ATTACH;FMTTYPE=image/jpeg:https://plaza-mons.be/wp-content/uploads/2026/03/une-histoire-vraie-retrospective-david-lynch.jpg
END:VEVENT
BEGIN:VEVENT
DTSTART;TZID=Europe/Brussels:20260426T161500
DTEND;TZID=Europe/Brussels:20260426T173700
DTSTAMP:20260423T204649
CREATED:20260421T114855Z
LAST-MODIFIED:20260423T000358Z
UID:107047-1777220100-1777225020@plaza-mons.be
SUMMARY:Super Charlie
DESCRIPTION:Yellow Letters\n\n\n\n\n\n			\n				Bande annonce\n			\n		 \n\n\n\n\n\n\n\n\n\n\n\n\n\n\n\n\n\n\n\n\n\n\n\n\n\n\n\n\n\n\n\n\n\n\n\n\n\n\n\n\n\n\n\n\n\n\n\n\n\n\n\n\n\nBande annonce
URL:https://plaza-mons.be/film/super-charlie/2026-04-26/2
CATEGORIES:Nouveauté
ATTACH;FMTTYPE=image/jpeg:https://plaza-mons.be/wp-content/uploads/2026/04/super.jpg
END:VEVENT
BEGIN:VEVENT
DTSTART;TZID=Europe/Brussels:20260426T163000
DTEND;TZID=Europe/Brussels:20260426T194500
DTSTAMP:20260423T204649
CREATED:20260331T113653Z
LAST-MODIFIED:20260423T000324Z
UID:106977-1777221000-1777232700@plaza-mons.be
SUMMARY:Les rayons et les ombres
DESCRIPTION:Yellow Letters\n\n\n\n\n\n			\n				Bande annonce\n			\n		 \n\n\n\n\n\n\n\n\n\n\n\n\n\n\n\n\n\n\n\n\n\n\n\n\n\n\n\n\n\n\n\n\n\n\n\n\n\n\n\n\n\n\n\n\n\n\n\n\n\n\n\n\n\nBande annonce
URL:https://plaza-mons.be/film/les-rayons-et-les-ombres/2026-04-26
ATTACH;FMTTYPE=image/jpeg:https://plaza-mons.be/wp-content/uploads/2026/03/lesrayonsetlesombres-cineart-def-original.jpg
END:VEVENT
BEGIN:VEVENT
DTSTART;TZID=Europe/Brussels:20260426T180000
DTEND;TZID=Europe/Brussels:20260426T195300
DTSTAMP:20260423T204649
CREATED:20260408T122335Z
LAST-MODIFIED:20260423T000130Z
UID:106960-1777226400-1777233180@plaza-mons.be
SUMMARY:If I Had Legs I'd Kick You
DESCRIPTION:Yellow Letters
URL:https://plaza-mons.be/film/if-i-had-legs-id-kick-you/2026-04-26
ATTACH;FMTTYPE=image/jpeg:https://plaza-mons.be/wp-content/uploads/2026/04/if-i-had-legs-70x100-fr-original-1.jpg
END:VEVENT
BEGIN:VEVENT
DTSTART;TZID=Europe/Brussels:20260426T181500
DTEND;TZID=Europe/Brussels:20260426T200000
DTSTAMP:20260423T204649
CREATED:20260414T080306Z
LAST-MODIFIED:20260423T000229Z
UID:106971-1777227300-1777233600@plaza-mons.be
SUMMARY:La corde au cou (Dead Man's Wire)
DESCRIPTION:Yellow Letters\n\n\n\n\n\n			\n				Bande annonce\n			\n		 \n\n\n\n\n\n\n\n\n\n\n\n\n\n\n\n\n\n\n\n\n\n\n\n\n\n\n\n\n\n\n\n\n\n\n\n\n\n\n\n\n\n\n\n\n\n\n\n\n\n\n\n\n\nBande annonce
URL:https://plaza-mons.be/film/la-corde-au-cou-dead-mans-wire/2026-04-26
ATTACH;FMTTYPE=image/jpeg:https://plaza-mons.be/wp-content/uploads/2026/04/la-corde-au-coup-1sheet-fr-large-1.jpg
END:VEVENT
BEGIN:VEVENT
DTSTART;TZID=Europe/Brussels:20260426T183000
DTEND;TZID=Europe/Brussels:20260426T200400
DTSTAMP:20260423T204649
CREATED:20260408T122157Z
LAST-MODIFIED:20260423T000403Z
UID:106990-1777228200-1777233840@plaza-mons.be
SUMMARY:Les filles du ciel
DESCRIPTION:Yellow Letters\n\n\n\n\n\n			\n				Bande annonce\n			\n		 \n\n\n\n\n\n\n\n\n\n\n\n\n\n\n\n\n\n\n\n\n\n\n\n\n\n\n\n\n\n\n\n\n\n\n\n\n\n\n\n\n\n\n\n\n\n\n\n\n\n\n\n\n\nBande annonce
URL:https://plaza-mons.be/film/les-filles-du-ciel/2026-04-26
ATTACH;FMTTYPE=image/jpeg:https://plaza-mons.be/wp-content/uploads/2026/04/lesfillesduciel-cineart-def-original.jpg
END:VEVENT
BEGIN:VEVENT
DTSTART;TZID=Europe/Brussels:20260426T203000
DTEND;TZID=Europe/Brussels:20260426T221000
DTSTAMP:20260423T204649
CREATED:20260421T113952Z
LAST-MODIFIED:20260423T000329Z
UID:106996-1777235400-1777241400@plaza-mons.be
SUMMARY:Alter ego
DESCRIPTION:Yellow Letters\n\n\n\n\n\n			\n				Bande annonce\n			\n		 \n\n\n\n\n\n\n\n\n\n\n\n\n\n\n\n\n\n\n\n\n\n\n\n\n\n\n\n\n\n\n\n\n\n\n\n\n\n\n\n\n\n\n\n\n\n\n\n\n\n\n\n\n\nBande annonce
URL:https://plaza-mons.be/film/alter-ego/2026-04-26
CATEGORIES:Nouveauté
ATTACH;FMTTYPE=image/jpeg:https://plaza-mons.be/wp-content/uploads/2026/04/alter-ego.jpg
END:VEVENT
BEGIN:VEVENT
DTSTART;TZID=Europe/Brussels:20260426T203000
DTEND;TZID=Europe/Brussels:20260426T221600
DTSTAMP:20260423T204649
CREATED:20260421T114317Z
LAST-MODIFIED:20260423T000331Z
UID:107009-1777235400-1777241760@plaza-mons.be
SUMMARY:The Drama
DESCRIPTION:Yellow Letters\n\n\n\n\n\n			\n				Bande annonce\n			\n		 \n\n\n\n\n\n\n\n\n\n\n\n\n\n\n\n\n\n\n\n\n\n\n\n\n\n\n\n\n\n\n\n\n\n\n\n\n\n\n\n\n\n\n\n\n\n\n\n\n\n\n\n\n\nBande annonce
URL:https://plaza-mons.be/film/the-drama/2026-04-26/2
CATEGORIES:Nouveauté
ATTACH;FMTTYPE=image/jpeg:https://plaza-mons.be/wp-content/uploads/2026/04/the-drama.jpg
END:VEVENT
BEGIN:VEVENT
DTSTART;TZID=Europe/Brussels:20260426T203000
DTEND;TZID=Europe/Brussels:20260426T223600
DTSTAMP:20260423T204649
CREATED:20260408T121844Z
LAST-MODIFIED:20260423T000134Z
UID:107000-1777235400-1777242960@plaza-mons.be
SUMMARY:The Bride !
DESCRIPTION:Yellow Letters\n\n\n\n\n\n			\n				Bande annonce\n			\n		 \n\n\n\n\n\n\n\n\n\n\n\n\n\n\n\n\n\n\n\n\n\n\n\n\n\n\n\n\n\n\n\n\n\n\n\n\n\n\n\n\n\n\n\n\n\n\n\n\n\n\n\n\n\nBande annonce
URL:https://plaza-mons.be/film/the-bride/2026-04-26
ATTACH;FMTTYPE=image/jpeg:https://plaza-mons.be/wp-content/uploads/2026/04/the-bride.jpg
END:VEVENT
BEGIN:VEVENT
DTSTART;TZID=Europe/Brussels:20260426T203000
DTEND;TZID=Europe/Brussels:20260426T223800
DTSTAMP:20260423T204649
CREATED:20260421T114115Z
LAST-MODIFIED:20260423T000335Z
UID:107016-1777235400-1777243080@plaza-mons.be
SUMMARY:Yellow Letters
DESCRIPTION:Yellow Letters\n\n\n\n\n\n			\n				Bande annonce\n			\n		 \n\n\n\n\n\n\n\n\n\n\n\n\n\n\n\n\n\n\n\n\n\n\n\n\n\n\n\n\n\n\n\n\n\n\n\n\n\n\n\n\n\n\n\n\n\n\n\n\n\n\n\n\n\nBande annonce
URL:https://plaza-mons.be/film/yellow-letters/2026-04-26
CATEGORIES:Nouveauté
ATTACH;FMTTYPE=image/jpeg:https://plaza-mons.be/wp-content/uploads/2026/04/yellow-letters-1.jpg
END:VEVENT
BEGIN:VEVENT
DTSTART;TZID=Europe/Brussels:20260427T140000
DTEND;TZID=Europe/Brussels:20260427T151000
DTSTAMP:20260423T204649
CREATED:20260414T075414Z
LAST-MODIFIED:20260423T000355Z
UID:107042-1777298400-1777302600@plaza-mons.be
SUMMARY:Les contes du pommier
DESCRIPTION:Yellow Letters\n\n\n\n\n\n			\n				Bande annonce\n			\n		 \n\n\n\n\n\n\n\n\n\n\n\n\n\n\n\n\n\n\n\n\n\n\n\n\n\n\n\n\n\n\n\n\n\n\n\n\n\n\n\n\n\n\n\n\n\n\n\n\n\n\n\n\n\nBande annonce
URL:https://plaza-mons.be/film/les-contes-du-pommier/2026-04-27
CATEGORIES:Nouveauté
ATTACH;FMTTYPE=image/jpeg:https://plaza-mons.be/wp-content/uploads/2026/03/les-contes-du-pommier-2.jpg
END:VEVENT
BEGIN:VEVENT
DTSTART;TZID=Europe/Brussels:20260427T140000
DTEND;TZID=Europe/Brussels:20260427T152200
DTSTAMP:20260423T204649
CREATED:20260421T114855Z
LAST-MODIFIED:20260423T000358Z
UID:107048-1777298400-1777303320@plaza-mons.be
SUMMARY:Super Charlie
DESCRIPTION:Yellow Letters\n\n\n\n\n\n			\n				Bande annonce\n			\n		 \n\n\n\n\n\n\n\n\n\n\n\n\n\n\n\n\n\n\n\n\n\n\n\n\n\n\n\n\n\n\n\n\n\n\n\n\n\n\n\n\n\n\n\n\n\n\n\n\n\n\n\n\n\nBande annonce
URL:https://plaza-mons.be/film/super-charlie/2026-04-27
CATEGORIES:Nouveauté
ATTACH;FMTTYPE=image/jpeg:https://plaza-mons.be/wp-content/uploads/2026/04/super.jpg
END:VEVENT
BEGIN:VEVENT
DTSTART;TZID=Europe/Brussels:20260427T140000
DTEND;TZID=Europe/Brussels:20260427T153300
DTSTAMP:20260423T204649
CREATED:20260127T152216Z
LAST-MODIFIED:20260423T000107Z
UID:107029-1777298400-1777303980@plaza-mons.be
SUMMARY:Le chant des forêts
DESCRIPTION:Yellow Letters\n\n\n\n\n\n			\n				Bande annonce\n			\n		 \n\n\n\n\n\n\n\n\n\n\n\n\n\n\n\n\n\n\n\n\n\n\n\n\n\n\n\n\n\n\n\n\n\n\n\n\n\n\n\n\n\n\n\n\n\n\n\n\n\n\n\n\n\nBande annonce
URL:https://plaza-mons.be/film/le-chant-des-forets/2026-04-27
ATTACH;FMTTYPE=image/jpeg:https://plaza-mons.be/wp-content/uploads/2026/01/lechantdesforets-cineart-70x100-fr-original.jpg
END:VEVENT
BEGIN:VEVENT
DTSTART;TZID=Europe/Brussels:20260427T150000
DTEND;TZID=Europe/Brussels:20260427T163400
DTSTAMP:20260423T204649
CREATED:20260408T121953Z
LAST-MODIFIED:20260423T000338Z
UID:106966-1777302000-1777307640@plaza-mons.be
SUMMARY:Christy and his Brother
DESCRIPTION:Yellow Letters\n\n\n\n\n\n			\n				Bande annonce\n			\n		 \n\n\n\n\n\n\n\n\n\n\n\n\n\n\n\n\n\n\n\n\n\n\n\n\n\n\n\n\n\n\n\n\n\n\n\n\n\n\n\n\n\n\n\n\n\n\n\n\n\n\n\n\n\nBande annonce
URL:https://plaza-mons.be/film/christy-and-his-brother/2026-04-27
ATTACH;FMTTYPE=image/jpeg:https://plaza-mons.be/wp-content/uploads/2026/04/christy-and-his-brother.jpg
END:VEVENT
BEGIN:VEVENT
DTSTART;TZID=Europe/Brussels:20260427T160000
DTEND;TZID=Europe/Brussels:20260427T174000
DTSTAMP:20260423T204649
CREATED:20260421T113952Z
LAST-MODIFIED:20260423T000330Z
UID:106997-1777305600-1777311600@plaza-mons.be
SUMMARY:Alter ego
DESCRIPTION:Yellow Letters\n\n\n\n\n\n			\n				Bande annonce\n			\n		 \n\n\n\n\n\n\n\n\n\n\n\n\n\n\n\n\n\n\n\n\n\n\n\n\n\n\n\n\n\n\n\n\n\n\n\n\n\n\n\n\n\n\n\n\n\n\n\n\n\n\n\n\n\nBande annonce
URL:https://plaza-mons.be/film/alter-ego/2026-04-27
CATEGORIES:Nouveauté
ATTACH;FMTTYPE=image/jpeg:https://plaza-mons.be/wp-content/uploads/2026/04/alter-ego.jpg
END:VEVENT
BEGIN:VEVENT
DTSTART;TZID=Europe/Brussels:20260427T160000
DTEND;TZID=Europe/Brussels:20260427T175300
DTSTAMP:20260423T204649
CREATED:20260408T122335Z
LAST-MODIFIED:20260423T000130Z
UID:106961-1777305600-1777312380@plaza-mons.be
SUMMARY:If I Had Legs I'd Kick You
DESCRIPTION:Yellow Letters
URL:https://plaza-mons.be/film/if-i-had-legs-id-kick-you/2026-04-27
ATTACH;FMTTYPE=image/jpeg:https://plaza-mons.be/wp-content/uploads/2026/04/if-i-had-legs-70x100-fr-original-1.jpg
END:VEVENT
END:VCALENDAR