BEGIN:VCALENDAR
VERSION:2.0
PRODID:-//Plaza Arthouse Cinema - ECPv5.14.1//NONSGML v1.0//EN
CALSCALE:GREGORIAN
METHOD:PUBLISH
X-WR-CALNAME:Plaza Arthouse Cinema
X-ORIGINAL-URL:https://plaza-mons.be
X-WR-CALDESC:Events for Plaza Arthouse Cinema
REFRESH-INTERVAL;VALUE=DURATION:PT1H
X-Robots-Tag:noindex
X-PUBLISHED-TTL:PT1H
BEGIN:VTIMEZONE
TZID:Europe/Brussels
BEGIN:DAYLIGHT
TZOFFSETFROM:+0100
TZOFFSETTO:+0200
TZNAME:CEST
DTSTART:20250330T010000
END:DAYLIGHT
BEGIN:STANDARD
TZOFFSETFROM:+0200
TZOFFSETTO:+0100
TZNAME:CET
DTSTART:20251026T010000
END:STANDARD
END:VTIMEZONE
BEGIN:VEVENT
DTSTART;TZID=Europe/Brussels:20251006T150000
DTEND;TZID=Europe/Brussels:20251006T171100
DTSTAMP:20260425T204852
CREATED:20250904T093604Z
LAST-MODIFIED:20251006T000018Z
UID:96178-1759762800-1759770660@plaza-mons.be
SUMMARY:The North
DESCRIPTION:Le Corbusier à  Chandigarh : La  Force de l’utopie  – Séance spéciale\n\n\n\n\n\n			\n				Bande annonce\n			\n		 \n\n\n\n\n\n\n\n\n\n\n\n\n\n\n\n\n\n\n\n\n\n\n\n\n\n\n\n\n\n\n\n\n\n\n\n\n\n\n\n\n\n\n\n\n\n\n\n\n\n\n\n\n\nBande annonce
URL:https://plaza-mons.be/film/the-north/2025-10-06
CATEGORIES:Documentaire
ATTACH;FMTTYPE=image/png:https://plaza-mons.be/wp-content/uploads/2025/09/the-north-be-onlinemedium-original.png
END:VEVENT
BEGIN:VEVENT
DTSTART;TZID=Europe/Brussels:20251006T180000
DTEND;TZID=Europe/Brussels:20251006T191200
DTSTAMP:20260425T204852
CREATED:20250905T101951Z
LAST-MODIFIED:20251006T000027Z
UID:95409-1759773600-1759777920@plaza-mons.be
SUMMARY:Séance-débat :  9999
DESCRIPTION:Le Corbusier à  Chandigarh : La  Force de l’utopie  – Séance spéciale\n\n\n\n\n\n			\n				Bande annonce\n			\n		 \n\n\n\n\n\n\n\n\n\n\n\n\n\n\n\n\n\n\n\n\n\n\n\n\n\n\n\n\n\n\n\n\n\n\n\n\n\n\n\n\n\n\n\n\n\n\n\n\n\n\n\n\n\nBande annonce
URL:https://plaza-mons.be/film/seance-debat-9999/2025-10-06
CATEGORIES:Avant-première,Documentaire
ATTACH;FMTTYPE=image/jpeg:https://plaza-mons.be/wp-content/uploads/2025/09/9999-poster-1.jpg
END:VEVENT
BEGIN:VEVENT
DTSTART;TZID=Europe/Brussels:20251006T180000
DTEND;TZID=Europe/Brussels:20251006T194800
DTSTAMP:20260425T204852
CREATED:20250904T102225Z
LAST-MODIFIED:20251013T000353Z
UID:96186-1759773600-1759780080@plaza-mons.be
SUMMARY:Put Your Soul on Your Hand and Walk
DESCRIPTION:Le Corbusier à  Chandigarh : La  Force de l’utopie  – Séance spéciale\n\n\n\n\n\n			\n				Bande annonce\n			\n		 \n\n\n\n\n\n\n\n\n\n\n\n\n\n\n\n\n\n\n\n\n\n\n\n\n\n\n\n\n\n\n\n\n\n\n\n\n\n\n\n\n\n\n\n\n\n\n\n\n\n\n\n\n\nBande annonce
URL:https://plaza-mons.be/film/put-your-soul-on-your-hand-and-walk-2/2025-10-06
CATEGORIES:Documentaire,Drame
ATTACH;FMTTYPE=image/jpeg:https://plaza-mons.be/wp-content/uploads/2025/09/put-your-soul-poster.jpg
END:VEVENT
BEGIN:VEVENT
DTSTART;TZID=Europe/Brussels:20251007T150000
DTEND;TZID=Europe/Brussels:20251007T164800
DTSTAMP:20260425T204852
CREATED:20250904T102225Z
LAST-MODIFIED:20251013T000353Z
UID:96187-1759849200-1759855680@plaza-mons.be
SUMMARY:Put Your Soul on Your Hand and Walk
DESCRIPTION:Le Corbusier à  Chandigarh : La  Force de l’utopie  – Séance spéciale\n\n\n\n\n\n			\n				Bande annonce\n			\n		 \n\n\n\n\n\n\n\n\n\n\n\n\n\n\n\n\n\n\n\n\n\n\n\n\n\n\n\n\n\n\n\n\n\n\n\n\n\n\n\n\n\n\n\n\n\n\n\n\n\n\n\n\n\nBande annonce
URL:https://plaza-mons.be/film/put-your-soul-on-your-hand-and-walk-2/2025-10-07
CATEGORIES:Documentaire,Drame
ATTACH;FMTTYPE=image/jpeg:https://plaza-mons.be/wp-content/uploads/2025/09/put-your-soul-poster.jpg
END:VEVENT
BEGIN:VEVENT
DTSTART;TZID=Europe/Brussels:20251008T174500
DTEND;TZID=Europe/Brussels:20251008T193300
DTSTAMP:20260425T204852
CREATED:20250904T102225Z
LAST-MODIFIED:20251013T000353Z
UID:96188-1759945500-1759951980@plaza-mons.be
SUMMARY:Put Your Soul on Your Hand and Walk
DESCRIPTION:Le Corbusier à  Chandigarh : La  Force de l’utopie  – Séance spéciale\n\n\n\n\n\n			\n				Bande annonce\n			\n		 \n\n\n\n\n\n\n\n\n\n\n\n\n\n\n\n\n\n\n\n\n\n\n\n\n\n\n\n\n\n\n\n\n\n\n\n\n\n\n\n\n\n\n\n\n\n\n\n\n\n\n\n\n\nBande annonce
URL:https://plaza-mons.be/film/put-your-soul-on-your-hand-and-walk-2/2025-10-08
CATEGORIES:Documentaire,Drame
ATTACH;FMTTYPE=image/jpeg:https://plaza-mons.be/wp-content/uploads/2025/09/put-your-soul-poster.jpg
END:VEVENT
BEGIN:VEVENT
DTSTART;TZID=Europe/Brussels:20251009T190000
DTEND;TZID=Europe/Brussels:20251009T203000
DTSTAMP:20260425T204852
CREATED:20250922T130135Z
LAST-MODIFIED:20251009T000333Z
UID:95976-1760036400-1760041800@plaza-mons.be
SUMMARY:Séance-débat : Le vivant qui se défend
DESCRIPTION:Le Corbusier à  Chandigarh : La  Force de l’utopie  – Séance spéciale\n\n\n\n\n\n			\n				Bande annonce\n			\n		 \n\n\n\n\n\n\n\n\n\n\n\n\n\n\n\n\n\n\n\n\n\n\n\n\n\n\n\n\n\n\n\n\n\n\n\n\n\n\n\n\n\n\n\n\n\n\n\n\n\n\n\n\n\n\n\n\n\n\n\nBande annonce
URL:https://plaza-mons.be/film/seance-debat-le-vivant-qui-se-defend/2025-10-09
CATEGORIES:Avant-première,Documentaire
ATTACH;FMTTYPE=image/jpeg:https://plaza-mons.be/wp-content/uploads/2025/09/le-vivant-qui-se-defend-poster.jpg
END:VEVENT
BEGIN:VEVENT
DTSTART;TZID=Europe/Brussels:20251010T150000
DTEND;TZID=Europe/Brussels:20251010T164800
DTSTAMP:20260425T204852
CREATED:20250904T102225Z
LAST-MODIFIED:20251013T000353Z
UID:96189-1760108400-1760114880@plaza-mons.be
SUMMARY:Put Your Soul on Your Hand and Walk
DESCRIPTION:Le Corbusier à  Chandigarh : La  Force de l’utopie  – Séance spéciale\n\n\n\n\n\n			\n				Bande annonce\n			\n		 \n\n\n\n\n\n\n\n\n\n\n\n\n\n\n\n\n\n\n\n\n\n\n\n\n\n\n\n\n\n\n\n\n\n\n\n\n\n\n\n\n\n\n\n\n\n\n\n\n\n\n\n\n\nBande annonce
URL:https://plaza-mons.be/film/put-your-soul-on-your-hand-and-walk-2/2025-10-10
CATEGORIES:Documentaire,Drame
ATTACH;FMTTYPE=image/jpeg:https://plaza-mons.be/wp-content/uploads/2025/09/put-your-soul-poster.jpg
END:VEVENT
BEGIN:VEVENT
DTSTART;TZID=Europe/Brussels:20251012T173000
DTEND;TZID=Europe/Brussels:20251012T191800
DTSTAMP:20260425T204852
CREATED:20250904T102225Z
LAST-MODIFIED:20251013T000353Z
UID:96190-1760290200-1760296680@plaza-mons.be
SUMMARY:Put Your Soul on Your Hand and Walk
DESCRIPTION:Le Corbusier à  Chandigarh : La  Force de l’utopie  – Séance spéciale\n\n\n\n\n\n			\n				Bande annonce\n			\n		 \n\n\n\n\n\n\n\n\n\n\n\n\n\n\n\n\n\n\n\n\n\n\n\n\n\n\n\n\n\n\n\n\n\n\n\n\n\n\n\n\n\n\n\n\n\n\n\n\n\n\n\n\n\nBande annonce
URL:https://plaza-mons.be/film/put-your-soul-on-your-hand-and-walk-2/2025-10-12
CATEGORIES:Documentaire,Drame
ATTACH;FMTTYPE=image/jpeg:https://plaza-mons.be/wp-content/uploads/2025/09/put-your-soul-poster.jpg
END:VEVENT
END:VCALENDAR