BEGIN:VCALENDAR
VERSION:2.0
PRODID:-//Plaza Arthouse Cinema - ECPv5.14.1//NONSGML v1.0//EN
CALSCALE:GREGORIAN
METHOD:PUBLISH
X-WR-CALNAME:Plaza Arthouse Cinema
X-ORIGINAL-URL:https://plaza-mons.be
X-WR-CALDESC:Events for Plaza Arthouse Cinema
REFRESH-INTERVAL;VALUE=DURATION:PT1H
X-Robots-Tag:noindex
X-PUBLISHED-TTL:PT1H
BEGIN:VTIMEZONE
TZID:Europe/Brussels
BEGIN:DAYLIGHT
TZOFFSETFROM:+0100
TZOFFSETTO:+0200
TZNAME:CEST
DTSTART:20250330T010000
END:DAYLIGHT
BEGIN:STANDARD
TZOFFSETFROM:+0200
TZOFFSETTO:+0100
TZNAME:CET
DTSTART:20251026T010000
END:STANDARD
END:VTIMEZONE
BEGIN:VEVENT
DTSTART;TZID=Europe/Brussels:20251020T110000
DTEND;TZID=Europe/Brussels:20251020T122800
DTSTAMP:20260425T234454
CREATED:20250930T114409Z
LAST-MODIFIED:20251102T000037Z
UID:96328-1760958000-1760963280@plaza-mons.be
SUMMARY:L’homme qui a  vu l’ours qui a vu  l’homme
DESCRIPTION:Bugonia –  Cineville Specials\n\n\n\n\n\n			\n				Bande annonce\n			\n		 \n\n\n\n\n\n\n\n\n\n\n\n\n\n\n\n\n\n\n\n\n\n\n\n\n\n\n\n\n\n\n\n\n\n\n\n\n\n\n\n\n\n\n\n\n\n\n\n\n\n\n\n\n\nBande annonce
URL:https://plaza-mons.be/film/lhomme-qui-a-vu-lours-qui-a-vu-lhomme/2025-10-20
CATEGORIES:Comedie
ATTACH;FMTTYPE=image/jpeg:https://plaza-mons.be/wp-content/uploads/2025/09/lhomme-qui-a-vu-lours-qui-a-vu-lhomme-i-120x160-hd-original-1.jpg
END:VEVENT
BEGIN:VEVENT
DTSTART;TZID=Europe/Brussels:20251020T181500
DTEND;TZID=Europe/Brussels:20251020T200100
DTSTAMP:20260425T234454
CREATED:20251001T121317Z
LAST-MODIFIED:20251111T000035Z
UID:96385-1760984100-1760990460@plaza-mons.be
SUMMARY:Nouvelle vague
DESCRIPTION:Bugonia –  Cineville Specials\n\n\n\n\n\n			\n				Bande annonce\n			\n		 \n\n\n\n\n\n\n\n\n\n\n\n\n\n\n\n\n\n\n\n\n\n\n\n\n\n\n\n\n\n\n\n\n\n\n\n\n\n\n\n\n\n\n\n\n\n\n\n\n\n\n\n\n\nBande annonce
URL:https://plaza-mons.be/film/nouvelle-vague/2025-10-20
CATEGORIES:Biopic,Comedie,Drame
ATTACH;FMTTYPE=image/jpeg:https://plaza-mons.be/wp-content/uploads/2025/10/nouvelle-vague-poster.jpg
END:VEVENT
BEGIN:VEVENT
DTSTART;TZID=Europe/Brussels:20251021T110000
DTEND;TZID=Europe/Brussels:20251021T122800
DTSTAMP:20260425T234454
CREATED:20250930T114409Z
LAST-MODIFIED:20251102T000037Z
UID:96329-1761044400-1761049680@plaza-mons.be
SUMMARY:L’homme qui a  vu l’ours qui a vu  l’homme
DESCRIPTION:Bugonia –  Cineville Specials\n\n\n\n\n\n			\n				Bande annonce\n			\n		 \n\n\n\n\n\n\n\n\n\n\n\n\n\n\n\n\n\n\n\n\n\n\n\n\n\n\n\n\n\n\n\n\n\n\n\n\n\n\n\n\n\n\n\n\n\n\n\n\n\n\n\n\n\nBande annonce
URL:https://plaza-mons.be/film/lhomme-qui-a-vu-lours-qui-a-vu-lhomme/2025-10-21
CATEGORIES:Comedie
ATTACH;FMTTYPE=image/jpeg:https://plaza-mons.be/wp-content/uploads/2025/09/lhomme-qui-a-vu-lours-qui-a-vu-lhomme-i-120x160-hd-original-1.jpg
END:VEVENT
BEGIN:VEVENT
DTSTART;TZID=Europe/Brussels:20251021T204500
DTEND;TZID=Europe/Brussels:20251021T223100
DTSTAMP:20260425T234454
CREATED:20251001T121317Z
LAST-MODIFIED:20251111T000038Z
UID:96386-1761079500-1761085860@plaza-mons.be
SUMMARY:Nouvelle vague
DESCRIPTION:Bugonia –  Cineville Specials\n\n\n\n\n\n			\n				Bande annonce\n			\n		 \n\n\n\n\n\n\n\n\n\n\n\n\n\n\n\n\n\n\n\n\n\n\n\n\n\n\n\n\n\n\n\n\n\n\n\n\n\n\n\n\n\n\n\n\n\n\n\n\n\n\n\n\n\nBande annonce
URL:https://plaza-mons.be/film/nouvelle-vague/2025-10-21
CATEGORIES:Biopic,Comedie,Drame
ATTACH;FMTTYPE=image/jpeg:https://plaza-mons.be/wp-content/uploads/2025/10/nouvelle-vague-poster.jpg
END:VEVENT
BEGIN:VEVENT
DTSTART;TZID=Europe/Brussels:20251022T151500
DTEND;TZID=Europe/Brussels:20251022T164300
DTSTAMP:20260425T234454
CREATED:20250930T114409Z
LAST-MODIFIED:20251102T000037Z
UID:96330-1761146100-1761151380@plaza-mons.be
SUMMARY:L’homme qui a  vu l’ours qui a vu  l’homme
DESCRIPTION:Bugonia –  Cineville Specials\n\n\n\n\n\n			\n				Bande annonce\n			\n		 \n\n\n\n\n\n\n\n\n\n\n\n\n\n\n\n\n\n\n\n\n\n\n\n\n\n\n\n\n\n\n\n\n\n\n\n\n\n\n\n\n\n\n\n\n\n\n\n\n\n\n\n\n\nBande annonce
URL:https://plaza-mons.be/film/lhomme-qui-a-vu-lours-qui-a-vu-lhomme/2025-10-22
CATEGORIES:Comedie
ATTACH;FMTTYPE=image/jpeg:https://plaza-mons.be/wp-content/uploads/2025/09/lhomme-qui-a-vu-lours-qui-a-vu-lhomme-i-120x160-hd-original-1.jpg
END:VEVENT
BEGIN:VEVENT
DTSTART;TZID=Europe/Brussels:20251022T203000
DTEND;TZID=Europe/Brussels:20251022T221600
DTSTAMP:20260425T234454
CREATED:20251001T121317Z
LAST-MODIFIED:20251111T000041Z
UID:96387-1761165000-1761171360@plaza-mons.be
SUMMARY:Nouvelle vague
DESCRIPTION:Bugonia –  Cineville Specials\n\n\n\n\n\n			\n				Bande annonce\n			\n		 \n\n\n\n\n\n\n\n\n\n\n\n\n\n\n\n\n\n\n\n\n\n\n\n\n\n\n\n\n\n\n\n\n\n\n\n\n\n\n\n\n\n\n\n\n\n\n\n\n\n\n\n\n\nBande annonce
URL:https://plaza-mons.be/film/nouvelle-vague/2025-10-22
CATEGORIES:Biopic,Comedie,Drame
ATTACH;FMTTYPE=image/jpeg:https://plaza-mons.be/wp-content/uploads/2025/10/nouvelle-vague-poster.jpg
END:VEVENT
BEGIN:VEVENT
DTSTART;TZID=Europe/Brussels:20251023T110000
DTEND;TZID=Europe/Brussels:20251023T122800
DTSTAMP:20260425T234454
CREATED:20250930T114409Z
LAST-MODIFIED:20251102T000037Z
UID:96331-1761217200-1761222480@plaza-mons.be
SUMMARY:L’homme qui a  vu l’ours qui a vu  l’homme
DESCRIPTION:Bugonia –  Cineville Specials\n\n\n\n\n\n			\n				Bande annonce\n			\n		 \n\n\n\n\n\n\n\n\n\n\n\n\n\n\n\n\n\n\n\n\n\n\n\n\n\n\n\n\n\n\n\n\n\n\n\n\n\n\n\n\n\n\n\n\n\n\n\n\n\n\n\n\n\nBande annonce
URL:https://plaza-mons.be/film/lhomme-qui-a-vu-lours-qui-a-vu-lhomme/2025-10-23
CATEGORIES:Comedie
ATTACH;FMTTYPE=image/jpeg:https://plaza-mons.be/wp-content/uploads/2025/09/lhomme-qui-a-vu-lours-qui-a-vu-lhomme-i-120x160-hd-original-1.jpg
END:VEVENT
BEGIN:VEVENT
DTSTART;TZID=Europe/Brussels:20251023T204500
DTEND;TZID=Europe/Brussels:20251023T223100
DTSTAMP:20260425T234454
CREATED:20251001T121317Z
LAST-MODIFIED:20251111T000044Z
UID:96388-1761252300-1761258660@plaza-mons.be
SUMMARY:Nouvelle vague
DESCRIPTION:Bugonia –  Cineville Specials\n\n\n\n\n\n			\n				Bande annonce\n			\n		 \n\n\n\n\n\n\n\n\n\n\n\n\n\n\n\n\n\n\n\n\n\n\n\n\n\n\n\n\n\n\n\n\n\n\n\n\n\n\n\n\n\n\n\n\n\n\n\n\n\n\n\n\n\nBande annonce
URL:https://plaza-mons.be/film/nouvelle-vague/2025-10-23
CATEGORIES:Biopic,Comedie,Drame
ATTACH;FMTTYPE=image/jpeg:https://plaza-mons.be/wp-content/uploads/2025/10/nouvelle-vague-poster.jpg
END:VEVENT
BEGIN:VEVENT
DTSTART;TZID=Europe/Brussels:20251024T150000
DTEND;TZID=Europe/Brussels:20251024T164600
DTSTAMP:20260425T234454
CREATED:20251001T121317Z
LAST-MODIFIED:20251111T000047Z
UID:96389-1761318000-1761324360@plaza-mons.be
SUMMARY:Nouvelle vague
DESCRIPTION:Bugonia –  Cineville Specials\n\n\n\n\n\n			\n				Bande annonce\n			\n		 \n\n\n\n\n\n\n\n\n\n\n\n\n\n\n\n\n\n\n\n\n\n\n\n\n\n\n\n\n\n\n\n\n\n\n\n\n\n\n\n\n\n\n\n\n\n\n\n\n\n\n\n\n\nBande annonce
URL:https://plaza-mons.be/film/nouvelle-vague/2025-10-24
CATEGORIES:Biopic,Comedie,Drame
ATTACH;FMTTYPE=image/jpeg:https://plaza-mons.be/wp-content/uploads/2025/10/nouvelle-vague-poster.jpg
END:VEVENT
BEGIN:VEVENT
DTSTART;TZID=Europe/Brussels:20251025T110000
DTEND;TZID=Europe/Brussels:20251025T122800
DTSTAMP:20260425T234454
CREATED:20250930T114409Z
LAST-MODIFIED:20251102T000038Z
UID:96332-1761390000-1761395280@plaza-mons.be
SUMMARY:L’homme qui a  vu l’ours qui a vu  l’homme
DESCRIPTION:Bugonia –  Cineville Specials\n\n\n\n\n\n			\n				Bande annonce\n			\n		 \n\n\n\n\n\n\n\n\n\n\n\n\n\n\n\n\n\n\n\n\n\n\n\n\n\n\n\n\n\n\n\n\n\n\n\n\n\n\n\n\n\n\n\n\n\n\n\n\n\n\n\n\n\nBande annonce
URL:https://plaza-mons.be/film/lhomme-qui-a-vu-lours-qui-a-vu-lhomme/2025-10-25
CATEGORIES:Comedie
ATTACH;FMTTYPE=image/jpeg:https://plaza-mons.be/wp-content/uploads/2025/09/lhomme-qui-a-vu-lours-qui-a-vu-lhomme-i-120x160-hd-original-1.jpg
END:VEVENT
BEGIN:VEVENT
DTSTART;TZID=Europe/Brussels:20251025T180000
DTEND;TZID=Europe/Brussels:20251025T194600
DTSTAMP:20260425T234454
CREATED:20251001T121317Z
LAST-MODIFIED:20251111T000051Z
UID:96390-1761415200-1761421560@plaza-mons.be
SUMMARY:Nouvelle vague
DESCRIPTION:Bugonia –  Cineville Specials\n\n\n\n\n\n			\n				Bande annonce\n			\n		 \n\n\n\n\n\n\n\n\n\n\n\n\n\n\n\n\n\n\n\n\n\n\n\n\n\n\n\n\n\n\n\n\n\n\n\n\n\n\n\n\n\n\n\n\n\n\n\n\n\n\n\n\n\nBande annonce
URL:https://plaza-mons.be/film/nouvelle-vague/2025-10-25
CATEGORIES:Biopic,Comedie,Drame
ATTACH;FMTTYPE=image/jpeg:https://plaza-mons.be/wp-content/uploads/2025/10/nouvelle-vague-poster.jpg
END:VEVENT
BEGIN:VEVENT
DTSTART;TZID=Europe/Brussels:20251026T140000
DTEND;TZID=Europe/Brussels:20251026T154600
DTSTAMP:20260425T234454
CREATED:20251001T121317Z
LAST-MODIFIED:20251111T000054Z
UID:96391-1761487200-1761493560@plaza-mons.be
SUMMARY:Nouvelle vague
DESCRIPTION:Bugonia –  Cineville Specials\n\n\n\n\n\n			\n				Bande annonce\n			\n		 \n\n\n\n\n\n\n\n\n\n\n\n\n\n\n\n\n\n\n\n\n\n\n\n\n\n\n\n\n\n\n\n\n\n\n\n\n\n\n\n\n\n\n\n\n\n\n\n\n\n\n\n\n\nBande annonce
URL:https://plaza-mons.be/film/nouvelle-vague/2025-10-26
CATEGORIES:Biopic,Comedie,Drame
ATTACH;FMTTYPE=image/jpeg:https://plaza-mons.be/wp-content/uploads/2025/10/nouvelle-vague-poster.jpg
END:VEVENT
END:VCALENDAR