BEGIN:VCALENDAR
VERSION:2.0
PRODID:-//Plaza Arthouse Cinema - ECPv5.14.1//NONSGML v1.0//EN
CALSCALE:GREGORIAN
METHOD:PUBLISH
X-WR-CALNAME:Plaza Arthouse Cinema
X-ORIGINAL-URL:https://plaza-mons.be
X-WR-CALDESC:Events for Plaza Arthouse Cinema
REFRESH-INTERVAL;VALUE=DURATION:PT1H
X-Robots-Tag:noindex
X-PUBLISHED-TTL:PT1H
BEGIN:VTIMEZONE
TZID:Europe/Brussels
BEGIN:DAYLIGHT
TZOFFSETFROM:+0100
TZOFFSETTO:+0200
TZNAME:CEST
DTSTART:20250330T010000
END:DAYLIGHT
BEGIN:STANDARD
TZOFFSETFROM:+0200
TZOFFSETTO:+0100
TZNAME:CET
DTSTART:20251026T010000
END:STANDARD
END:VTIMEZONE
BEGIN:VEVENT
DTSTART;TZID=Europe/Brussels:20251211T200000
DTEND;TZID=Europe/Brussels:20251211T212300
DTSTAMP:20260425T122620
CREATED:20251104T132145Z
LAST-MODIFIED:20251211T000106Z
UID:99001-1765483200-1765488180@plaza-mons.be
SUMMARY:Ciné Women : We Were Dangerous (Dangereuses)
DESCRIPTION:Pop & Clap ciné-club : Kill Bill: The Whole Bloody Affair\n\n\n\n\n\n			\n				Bande annonce\n			\n		 \n\n\n\n\n\n\n\n\n\n\n\n\n\n\n\n\n\n\n\n\n\n\n\n\n\n\n\n\n\n\n\n\n\n\n\n\n\n\n\n\n\n\n\n\n\n\n\n\n\n\n\n\n\nBande annonce
URL:https://plaza-mons.be/film/cine-women-we-were-dangerous-dangereuses/2025-12-11
CATEGORIES:Avant-première
ATTACH;FMTTYPE=image/png:https://plaza-mons.be/wp-content/uploads/2025/11/we-were-dangerous-be-poster-normal.png
END:VEVENT
BEGIN:VEVENT
DTSTART;TZID=Europe/Brussels:20251213T200000
DTEND;TZID=Europe/Brussels:20251213T220800
DTSTAMP:20260425T122620
CREATED:20251204T094631Z
LAST-MODIFIED:20251213T000046Z
UID:100289-1765656000-1765663680@plaza-mons.be
SUMMARY:Pop and Clap Ciné-club : The Chronology Of Water
DESCRIPTION:Pop & Clap ciné-club : Kill Bill: The Whole Bloody Affair\n\n\n\n\n\n			\n				Bande annonce\n			\n		 \n\n\n\n\n\n\n\n\n\n\n\n\n\n\n\n\n\n\n\n\n\n\n\n\n\n\n\n\n\n\n\n\n\n\n\n\n\n\n\n\n\n\n\n\n\n\n\n\n\n\n\n\n\nBande annonce
URL:https://plaza-mons.be/film/pop-and-clap-cine-club-the-chronology-of-water/2025-12-13
CATEGORIES:Avant-première,Pop & Clap Ciné-club
ATTACH;FMTTYPE=image/png:https://plaza-mons.be/wp-content/uploads/2025/12/water-poster.png
END:VEVENT
BEGIN:VEVENT
DTSTART;TZID=Europe/Brussels:20251214T110000
DTEND;TZID=Europe/Brussels:20251214T123500
DTSTAMP:20260425T122620
CREATED:20251002T140227Z
LAST-MODIFIED:20251214T000003Z
UID:96890-1765710000-1765715700@plaza-mons.be
SUMMARY:Séance spéciale ETUGEN
DESCRIPTION:Pop & Clap ciné-club : Kill Bill: The Whole Bloody Affair
URL:https://plaza-mons.be/film/seance-speciale-etugen/2025-12-14
CATEGORIES:Avant-première,Documentaire
ATTACH;FMTTYPE=image/jpeg:https://plaza-mons.be/wp-content/uploads/2025/10/libraryutick-1.jpg
END:VEVENT
END:VCALENDAR