BEGIN:VCALENDAR
VERSION:2.0
PRODID:-//Plaza Arthouse Cinema - ECPv5.14.1//NONSGML v1.0//EN
CALSCALE:GREGORIAN
METHOD:PUBLISH
X-WR-CALNAME:Plaza Arthouse Cinema
X-ORIGINAL-URL:https://plaza-mons.be
X-WR-CALDESC:Events for Plaza Arthouse Cinema
REFRESH-INTERVAL;VALUE=DURATION:PT1H
X-Robots-Tag:noindex
X-PUBLISHED-TTL:PT1H
BEGIN:VTIMEZONE
TZID:Europe/Brussels
BEGIN:DAYLIGHT
TZOFFSETFROM:+0100
TZOFFSETTO:+0200
TZNAME:CEST
DTSTART:20250330T010000
END:DAYLIGHT
BEGIN:STANDARD
TZOFFSETFROM:+0200
TZOFFSETTO:+0100
TZNAME:CET
DTSTART:20251026T010000
END:STANDARD
END:VTIMEZONE
BEGIN:VEVENT
DTSTART;TZID=Europe/Brussels:20251202T200000
DTEND;TZID=Europe/Brussels:20251202T213700
DTSTAMP:20260425T122528
CREATED:20251015T085620Z
LAST-MODIFIED:20251202T000036Z
UID:97775-1764705600-1764711420@plaza-mons.be
SUMMARY:des preuves d'amour : Ciné Genre.S
DESCRIPTION:Pop & Clap ciné-club : Kill Bill: The Whole Bloody Affair\n\n\n\n\n\n			\n				Bande annonce\n			\n		 \n\n\n\n\n\n\n\n\n\n\n\n\n\n\n\n\n\n\n\n\n\n\n\n\n\n\n\n\n\n\n\n\n\n\n\n\n\n\n\n\n\n\n\n\n\n\n\n\n\n\n\n\n\nBande annonce
URL:https://plaza-mons.be/film/des-preuves-damour/2025-12-02
CATEGORIES:Avant-première,Ciné-Genres,Drame
ATTACH;FMTTYPE=image/jpeg:https://plaza-mons.be/wp-content/uploads/2025/10/des-preuves-damour-poster-en.jpg
END:VEVENT
BEGIN:VEVENT
DTSTART;TZID=Europe/Brussels:20251204T203000
DTEND;TZID=Europe/Brussels:20251204T203000
DTSTAMP:20260425T122528
CREATED:20251203T134031Z
LAST-MODIFIED:20251204T000039Z
UID:99563-1764880200-1764880200@plaza-mons.be
SUMMARY:Avant Première: Father Mother Sister Brother   
DESCRIPTION:Pop & Clap ciné-club : Kill Bill: The Whole Bloody Affair\n\n\n\n\n\n			\n				Bande annonce\n			\n		 \n\n\n\n\n\n\n\n\n\n\n\n\n\n\n\n\n\n\n\n\n\n\n\n\n\n\n\n\n\n\n\n\n\n\n\n\n\n\n\n\n\n\n\n\n\n\n\n\n\n\n\n\n\nBande annonce
URL:https://plaza-mons.be/film/avant-premiere-father-mother-sister-brother/2025-12-04
CATEGORIES:Avant-première
ATTACH;FMTTYPE=image/jpeg:https://plaza-mons.be/wp-content/uploads/2025/12/fa.jpg
END:VEVENT
BEGIN:VEVENT
DTSTART;TZID=Europe/Brussels:20251207T140000
DTEND;TZID=Europe/Brussels:20251207T151700
DTSTAMP:20260425T122528
CREATED:20251104T132306Z
LAST-MODIFIED:20251207T000012Z
UID:97856-1765116000-1765120620@plaza-mons.be
SUMMARY:Ciné - concert : Seven Chances ( Les fiancées en folie)
DESCRIPTION:Pop & Clap ciné-club : Kill Bill: The Whole Bloody Affair\n\n\n\n\n\n			\n				Bande annonce
URL:https://plaza-mons.be/film/cine-concert-seven-chances-les-fiancees-en-folie/2025-12-07
CATEGORIES:Avant-première
ATTACH;FMTTYPE=image/webp:https://plaza-mons.be/wp-content/uploads/2025/11/affiche-fiancees-fkeaton.webp
END:VEVENT
BEGIN:VEVENT
DTSTART;TZID=Europe/Brussels:20251207T160000
DTEND;TZID=Europe/Brussels:20251207T170000
DTSTAMP:20260425T122528
CREATED:20251128T163128Z
LAST-MODIFIED:20251207T000025Z
UID:99604-1765123200-1765126800@plaza-mons.be
SUMMARY:Cinéma en famille : Shaun le mouton : la vie est une fête !
DESCRIPTION:Pop & Clap ciné-club : Kill Bill: The Whole Bloody Affair\n\n\n\n\n\n			\n				Bande annonce\n			\n		 \n\n\n\n\n\n\n\n\n\n\n\n\n\n\n\n\n\n\n\n\n\n\n\n\n\n\n\n\n\n\n\n\n\n\n\n\n\n\n\n\n\n\n\n\n\n\n\n\n\n\n\n\n\nBande annonce
URL:https://plaza-mons.be/film/cinema-en-famille-shaun-le-mouton-la-vie-est-une-fete/2025-12-07
CATEGORIES:Avant-première
ATTACH;FMTTYPE=image/jpeg:https://plaza-mons.be/wp-content/uploads/2025/11/shaun-le-mouton-la-vie-est-une-fete-poster.jpg
END:VEVENT
BEGIN:VEVENT
DTSTART;TZID=Europe/Brussels:20251207T160000
DTEND;TZID=Europe/Brussels:20251207T173300
DTSTAMP:20260425T122528
CREATED:20251128T163026Z
LAST-MODIFIED:20251207T000025Z
UID:99603-1765123200-1765128780@plaza-mons.be
SUMMARY:Cinéma en famille : Diplodocus  (en avant-première )
DESCRIPTION:Pop & Clap ciné-club : Kill Bill: The Whole Bloody Affair\n\n\n\n\n\n			\n				Bande annonce\n			\n		 \n\n\n\n\n\n\n\n\n\n\n\n\n\n\n\n\n\n\n\n\n\n\n\n\n\n\n\n\n\n\n\n\n\n\n\n\n\n\n\n\n\n\n\n\n\n\n\n\n\n\n\n\n\nBande annonce\n\n\n\n\n\n\n\nhttps://www.youtube.com/watch?v=CVasaGANAPQ
URL:https://plaza-mons.be/film/cinema-en-famille-diplodocus-en-avant-premiere/2025-12-07
CATEGORIES:Avant-première
ATTACH;FMTTYPE=image/jpeg:https://plaza-mons.be/wp-content/uploads/2025/11/diplodocus-poster.jpg
END:VEVENT
BEGIN:VEVENT
DTSTART;TZID=Europe/Brussels:20251207T163000
DTEND;TZID=Europe/Brussels:20251207T181800
DTSTAMP:20260425T122528
CREATED:20251128T163532Z
LAST-MODIFIED:20251207T000026Z
UID:99605-1765125000-1765131480@plaza-mons.be
SUMMARY:Cinéma en famille: Zootopie 2
DESCRIPTION:Pop & Clap ciné-club : Kill Bill: The Whole Bloody Affair\n\n\n\n\n\n			\n				Bande annonce\n			\n		 \n\n\n\n\n\n\n\n\n\n\n\n\n\n\n\n\n\n\n\n\n\n\n\n\n\n\n\n\n\n\n\n\n\n\n\n\n\n\n\n\n\n\n\n\n\n\n\n\n\n\n\n\n\nBande annonce
URL:https://plaza-mons.be/film/cinema-en-famille-zootopie-2/2025-12-07
CATEGORIES:Avant-première
ATTACH;FMTTYPE=image/png:https://plaza-mons.be/wp-content/uploads/2025/11/zootopie-2-poster.png
END:VEVENT
END:VCALENDAR