BEGIN:VCALENDAR
VERSION:2.0
PRODID:-//Plaza Arthouse Cinema - ECPv5.14.1//NONSGML v1.0//EN
CALSCALE:GREGORIAN
METHOD:PUBLISH
X-WR-CALNAME:Plaza Arthouse Cinema
X-ORIGINAL-URL:https://plaza-mons.be
X-WR-CALDESC:Events for Plaza Arthouse Cinema
REFRESH-INTERVAL;VALUE=DURATION:PT1H
X-Robots-Tag:noindex
X-PUBLISHED-TTL:PT1H
BEGIN:VTIMEZONE
TZID:Europe/Brussels
BEGIN:DAYLIGHT
TZOFFSETFROM:+0100
TZOFFSETTO:+0200
TZNAME:CEST
DTSTART:20250330T010000
END:DAYLIGHT
BEGIN:STANDARD
TZOFFSETFROM:+0200
TZOFFSETTO:+0100
TZNAME:CET
DTSTART:20251026T010000
END:STANDARD
END:VTIMEZONE
BEGIN:VEVENT
DTSTART;TZID=Europe/Brussels:20251111T170000
DTEND;TZID=Europe/Brussels:20251111T181800
DTSTAMP:20260425T174122
CREATED:20251014T145915Z
LAST-MODIFIED:20251111T000020Z
UID:97768-1762880400-1762885080@plaza-mons.be
SUMMARY:On vous croit : Avant-première
DESCRIPTION:Pop & Clap ciné-club : Kill Bill: The Whole Bloody Affair\n\n\n\n\n\n			\n				Bande annonce\n			\n		 \n\n\n\n\n\n\n\n\n\n\n\n\n\n\n\n\n\n\n\n\n\n\n\n\n\n\n\n\n\n\n\n\n\n\n\n\n\n\n\n\n\n\n\n\n\n\n\n\n\n\n\n\n\n\n\n\n\nBande annonce
URL:https://plaza-mons.be/film/on-vous-croit-avant-premiere/2025-11-11
CATEGORIES:Avant-première,Drame
ATTACH;FMTTYPE=image/jpeg:https://plaza-mons.be/wp-content/uploads/2025/10/on-vous-croit-poster.jpg
END:VEVENT
BEGIN:VEVENT
DTSTART;TZID=Europe/Brussels:20251113T180000
DTEND;TZID=Europe/Brussels:20251113T193100
DTSTAMP:20260425T174122
CREATED:20251013T142704Z
LAST-MODIFIED:20251112T000301Z
UID:97723-1763056800-1763062260@plaza-mons.be
SUMMARY:Out of the Picture - Jeudis Archi
DESCRIPTION:Pop & Clap ciné-club : Kill Bill: The Whole Bloody Affair\n\n\n\n\n\n			\n				Bande annonce\n			\n		 \n\n\n\n\n\n\n\n\n\n\n\n\n\n\n\n\n\n\n\n\n\n\n\n\n\n\n\n\n\n\n\n\n\n\n\n\n\n\n\n\n\n\n\n\n\n\n\n\n\n\n\n\n\nBande annonce
URL:https://plaza-mons.be/film/architecte-du-futur-et-out-of-the-picture-jeudis-archi/2025-11-13
CATEGORIES:Avant-première,Documentaire
ATTACH;FMTTYPE=image/png:https://plaza-mons.be/wp-content/uploads/2025/10/out-of-the-picture-poster.png
END:VEVENT
END:VCALENDAR