BEGIN:VCALENDAR
VERSION:2.0
PRODID:-//Plaza Arthouse Cinema - ECPv5.14.1//NONSGML v1.0//EN
CALSCALE:GREGORIAN
METHOD:PUBLISH
X-WR-CALNAME:Plaza Arthouse Cinema
X-ORIGINAL-URL:https://plaza-mons.be
X-WR-CALDESC:Events for Plaza Arthouse Cinema
REFRESH-INTERVAL;VALUE=DURATION:PT1H
X-Robots-Tag:noindex
X-PUBLISHED-TTL:PT1H
BEGIN:VTIMEZONE
TZID:Europe/Brussels
BEGIN:DAYLIGHT
TZOFFSETFROM:+0100
TZOFFSETTO:+0200
TZNAME:CEST
DTSTART:20250330T010000
END:DAYLIGHT
BEGIN:STANDARD
TZOFFSETFROM:+0200
TZOFFSETTO:+0100
TZNAME:CET
DTSTART:20251026T010000
END:STANDARD
END:VTIMEZONE
BEGIN:VEVENT
DTSTART;TZID=Europe/Brussels:20251021T140000
DTEND;TZID=Europe/Brussels:20251021T155800
DTSTAMP:20260426T053230
CREATED:20250922T132652Z
LAST-MODIFIED:20251021T000028Z
UID:95985-1761055200-1761062280@plaza-mons.be
SUMMARY:Ciné Pour Tous : Moi qui t’aimais
DESCRIPTION:Pop & Clap ciné-club : Kill Bill: The Whole Bloody Affair\n\n\n\n\n\n			\n				Bande annonce\n			\n		 \n\n\n\n\n\n\n\n\n\n\n\n\n\n\n\n\n\n\n\n\n\n\n\n\n\n\n\n\n\n\n\n\n\n\n\n\n\n\n\n\n\n\n\n\n\n\n\n\n\n\n\n\n\nBande annonce
URL:https://plaza-mons.be/film/cine-pour-tous-moi-qui-taimais/2025-10-21
CATEGORIES:Avant-première,Biopic
ATTACH;FMTTYPE=image/jpeg:https://plaza-mons.be/wp-content/uploads/2025/09/moi-qui-taimais-poster.jpg
END:VEVENT
BEGIN:VEVENT
DTSTART;TZID=Europe/Brussels:20251021T200000
DTEND;TZID=Europe/Brussels:20251021T221300
DTSTAMP:20260426T053230
CREATED:20250922T133118Z
LAST-MODIFIED:20251021T000606Z
UID:95986-1761076800-1761084780@plaza-mons.be
SUMMARY:Séance spéciale : Fanon
DESCRIPTION:Pop & Clap ciné-club : Kill Bill: The Whole Bloody Affair\n\n\n\n\n\n			\n				Bande annonce\n			\n		 \n\n\n\n\n\n\n\n\n\n\n\n\n\n\n\n\n\n\n\n\n\n\n\n\n\n\n\n\n\n\n\n\n\n\n\n\n\n\n\n\n\n\n\n\n\n\n\n\n\n\n\n\n\nBande annonce
URL:https://plaza-mons.be/film/seance-speciale-fanon/2025-10-21
CATEGORIES:Avant-première,Drame
ATTACH;FMTTYPE=image/jpeg:https://plaza-mons.be/wp-content/uploads/2025/09/fanon-poster.jpg
END:VEVENT
BEGIN:VEVENT
DTSTART;TZID=Europe/Brussels:20251023T200000
DTEND;TZID=Europe/Brussels:20251023T214700
DTSTAMP:20260426T053230
CREATED:20250922T132533Z
LAST-MODIFIED:20251023T000206Z
UID:95987-1761249600-1761256020@plaza-mons.be
SUMMARY:Ciné Women :  La petite dernière
DESCRIPTION:Pop & Clap ciné-club : Kill Bill: The Whole Bloody Affair\n\n\n\n\n\n			\n				Bande annonce\n			\n		 \n\n\n\n\n\n\n\n\n\n\n\n\n\n\n\n\n\n\n\n\n\n\n\n\n\n\n\n\n\n\n\n\n\n\n\n\n\n\n\n\n\n\n\n\n\n\n\n\n\n\n\n\n\nBande annonce
URL:https://plaza-mons.be/film/cine-women-la-petite-derniere/2025-10-23
CATEGORIES:Avant-première,Drame
ATTACH;FMTTYPE=image/jpeg:https://plaza-mons.be/wp-content/uploads/2025/09/la-petite-derniere-poster.jpg
END:VEVENT
BEGIN:VEVENT
DTSTART;TZID=Europe/Brussels:20251026T160000
DTEND;TZID=Europe/Brussels:20251026T180500
DTSTAMP:20260426T053230
CREATED:20250922T132242Z
LAST-MODIFIED:20251026T010200Z
UID:95988-1761494400-1761501900@plaza-mons.be
SUMMARY:Cult Classic : Elephant Man
DESCRIPTION:Pop & Clap ciné-club : Kill Bill: The Whole Bloody Affair
URL:https://plaza-mons.be/film/cult-classic-elephant-man/2025-10-26
CATEGORIES:Avant-première,Fantastique,Horreur
ATTACH;FMTTYPE=image/jpeg:https://plaza-mons.be/wp-content/uploads/2025/09/elephant-man-poster.jpg
END:VEVENT
END:VCALENDAR