BEGIN:VCALENDAR
VERSION:2.0
PRODID:-//Plaza Arthouse Cinema - ECPv5.14.1//NONSGML v1.0//EN
CALSCALE:GREGORIAN
METHOD:PUBLISH
X-WR-CALNAME:Plaza Arthouse Cinema
X-ORIGINAL-URL:https://plaza-mons.be
X-WR-CALDESC:Events for Plaza Arthouse Cinema
REFRESH-INTERVAL;VALUE=DURATION:PT1H
X-Robots-Tag:noindex
X-PUBLISHED-TTL:PT1H
BEGIN:VTIMEZONE
TZID:Europe/Brussels
BEGIN:DAYLIGHT
TZOFFSETFROM:+0100
TZOFFSETTO:+0200
TZNAME:CEST
DTSTART:20250330T010000
END:DAYLIGHT
BEGIN:STANDARD
TZOFFSETFROM:+0200
TZOFFSETTO:+0100
TZNAME:CET
DTSTART:20251026T010000
END:STANDARD
END:VTIMEZONE
BEGIN:VEVENT
DTSTART;TZID=Europe/Brussels:20250603T193000
DTEND;TZID=Europe/Brussels:20250603T205900
DTSTAMP:20260420T114127
CREATED:20250427T142743Z
LAST-MODIFIED:20250603T000400Z
UID:86747-1748979000-1748984340@plaza-mons.be
SUMMARY:Séance spéciale : À bicyclette !
DESCRIPTION:Pop & Clap ciné-club : Kill Bill: The Whole Bloody Affair\n\n\n\n\n\n			\n				Bande annonce\n			\n		 \n\n\n\n\n\n\n\n\n\n\n\n\n\n\n\n\n\n\n\n\n\n\n\n\n\n\n\n\n\n\n\n\n\n\n\n\n\n\n\n\n\n\n\n\n\n\n\n\n\n\n\n\n\nBande annonce
URL:https://plaza-mons.be/film/seance-speciale-a-bicyclette/2025-06-03
CATEGORIES:Avant-première
ATTACH;FMTTYPE=image/png:https://plaza-mons.be/wp-content/uploads/2025/04/prochainement-a-bicyclette-poster.png
END:VEVENT
BEGIN:VEVENT
DTSTART;TZID=Europe/Brussels:20250604T200000
DTEND;TZID=Europe/Brussels:20250604T220000
DTSTAMP:20260420T114127
CREATED:20250514T145518Z
LAST-MODIFIED:20250602T001442Z
UID:88326-1749067200-1749074400@plaza-mons.be
SUMMARY:Séance spéciale :  Hayao Miyazaki  et le héron - En collaboration avec ART²
DESCRIPTION:Pop & Clap ciné-club : Kill Bill: The Whole Bloody Affair\n\n\n\n\n\n			\n				Bande annonce\n			\n		 \n\n\n\n\n\n\n\n\n\n\n\n\n\n\n\n\n\n\n\n\n\n\n\n\n\n\n\n\n\n\n\n\n\n\n\n\n\n\n\n\n\n\n\n\n\n\n\n\n\n\n\n\n\nBande annonce
URL:https://plaza-mons.be/film/seance-speciale-hayao-miyazaki-et-le-heron-en-collaboration-avec-art%c2%b2/2025-06-04
CATEGORIES:Avant-première,Documentaire
ATTACH;FMTTYPE=image/jpeg:https://plaza-mons.be/wp-content/uploads/2025/05/hayao-miyazaki-et-le-heron-poster.jpg
END:VEVENT
BEGIN:VEVENT
DTSTART;TZID=Europe/Brussels:20250605T203000
DTEND;TZID=Europe/Brussels:20250605T221400
DTSTAMP:20260420T114127
CREATED:20250427T142946Z
LAST-MODIFIED:20250602T001506Z
UID:86748-1749155400-1749161640@plaza-mons.be
SUMMARY:Jeunes Mères : Première
DESCRIPTION:Pop & Clap ciné-club : Kill Bill: The Whole Bloody Affair
URL:https://plaza-mons.be/film/jeunes-meres-premiere/2025-06-05
CATEGORIES:Avant-première,Drame
ATTACH;FMTTYPE=image/jpeg:https://plaza-mons.be/wp-content/uploads/2025/04/jeunes-meres-premiere.jpg
END:VEVENT
BEGIN:VEVENT
DTSTART;TZID=Europe/Brussels:20250605T204500
DTEND;TZID=Europe/Brussels:20250605T222900
DTSTAMP:20260420T114127
CREATED:20250427T142946Z
LAST-MODIFIED:20250602T001506Z
UID:88343-1749156300-1749162540@plaza-mons.be
SUMMARY:Jeunes Mères : Première
DESCRIPTION:Pop & Clap ciné-club : Kill Bill: The Whole Bloody Affair
URL:https://plaza-mons.be/film/jeunes-meres-premiere/2025-06-05/2
CATEGORIES:Avant-première,Drame
ATTACH;FMTTYPE=image/jpeg:https://plaza-mons.be/wp-content/uploads/2025/04/jeunes-meres-premiere.jpg
END:VEVENT
END:VCALENDAR