BEGIN:VCALENDAR
VERSION:2.0
PRODID:-//Plaza Arthouse Cinema - ECPv5.14.1//NONSGML v1.0//EN
CALSCALE:GREGORIAN
METHOD:PUBLISH
X-WR-CALNAME:Plaza Arthouse Cinema
X-ORIGINAL-URL:https://plaza-mons.be
X-WR-CALDESC:Events for Plaza Arthouse Cinema
REFRESH-INTERVAL;VALUE=DURATION:PT1H
X-Robots-Tag:noindex
X-PUBLISHED-TTL:PT1H
BEGIN:VTIMEZONE
TZID:Europe/Brussels
BEGIN:DAYLIGHT
TZOFFSETFROM:+0100
TZOFFSETTO:+0200
TZNAME:CEST
DTSTART:20260329T010000
END:DAYLIGHT
BEGIN:STANDARD
TZOFFSETFROM:+0200
TZOFFSETTO:+0100
TZNAME:CET
DTSTART:20261025T010000
END:STANDARD
END:VTIMEZONE
BEGIN:VEVENT
DTSTART;TZID=Europe/Brussels:20260422T140000
DTEND;TZID=Europe/Brussels:20260422T171500
DTSTAMP:20260422T030145
CREATED:20260331T113653Z
LAST-MODIFIED:20260422T000050Z
UID:106973-1776866400-1776878100@plaza-mons.be
SUMMARY:Les rayons et les ombres
DESCRIPTION:Super Charlie\n\n\n\n\n\n			\n				Bande annonce\n			\n		 \n\n\n\n\n\n\n\n\n\n\n\n\n\n\n\n\n\n\n\n\n\n\n\n\n\n\n\n\n\n\n\n\n\n\n\n\n\n\n\n\n\n\n\n\n\n\n\n\n\n\n\n\n\nBande annonce
URL:https://plaza-mons.be/film/les-rayons-et-les-ombres/2026-04-22
ATTACH;FMTTYPE=image/jpeg:https://plaza-mons.be/wp-content/uploads/2026/03/lesrayonsetlesombres-cineart-def-original.jpg
END:VEVENT
BEGIN:VEVENT
DTSTART;TZID=Europe/Brussels:20260422T150000
DTEND;TZID=Europe/Brussels:20260422T163400
DTSTAMP:20260422T030145
CREATED:20260408T122157Z
LAST-MODIFIED:20260422T000116Z
UID:106988-1776870000-1776875640@plaza-mons.be
SUMMARY:Les filles du ciel
DESCRIPTION:Super Charlie\n\n\n\n\n\n			\n				Bande annonce\n			\n		 \n\n\n\n\n\n\n\n\n\n\n\n\n\n\n\n\n\n\n\n\n\n\n\n\n\n\n\n\n\n\n\n\n\n\n\n\n\n\n\n\n\n\n\n\n\n\n\n\n\n\n\n\n\nBande annonce
URL:https://plaza-mons.be/film/les-filles-du-ciel/2026-04-22
ATTACH;FMTTYPE=image/jpeg:https://plaza-mons.be/wp-content/uploads/2026/04/lesfillesduciel-cineart-def-original.jpg
END:VEVENT
BEGIN:VEVENT
DTSTART;TZID=Europe/Brussels:20260422T150000
DTEND;TZID=Europe/Brussels:20260422T164000
DTSTAMP:20260422T030145
CREATED:20260421T113952Z
LAST-MODIFIED:20260422T000111Z
UID:106992-1776870000-1776876000@plaza-mons.be
SUMMARY:Alter ego
DESCRIPTION:Super Charlie\n\n\n\n\n\n			\n				Bande annonce\n			\n		 \n\n\n\n\n\n\n\n\n\n\n\n\n\n\n\n\n\n\n\n\n\n\n\n\n\n\n\n\n\n\n\n\n\n\n\n\n\n\n\n\n\n\n\n\n\n\n\n\n\n\n\n\n\nBande annonce
URL:https://plaza-mons.be/film/alter-ego/2026-04-22
CATEGORIES:Nouveauté
ATTACH;FMTTYPE=image/jpeg:https://plaza-mons.be/wp-content/uploads/2026/04/alter-ego.jpg
END:VEVENT
BEGIN:VEVENT
DTSTART;TZID=Europe/Brussels:20260422T153000
DTEND;TZID=Europe/Brussels:20260422T164000
DTSTAMP:20260422T030145
CREATED:20260320T191419Z
LAST-MODIFIED:20260422T000120Z
UID:106121-1776871800-1776876000@plaza-mons.be
SUMMARY:Séance contée: Les contes du pommier
DESCRIPTION:Super Charlie\n\n\n\n\n\n			\n				Bande annonce\n			\n		 \n\n\n\n\n\n\n\n\n\n\n\n\n\n\n\n\n\n\n\n\n\n\n\n\n\n\n\n\n\n\n\n\n\n\n\n\n\n\n\n\n\n\n\n\n\n\n\n\n\n\n\n\n\nBande annonce
URL:https://plaza-mons.be/film/seance-contee-les-contes-du-pommier/2026-04-22
CATEGORIES:Avant-première
ATTACH;FMTTYPE=image/jpeg:https://plaza-mons.be/wp-content/uploads/2026/03/les-contes-du-pommier-2.jpg
END:VEVENT
BEGIN:VEVENT
DTSTART;TZID=Europe/Brussels:20260422T173000
DTEND;TZID=Europe/Brussels:20260422T190400
DTSTAMP:20260422T030145
CREATED:20260408T121953Z
LAST-MODIFIED:20260422T000123Z
UID:106963-1776879000-1776884640@plaza-mons.be
SUMMARY:Christy and his Brother
DESCRIPTION:Super Charlie\n\n\n\n\n\n			\n				Bande annonce\n			\n		 \n\n\n\n\n\n\n\n\n\n\n\n\n\n\n\n\n\n\n\n\n\n\n\n\n\n\n\n\n\n\n\n\n\n\n\n\n\n\n\n\n\n\n\n\n\n\n\n\n\n\n\n\n\nBande annonce
URL:https://plaza-mons.be/film/christy-and-his-brother/2026-04-22
ATTACH;FMTTYPE=image/jpeg:https://plaza-mons.be/wp-content/uploads/2026/04/christy-and-his-brother.jpg
END:VEVENT
BEGIN:VEVENT
DTSTART;TZID=Europe/Brussels:20260422T180000
DTEND;TZID=Europe/Brussels:20260422T193600
DTSTAMP:20260422T030145
CREATED:20260414T080106Z
LAST-MODIFIED:20260422T000127Z
UID:106980-1776880800-1776886560@plaza-mons.be
SUMMARY:Ceux qui comptent
DESCRIPTION:Super Charlie\n\n\n\n\n\n			\n				Bande annonce\n			\n		 \n\n\n\n\n\n\n\n\n\n\n\n\n\n\n\n\n\n\n\n\n\n\n\n\n\n\n\n\n\n\n\n\n\n\n\n\n\n\n\n\n\n\n\n\n\n\n\n\n\n\n\n\n\nBande annonce
URL:https://plaza-mons.be/film/ceux-qui-comptent/2026-04-22
ATTACH;FMTTYPE=image/jpeg:https://plaza-mons.be/wp-content/uploads/2026/04/ceux-qui-comptent2.jpg
END:VEVENT
BEGIN:VEVENT
DTSTART;TZID=Europe/Brussels:20260422T180000
DTEND;TZID=Europe/Brussels:20260422T194600
DTSTAMP:20260422T030145
CREATED:20260421T114317Z
LAST-MODIFIED:20260422T000136Z
UID:107002-1776880800-1776887160@plaza-mons.be
SUMMARY:The Drama
DESCRIPTION:Super Charlie\n\n\n\n\n\n			\n				Bande annonce\n			\n		 \n\n\n\n\n\n\n\n\n\n\n\n\n\n\n\n\n\n\n\n\n\n\n\n\n\n\n\n\n\n\n\n\n\n\n\n\n\n\n\n\n\n\n\n\n\n\n\n\n\n\n\n\n\nBande annonce
URL:https://plaza-mons.be/film/the-drama/2026-04-22
CATEGORIES:Nouveauté
ATTACH;FMTTYPE=image/jpeg:https://plaza-mons.be/wp-content/uploads/2026/04/the-drama.jpg
END:VEVENT
BEGIN:VEVENT
DTSTART;TZID=Europe/Brussels:20260422T180000
DTEND;TZID=Europe/Brussels:20260422T200600
DTSTAMP:20260422T030145
CREATED:20260408T121844Z
LAST-MODIFIED:20260422T000134Z
UID:106998-1776880800-1776888360@plaza-mons.be
SUMMARY:The Bride !
DESCRIPTION:Super Charlie\n\n\n\n\n\n			\n				Bande annonce\n			\n		 \n\n\n\n\n\n\n\n\n\n\n\n\n\n\n\n\n\n\n\n\n\n\n\n\n\n\n\n\n\n\n\n\n\n\n\n\n\n\n\n\n\n\n\n\n\n\n\n\n\n\n\n\n\nBande annonce
URL:https://plaza-mons.be/film/the-bride/2026-04-22
ATTACH;FMTTYPE=image/jpeg:https://plaza-mons.be/wp-content/uploads/2026/04/the-bride.jpg
END:VEVENT
BEGIN:VEVENT
DTSTART;TZID=Europe/Brussels:20260422T200000
DTEND;TZID=Europe/Brussels:20260422T220800
DTSTAMP:20260422T030145
CREATED:20260421T114115Z
LAST-MODIFIED:20260422T000140Z
UID:107012-1776888000-1776895680@plaza-mons.be
SUMMARY:Yellow Letters
DESCRIPTION:Super Charlie\n\n\n\n\n\n			\n				Bande annonce\n			\n		 \n\n\n\n\n\n\n\n\n\n\n\n\n\n\n\n\n\n\n\n\n\n\n\n\n\n\n\n\n\n\n\n\n\n\n\n\n\n\n\n\n\n\n\n\n\n\n\n\n\n\n\n\n\nBande annonce
URL:https://plaza-mons.be/film/yellow-letters/2026-04-22
CATEGORIES:Nouveauté
ATTACH;FMTTYPE=image/jpeg:https://plaza-mons.be/wp-content/uploads/2026/04/yellow-letters-1.jpg
END:VEVENT
BEGIN:VEVENT
DTSTART;TZID=Europe/Brussels:20260422T203000
DTEND;TZID=Europe/Brussels:20260422T220600
DTSTAMP:20260422T030145
CREATED:20260421T114445Z
LAST-MODIFIED:20260422T000207Z
UID:107019-1776889800-1776895560@plaza-mons.be
SUMMARY:La guerre des prix
DESCRIPTION:Super Charlie\n\n\n\n\n\n			\n				Bande annonce\n			\n		 \n\n\n\n\n\n\n\n\n\n\n\n\n\n\n\n\n\n\n\n\n\n\n\n\n\n\n\n\n\n\n\n\n\n\n\n\n\n\n\n\n\n\n\n\n\n\n\n\n\n\n\n\n\nBande annonce
URL:https://plaza-mons.be/film/la-guerre-des-prix/2026-04-22
CATEGORIES:Nouveauté
ATTACH;FMTTYPE=image/png:https://plaza-mons.be/wp-content/uploads/2026/04/la-guerre-des-prix.png
END:VEVENT
BEGIN:VEVENT
DTSTART;TZID=Europe/Brussels:20260422T203000
DTEND;TZID=Europe/Brussels:20260422T221500
DTSTAMP:20260422T030145
CREATED:20260414T080306Z
LAST-MODIFIED:20260422T000159Z
UID:106967-1776889800-1776896100@plaza-mons.be
SUMMARY:La corde au cou (Dead Man's Wire)
DESCRIPTION:Super Charlie\n\n\n\n\n\n			\n				Bande annonce\n			\n		 \n\n\n\n\n\n\n\n\n\n\n\n\n\n\n\n\n\n\n\n\n\n\n\n\n\n\n\n\n\n\n\n\n\n\n\n\n\n\n\n\n\n\n\n\n\n\n\n\n\n\n\n\n\nBande annonce
URL:https://plaza-mons.be/film/la-corde-au-cou-dead-mans-wire/2026-04-22
ATTACH;FMTTYPE=image/jpeg:https://plaza-mons.be/wp-content/uploads/2026/04/la-corde-au-coup-1sheet-fr-large-1.jpg
END:VEVENT
BEGIN:VEVENT
DTSTART;TZID=Europe/Brussels:20260422T203000
DTEND;TZID=Europe/Brussels:20260422T223100
DTSTAMP:20260422T030145
CREATED:20260317T113154Z
LAST-MODIFIED:20260422T000151Z
UID:106954-1776889800-1776897060@plaza-mons.be
SUMMARY:I swear
DESCRIPTION:Super Charlie\n\n\n\n\n\n			\n				Bande annonce\n			\n		 \n\n\n\n\n\n\n\n\n\n\n\n\n\n\n\n\n\n\n\n\n\n\n\n\n\n\n\n\n\n\n\n\n\n\n\n\n\n\n\n\n\n\n\n\n\n\n\n\n\n\n\n\n\nBande annonce
URL:https://plaza-mons.be/film/i-swear/2026-04-22
ATTACH;FMTTYPE=image/jpeg:https://plaza-mons.be/wp-content/uploads/2026/03/i-swear-1.jpg
END:VEVENT
END:VCALENDAR