BEGIN:VCALENDAR
VERSION:2.0
PRODID:-//Plaza Arthouse Cinema - ECPv5.14.1//NONSGML v1.0//EN
CALSCALE:GREGORIAN
METHOD:PUBLISH
X-WR-CALNAME:Plaza Arthouse Cinema
X-ORIGINAL-URL:https://plaza-mons.be
X-WR-CALDESC:Events for Plaza Arthouse Cinema
REFRESH-INTERVAL;VALUE=DURATION:PT1H
X-Robots-Tag:noindex
X-PUBLISHED-TTL:PT1H
BEGIN:VTIMEZONE
TZID:Europe/Brussels
BEGIN:DAYLIGHT
TZOFFSETFROM:+0100
TZOFFSETTO:+0200
TZNAME:CEST
DTSTART:20260329T010000
END:DAYLIGHT
BEGIN:STANDARD
TZOFFSETFROM:+0200
TZOFFSETTO:+0100
TZNAME:CET
DTSTART:20261025T010000
END:STANDARD
END:VTIMEZONE
BEGIN:VEVENT
DTSTART;TZID=Europe/Brussels:20260507T140000
DTEND;TZID=Europe/Brussels:20260507T140000
DTSTAMP:20260425T191442
CREATED:20260331T114759Z
LAST-MODIFIED:20260331T114759Z
UID:107220-1778162400-1778162400@plaza-mons.be
SUMMARY:L'ourse et l'oiseau
DESCRIPTION:Die my Love\n\n\n\n\n\n			\n				Bande annonce\n			\n		 \n\n\n\n\n\n\n\n\n\n\n\n\n\n\n\n\n\n\n\n\n\n\n\n\n\n\n\n\n\n\n\n\n\n\n\n\n\n\n\n\n\n\n\n\n\n\n\n\n\n\n\n\n\nBande annonce
URL:https://plaza-mons.be/film/lourse-et-loiseau/2026-05-07
ATTACH;FMTTYPE=image/jpeg:https://plaza-mons.be/wp-content/uploads/2026/03/ourse-et-oiseau-affiche-original-1.jpg
END:VEVENT
BEGIN:VEVENT
DTSTART;TZID=Europe/Brussels:20260507T140000
DTEND;TZID=Europe/Brussels:20260507T151000
DTSTAMP:20260425T191442
CREATED:20260414T075414Z
LAST-MODIFIED:20260425T121349Z
UID:107239-1778162400-1778166600@plaza-mons.be
SUMMARY:Les contes du pommier
DESCRIPTION:Die my Love\n\n\n\n\n\n			\n				Bande annonce\n			\n		 \n\n\n\n\n\n\n\n\n\n\n\n\n\n\n\n\n\n\n\n\n\n\n\n\n\n\n\n\n\n\n\n\n\n\n\n\n\n\n\n\n\n\n\n\n\n\n\n\n\n\n\n\n\nBande annonce
URL:https://plaza-mons.be/film/les-contes-du-pommier/2026-05-07
ATTACH;FMTTYPE=image/jpeg:https://plaza-mons.be/wp-content/uploads/2026/03/les-contes-du-pommier-2.jpg
END:VEVENT
BEGIN:VEVENT
DTSTART;TZID=Europe/Brussels:20260507T140000
DTEND;TZID=Europe/Brussels:20260507T153600
DTSTAMP:20260425T191442
CREATED:20260414T080106Z
LAST-MODIFIED:20260414T080106Z
UID:107265-1778162400-1778168160@plaza-mons.be
SUMMARY:Ceux qui comptent
DESCRIPTION:Die my Love\n\n\n\n\n\n			\n				Bande annonce\n			\n		 \n\n\n\n\n\n\n\n\n\n\n\n\n\n\n\n\n\n\n\n\n\n\n\n\n\n\n\n\n\n\n\n\n\n\n\n\n\n\n\n\n\n\n\n\n\n\n\n\n\n\n\n\n\nBande annonce
URL:https://plaza-mons.be/film/ceux-qui-comptent/2026-05-07
ATTACH;FMTTYPE=image/jpeg:https://plaza-mons.be/wp-content/uploads/2026/04/ceux-qui-comptent2.jpg
END:VEVENT
BEGIN:VEVENT
DTSTART;TZID=Europe/Brussels:20260507T140000
DTEND;TZID=Europe/Brussels:20260507T154000
DTSTAMP:20260425T191442
CREATED:20260421T113952Z
LAST-MODIFIED:20260425T121526Z
UID:107324-1778162400-1778168400@plaza-mons.be
SUMMARY:Alter ego
DESCRIPTION:Die my Love\n\n\n\n\n\n			\n				Bande annonce\n			\n		 \n\n\n\n\n\n\n\n\n\n\n\n\n\n\n\n\n\n\n\n\n\n\n\n\n\n\n\n\n\n\n\n\n\n\n\n\n\n\n\n\n\n\n\n\n\n\n\n\n\n\n\n\n\nBande annonce
URL:https://plaza-mons.be/film/alter-ego/2026-05-07
ATTACH;FMTTYPE=image/jpeg:https://plaza-mons.be/wp-content/uploads/2026/04/alter-ego.jpg
END:VEVENT
BEGIN:VEVENT
DTSTART;TZID=Europe/Brussels:20260507T153000
DTEND;TZID=Europe/Brussels:20260507T172500
DTSTAMP:20260425T191442
CREATED:20260425T121001Z
LAST-MODIFIED:20260425T121003Z
UID:107401-1778167800-1778174700@plaza-mons.be
SUMMARY:Sukkwan Island
DESCRIPTION:Die my Love\n\n\n\n\n\n			\n				Bande annonce\n			\n		 \n\n\n\n\n\n\n\n\n\n\n\n\n\n\n\n\n\n\n\n\n\n\n\n\n\n\n\n\n\n\n\n\n\n\n\n\n\n\n\n\n\n\n\n\n\n\n\n\n\n\n\n\n\nBande annonce
URL:https://plaza-mons.be/film/sukkwan-island/2026-05-07
CATEGORIES:Nouveauté
ATTACH;FMTTYPE=image/jpeg:https://plaza-mons.be/wp-content/uploads/2026/04/sukkwan-island.jpg
END:VEVENT
BEGIN:VEVENT
DTSTART;TZID=Europe/Brussels:20260507T160000
DTEND;TZID=Europe/Brussels:20260507T172600
DTSTAMP:20260425T191442
CREATED:20260425T120831Z
LAST-MODIFIED:20260425T120832Z
UID:107390-1778169600-1778174760@plaza-mons.be
SUMMARY:Sauvons les meubles
DESCRIPTION:Die my Love\n\n\n\n\n\n			\n				Bande annonce\n			\n		 \n\n\n\n\n\n\n\n\n\n\n\n\n\n\n\n\n\n\n\n\n\n\n\n\n\n\n\n\n\n\n\n\n\n\n\n\n\n\n\n\n\n\n\n\n\n\n\n\n\n\n\n\n\nBande annonce
URL:https://plaza-mons.be/film/sauvons-les-meubles/2026-05-07
CATEGORIES:Nouveauté
ATTACH;FMTTYPE=image/jpeg:https://plaza-mons.be/wp-content/uploads/2026/04/sauvons-les-meubles-3.jpg
END:VEVENT
BEGIN:VEVENT
DTSTART;TZID=Europe/Brussels:20260507T160000
DTEND;TZID=Europe/Brussels:20260507T173600
DTSTAMP:20260425T191442
CREATED:20260421T114445Z
LAST-MODIFIED:20260425T121349Z
UID:107291-1778169600-1778175360@plaza-mons.be
SUMMARY:La guerre des prix
DESCRIPTION:Die my Love\n\n\n\n\n\n			\n				Bande annonce\n			\n		 \n\n\n\n\n\n\n\n\n\n\n\n\n\n\n\n\n\n\n\n\n\n\n\n\n\n\n\n\n\n\n\n\n\n\n\n\n\n\n\n\n\n\n\n\n\n\n\n\n\n\n\n\n\nBande annonce
URL:https://plaza-mons.be/film/la-guerre-des-prix/2026-05-07
ATTACH;FMTTYPE=image/png:https://plaza-mons.be/wp-content/uploads/2026/04/la-guerre-des-prix.png
END:VEVENT
BEGIN:VEVENT
DTSTART;TZID=Europe/Brussels:20260507T180000
DTEND;TZID=Europe/Brussels:20260507T195500
DTSTAMP:20260425T191442
CREATED:20260425T120645Z
LAST-MODIFIED:20260425T120646Z
UID:107361-1778176800-1778183700@plaza-mons.be
SUMMARY:Juste une illusion
DESCRIPTION:Die my Love\n\n\n\n\n\n			\n				Bande annonce\n			\n		 \n\n\n\n\n\n\n\n\n\n\n\n\n\n\n\n\n\n\n\n\n\n\n\n\n\n\n\n\n\n\n\n\n\n\n\n\n\n\n\n\n\n\n\n\n\n\n\n\n\n\n\n\n\nBande annonce
URL:https://plaza-mons.be/film/juste-une-illusion/2026-05-07
CATEGORIES:Nouveauté
ATTACH;FMTTYPE=image/jpeg:https://plaza-mons.be/wp-content/uploads/2026/04/juste-une-illusion.jpg
END:VEVENT
BEGIN:VEVENT
DTSTART;TZID=Europe/Brussels:20260507T181500
DTEND;TZID=Europe/Brussels:20260507T200000
DTSTAMP:20260425T191442
CREATED:20260414T080306Z
LAST-MODIFIED:20260414T080306Z
UID:107301-1778177700-1778184000@plaza-mons.be
SUMMARY:La corde au cou (Dead Man's Wire)
DESCRIPTION:Die my Love\n\n\n\n\n\n			\n				Bande annonce\n			\n		 \n\n\n\n\n\n\n\n\n\n\n\n\n\n\n\n\n\n\n\n\n\n\n\n\n\n\n\n\n\n\n\n\n\n\n\n\n\n\n\n\n\n\n\n\n\n\n\n\n\n\n\n\n\nBande annonce
URL:https://plaza-mons.be/film/la-corde-au-cou-dead-mans-wire/2026-05-07
ATTACH;FMTTYPE=image/jpeg:https://plaza-mons.be/wp-content/uploads/2026/04/la-corde-au-coup-1sheet-fr-large-1.jpg
END:VEVENT
BEGIN:VEVENT
DTSTART;TZID=Europe/Brussels:20260507T181500
DTEND;TZID=Europe/Brussels:20260507T200100
DTSTAMP:20260425T191442
CREATED:20260421T114317Z
LAST-MODIFIED:20260421T114317Z
UID:107279-1778177700-1778184060@plaza-mons.be
SUMMARY:The Drama
DESCRIPTION:Die my Love\n\n\n\n\n\n			\n				Bande annonce\n			\n		 \n\n\n\n\n\n\n\n\n\n\n\n\n\n\n\n\n\n\n\n\n\n\n\n\n\n\n\n\n\n\n\n\n\n\n\n\n\n\n\n\n\n\n\n\n\n\n\n\n\n\n\n\n\nBande annonce
URL:https://plaza-mons.be/film/the-drama/2026-05-07
CATEGORIES:Nouveauté
ATTACH;FMTTYPE=image/jpeg:https://plaza-mons.be/wp-content/uploads/2026/04/the-drama.jpg
END:VEVENT
BEGIN:VEVENT
DTSTART;TZID=Europe/Brussels:20260507T203000
DTEND;TZID=Europe/Brussels:20260507T222900
DTSTAMP:20260425T191442
CREATED:20260425T121151Z
LAST-MODIFIED:20260425T121153Z
UID:107376-1778185800-1778192940@plaza-mons.be
SUMMARY:Die my Love
DESCRIPTION:Die my Love\n\n\n\n\n\n			\n				Bande annonce\n			\n		 \n\n\n\n\n\n\n\n\n\n\n\n\n\n\n\n\n\n\n\n\n\n\n\n\n\n\n\n\n\n\n\n\n\n\n\n\n\n\n\n\n\n\n\n\n\n\n\n\n\n\n\n\n\nBande annonce
URL:https://plaza-mons.be/film/die-my-love-2/2026-05-07
CATEGORIES:Nouveauté
ATTACH;FMTTYPE=image/jpeg:https://plaza-mons.be/wp-content/uploads/2026/04/diemylove-cineart-def-large.jpg
END:VEVENT
BEGIN:VEVENT
DTSTART;TZID=Europe/Brussels:20260507T203000
DTEND;TZID=Europe/Brussels:20260507T223800
DTSTAMP:20260425T191442
CREATED:20260421T114115Z
LAST-MODIFIED:20260425T121355Z
UID:107335-1778185800-1778193480@plaza-mons.be
SUMMARY:Yellow Letters
DESCRIPTION:Die my Love\n\n\n\n\n\n			\n				Bande annonce\n			\n		 \n\n\n\n\n\n\n\n\n\n\n\n\n\n\n\n\n\n\n\n\n\n\n\n\n\n\n\n\n\n\n\n\n\n\n\n\n\n\n\n\n\n\n\n\n\n\n\n\n\n\n\n\n\nBande annonce
URL:https://plaza-mons.be/film/yellow-letters/2026-05-07
ATTACH;FMTTYPE=image/jpeg:https://plaza-mons.be/wp-content/uploads/2026/04/yellow-letters-1.jpg
END:VEVENT
END:VCALENDAR