BEGIN:VCALENDAR
VERSION:2.0
PRODID:-//Plaza Arthouse Cinema - ECPv5.14.1//NONSGML v1.0//EN
CALSCALE:GREGORIAN
METHOD:PUBLISH
X-WR-CALNAME:Plaza Arthouse Cinema
X-ORIGINAL-URL:https://plaza-mons.be
X-WR-CALDESC:Events for Plaza Arthouse Cinema
REFRESH-INTERVAL;VALUE=DURATION:PT1H
X-Robots-Tag:noindex
X-PUBLISHED-TTL:PT1H
BEGIN:VTIMEZONE
TZID:Europe/Brussels
BEGIN:DAYLIGHT
TZOFFSETFROM:+0100
TZOFFSETTO:+0200
TZNAME:CEST
DTSTART:20260329T010000
END:DAYLIGHT
BEGIN:STANDARD
TZOFFSETFROM:+0200
TZOFFSETTO:+0100
TZNAME:CET
DTSTART:20261025T010000
END:STANDARD
END:VTIMEZONE
BEGIN:VEVENT
DTSTART;TZID=Europe/Brussels:20260429T103000
DTEND;TZID=Europe/Brussels:20260429T125700
DTSTAMP:20260425T155101
CREATED:20260425T120407Z
LAST-MODIFIED:20260425T120408Z
UID:107346-1777458600-1777467420@plaza-mons.be
SUMMARY:Mulholland Drive
DESCRIPTION:Die my Love
URL:https://plaza-mons.be/film/mulholland-drive/2026-04-29
CATEGORIES:Nouveauté
ATTACH;FMTTYPE=image/webp:https://plaza-mons.be/wp-content/uploads/2026/04/mulholland-drive.webp
END:VEVENT
BEGIN:VEVENT
DTSTART;TZID=Europe/Brussels:20260429T110000
DTEND;TZID=Europe/Brussels:20260429T110000
DTSTAMP:20260425T155101
CREATED:20260331T114759Z
LAST-MODIFIED:20260331T114759Z
UID:107211-1777460400-1777460400@plaza-mons.be
SUMMARY:L'ourse et l'oiseau
DESCRIPTION:Die my Love\n\n\n\n\n\n			\n				Bande annonce\n			\n		 \n\n\n\n\n\n\n\n\n\n\n\n\n\n\n\n\n\n\n\n\n\n\n\n\n\n\n\n\n\n\n\n\n\n\n\n\n\n\n\n\n\n\n\n\n\n\n\n\n\n\n\n\n\nBande annonce
URL:https://plaza-mons.be/film/lourse-et-loiseau/2026-04-29
ATTACH;FMTTYPE=image/jpeg:https://plaza-mons.be/wp-content/uploads/2026/03/ourse-et-oiseau-affiche-original-1.jpg
END:VEVENT
BEGIN:VEVENT
DTSTART;TZID=Europe/Brussels:20260429T110000
DTEND;TZID=Europe/Brussels:20260429T122200
DTSTAMP:20260425T155101
CREATED:20260421T114855Z
LAST-MODIFIED:20260425T121359Z
UID:107244-1777460400-1777465320@plaza-mons.be
SUMMARY:Super Charlie
DESCRIPTION:Die my Love\n\n\n\n\n\n			\n				Bande annonce\n			\n		 \n\n\n\n\n\n\n\n\n\n\n\n\n\n\n\n\n\n\n\n\n\n\n\n\n\n\n\n\n\n\n\n\n\n\n\n\n\n\n\n\n\n\n\n\n\n\n\n\n\n\n\n\n\nBande annonce
URL:https://plaza-mons.be/film/super-charlie/2026-04-29
ATTACH;FMTTYPE=image/jpeg:https://plaza-mons.be/wp-content/uploads/2026/04/super.jpg
END:VEVENT
BEGIN:VEVENT
DTSTART;TZID=Europe/Brussels:20260429T110000
DTEND;TZID=Europe/Brussels:20260429T123300
DTSTAMP:20260425T155101
CREATED:20260127T152216Z
LAST-MODIFIED:20260127T152216Z
UID:107224-1777460400-1777465980@plaza-mons.be
SUMMARY:Le chant des forêts
DESCRIPTION:Die my Love\n\n\n\n\n\n			\n				Bande annonce\n			\n		 \n\n\n\n\n\n\n\n\n\n\n\n\n\n\n\n\n\n\n\n\n\n\n\n\n\n\n\n\n\n\n\n\n\n\n\n\n\n\n\n\n\n\n\n\n\n\n\n\n\n\n\n\n\nBande annonce
URL:https://plaza-mons.be/film/le-chant-des-forets/2026-04-29
ATTACH;FMTTYPE=image/jpeg:https://plaza-mons.be/wp-content/uploads/2026/01/lechantdesforets-cineart-70x100-fr-original.jpg
END:VEVENT
BEGIN:VEVENT
DTSTART;TZID=Europe/Brussels:20260429T140000
DTEND;TZID=Europe/Brussels:20260429T140000
DTSTAMP:20260425T155101
CREATED:20260331T114759Z
LAST-MODIFIED:20260331T114759Z
UID:107212-1777471200-1777471200@plaza-mons.be
SUMMARY:L'ourse et l'oiseau
DESCRIPTION:Die my Love\n\n\n\n\n\n			\n				Bande annonce\n			\n		 \n\n\n\n\n\n\n\n\n\n\n\n\n\n\n\n\n\n\n\n\n\n\n\n\n\n\n\n\n\n\n\n\n\n\n\n\n\n\n\n\n\n\n\n\n\n\n\n\n\n\n\n\n\nBande annonce
URL:https://plaza-mons.be/film/lourse-et-loiseau/2026-04-29/4
ATTACH;FMTTYPE=image/jpeg:https://plaza-mons.be/wp-content/uploads/2026/03/ourse-et-oiseau-affiche-original-1.jpg
END:VEVENT
BEGIN:VEVENT
DTSTART;TZID=Europe/Brussels:20260429T140000
DTEND;TZID=Europe/Brussels:20260429T152200
DTSTAMP:20260425T155101
CREATED:20260421T114855Z
LAST-MODIFIED:20260425T121359Z
UID:107245-1777471200-1777476120@plaza-mons.be
SUMMARY:Super Charlie
DESCRIPTION:Die my Love\n\n\n\n\n\n			\n				Bande annonce\n			\n		 \n\n\n\n\n\n\n\n\n\n\n\n\n\n\n\n\n\n\n\n\n\n\n\n\n\n\n\n\n\n\n\n\n\n\n\n\n\n\n\n\n\n\n\n\n\n\n\n\n\n\n\n\n\nBande annonce
URL:https://plaza-mons.be/film/super-charlie/2026-04-29/3
ATTACH;FMTTYPE=image/jpeg:https://plaza-mons.be/wp-content/uploads/2026/04/super.jpg
END:VEVENT
BEGIN:VEVENT
DTSTART;TZID=Europe/Brussels:20260429T140000
DTEND;TZID=Europe/Brussels:20260429T153600
DTSTAMP:20260425T155101
CREATED:20260421T114445Z
LAST-MODIFIED:20260425T121349Z
UID:107283-1777471200-1777476960@plaza-mons.be
SUMMARY:La guerre des prix
DESCRIPTION:Die my Love\n\n\n\n\n\n			\n				Bande annonce\n			\n		 \n\n\n\n\n\n\n\n\n\n\n\n\n\n\n\n\n\n\n\n\n\n\n\n\n\n\n\n\n\n\n\n\n\n\n\n\n\n\n\n\n\n\n\n\n\n\n\n\n\n\n\n\n\nBande annonce
URL:https://plaza-mons.be/film/la-guerre-des-prix/2026-04-29
ATTACH;FMTTYPE=image/png:https://plaza-mons.be/wp-content/uploads/2026/04/la-guerre-des-prix.png
END:VEVENT
BEGIN:VEVENT
DTSTART;TZID=Europe/Brussels:20260429T140000
DTEND;TZID=Europe/Brussels:20260429T171500
DTSTAMP:20260425T155101
CREATED:20260331T113653Z
LAST-MODIFIED:20260331T113653Z
UID:107306-1777471200-1777482900@plaza-mons.be
SUMMARY:Les rayons et les ombres
DESCRIPTION:Die my Love\n\n\n\n\n\n			\n				Bande annonce\n			\n		 \n\n\n\n\n\n\n\n\n\n\n\n\n\n\n\n\n\n\n\n\n\n\n\n\n\n\n\n\n\n\n\n\n\n\n\n\n\n\n\n\n\n\n\n\n\n\n\n\n\n\n\n\n\nBande annonce
URL:https://plaza-mons.be/film/les-rayons-et-les-ombres/2026-04-29
ATTACH;FMTTYPE=image/jpeg:https://plaza-mons.be/wp-content/uploads/2026/03/lesrayonsetlesombres-cineart-def-original.jpg
END:VEVENT
BEGIN:VEVENT
DTSTART;TZID=Europe/Brussels:20260429T153000
DTEND;TZID=Europe/Brussels:20260429T171000
DTSTAMP:20260425T155101
CREATED:20260421T113952Z
LAST-MODIFIED:20260425T121525Z
UID:107318-1777476600-1777482600@plaza-mons.be
SUMMARY:Alter ego
DESCRIPTION:Die my Love\n\n\n\n\n\n			\n				Bande annonce\n			\n		 \n\n\n\n\n\n\n\n\n\n\n\n\n\n\n\n\n\n\n\n\n\n\n\n\n\n\n\n\n\n\n\n\n\n\n\n\n\n\n\n\n\n\n\n\n\n\n\n\n\n\n\n\n\nBande annonce
URL:https://plaza-mons.be/film/alter-ego/2026-04-29
ATTACH;FMTTYPE=image/jpeg:https://plaza-mons.be/wp-content/uploads/2026/04/alter-ego.jpg
END:VEVENT
BEGIN:VEVENT
DTSTART;TZID=Europe/Brussels:20260429T160000
DTEND;TZID=Europe/Brussels:20260429T171000
DTSTAMP:20260425T155101
CREATED:20260414T075414Z
LAST-MODIFIED:20260425T121348Z
UID:107231-1777478400-1777482600@plaza-mons.be
SUMMARY:Les contes du pommier
DESCRIPTION:Die my Love\n\n\n\n\n\n			\n				Bande annonce\n			\n		 \n\n\n\n\n\n\n\n\n\n\n\n\n\n\n\n\n\n\n\n\n\n\n\n\n\n\n\n\n\n\n\n\n\n\n\n\n\n\n\n\n\n\n\n\n\n\n\n\n\n\n\n\n\nBande annonce
URL:https://plaza-mons.be/film/les-contes-du-pommier/2026-04-29
ATTACH;FMTTYPE=image/jpeg:https://plaza-mons.be/wp-content/uploads/2026/03/les-contes-du-pommier-2.jpg
END:VEVENT
BEGIN:VEVENT
DTSTART;TZID=Europe/Brussels:20260429T180000
DTEND;TZID=Europe/Brussels:20260429T194500
DTSTAMP:20260425T155101
CREATED:20260414T080306Z
LAST-MODIFIED:20260414T080306Z
UID:107295-1777485600-1777491900@plaza-mons.be
SUMMARY:La corde au cou (Dead Man's Wire)
DESCRIPTION:Die my Love\n\n\n\n\n\n			\n				Bande annonce\n			\n		 \n\n\n\n\n\n\n\n\n\n\n\n\n\n\n\n\n\n\n\n\n\n\n\n\n\n\n\n\n\n\n\n\n\n\n\n\n\n\n\n\n\n\n\n\n\n\n\n\n\n\n\n\n\nBande annonce
URL:https://plaza-mons.be/film/la-corde-au-cou-dead-mans-wire/2026-04-29
ATTACH;FMTTYPE=image/jpeg:https://plaza-mons.be/wp-content/uploads/2026/04/la-corde-au-coup-1sheet-fr-large-1.jpg
END:VEVENT
BEGIN:VEVENT
DTSTART;TZID=Europe/Brussels:20260429T180000
DTEND;TZID=Europe/Brussels:20260429T195500
DTSTAMP:20260425T155101
CREATED:20260425T120645Z
LAST-MODIFIED:20260425T120646Z
UID:107353-1777485600-1777492500@plaza-mons.be
SUMMARY:Juste une illusion
DESCRIPTION:Die my Love\n\n\n\n\n\n			\n				Bande annonce\n			\n		 \n\n\n\n\n\n\n\n\n\n\n\n\n\n\n\n\n\n\n\n\n\n\n\n\n\n\n\n\n\n\n\n\n\n\n\n\n\n\n\n\n\n\n\n\n\n\n\n\n\n\n\n\n\nBande annonce
URL:https://plaza-mons.be/film/juste-une-illusion/2026-04-29
CATEGORIES:Nouveauté
ATTACH;FMTTYPE=image/jpeg:https://plaza-mons.be/wp-content/uploads/2026/04/juste-une-illusion.jpg
END:VEVENT
BEGIN:VEVENT
DTSTART;TZID=Europe/Brussels:20260429T180000
DTEND;TZID=Europe/Brussels:20260429T200800
DTSTAMP:20260425T155101
CREATED:20260421T114115Z
LAST-MODIFIED:20260425T121355Z
UID:107327-1777485600-1777493280@plaza-mons.be
SUMMARY:Yellow Letters
DESCRIPTION:Die my Love\n\n\n\n\n\n			\n				Bande annonce\n			\n		 \n\n\n\n\n\n\n\n\n\n\n\n\n\n\n\n\n\n\n\n\n\n\n\n\n\n\n\n\n\n\n\n\n\n\n\n\n\n\n\n\n\n\n\n\n\n\n\n\n\n\n\n\n\nBande annonce
URL:https://plaza-mons.be/film/yellow-letters/2026-04-29
ATTACH;FMTTYPE=image/jpeg:https://plaza-mons.be/wp-content/uploads/2026/04/yellow-letters-1.jpg
END:VEVENT
BEGIN:VEVENT
DTSTART;TZID=Europe/Brussels:20260429T203000
DTEND;TZID=Europe/Brussels:20260429T215600
DTSTAMP:20260425T155101
CREATED:20260425T120830Z
LAST-MODIFIED:20260425T120832Z
UID:107382-1777494600-1777499760@plaza-mons.be
SUMMARY:Sauvons les meubles
DESCRIPTION:Die my Love\n\n\n\n\n\n			\n				Bande annonce\n			\n		 \n\n\n\n\n\n\n\n\n\n\n\n\n\n\n\n\n\n\n\n\n\n\n\n\n\n\n\n\n\n\n\n\n\n\n\n\n\n\n\n\n\n\n\n\n\n\n\n\n\n\n\n\n\nBande annonce
URL:https://plaza-mons.be/film/sauvons-les-meubles/2026-04-29
CATEGORIES:Nouveauté
ATTACH;FMTTYPE=image/jpeg:https://plaza-mons.be/wp-content/uploads/2026/04/sauvons-les-meubles-3.jpg
END:VEVENT
BEGIN:VEVENT
DTSTART;TZID=Europe/Brussels:20260429T203000
DTEND;TZID=Europe/Brussels:20260429T221600
DTSTAMP:20260425T155101
CREATED:20260421T114317Z
LAST-MODIFIED:20260421T114317Z
UID:107271-1777494600-1777500960@plaza-mons.be
SUMMARY:The Drama
DESCRIPTION:Die my Love\n\n\n\n\n\n			\n				Bande annonce\n			\n		 \n\n\n\n\n\n\n\n\n\n\n\n\n\n\n\n\n\n\n\n\n\n\n\n\n\n\n\n\n\n\n\n\n\n\n\n\n\n\n\n\n\n\n\n\n\n\n\n\n\n\n\n\n\nBande annonce
URL:https://plaza-mons.be/film/the-drama/2026-04-29
CATEGORIES:Nouveauté
ATTACH;FMTTYPE=image/jpeg:https://plaza-mons.be/wp-content/uploads/2026/04/the-drama.jpg
END:VEVENT
BEGIN:VEVENT
DTSTART;TZID=Europe/Brussels:20260429T203000
DTEND;TZID=Europe/Brussels:20260429T222500
DTSTAMP:20260425T155101
CREATED:20260425T121000Z
LAST-MODIFIED:20260425T121002Z
UID:107394-1777494600-1777501500@plaza-mons.be
SUMMARY:Sukkwan Island
DESCRIPTION:Die my Love\n\n\n\n\n\n			\n				Bande annonce\n			\n		 \n\n\n\n\n\n\n\n\n\n\n\n\n\n\n\n\n\n\n\n\n\n\n\n\n\n\n\n\n\n\n\n\n\n\n\n\n\n\n\n\n\n\n\n\n\n\n\n\n\n\n\n\n\nBande annonce
URL:https://plaza-mons.be/film/sukkwan-island/2026-04-29
CATEGORIES:Nouveauté
ATTACH;FMTTYPE=image/jpeg:https://plaza-mons.be/wp-content/uploads/2026/04/sukkwan-island.jpg
END:VEVENT
BEGIN:VEVENT
DTSTART;TZID=Europe/Brussels:20260429T203000
DTEND;TZID=Europe/Brussels:20260429T222900
DTSTAMP:20260425T155101
CREATED:20260425T121150Z
LAST-MODIFIED:20260425T121152Z
UID:107367-1777494600-1777501740@plaza-mons.be
SUMMARY:Die my Love
DESCRIPTION:Die my Love\n\n\n\n\n\n			\n				Bande annonce\n			\n		 \n\n\n\n\n\n\n\n\n\n\n\n\n\n\n\n\n\n\n\n\n\n\n\n\n\n\n\n\n\n\n\n\n\n\n\n\n\n\n\n\n\n\n\n\n\n\n\n\n\n\n\n\n\nBande annonce
URL:https://plaza-mons.be/film/die-my-love-2/2026-04-29
CATEGORIES:Nouveauté
ATTACH;FMTTYPE=image/jpeg:https://plaza-mons.be/wp-content/uploads/2026/04/diemylove-cineart-def-large.jpg
END:VEVENT
END:VCALENDAR