BEGIN:VCALENDAR
VERSION:2.0
PRODID:-//Plaza Arthouse Cinema - ECPv5.14.1//NONSGML v1.0//EN
CALSCALE:GREGORIAN
METHOD:PUBLISH
X-WR-CALNAME:Plaza Arthouse Cinema
X-ORIGINAL-URL:https://plaza-mons.be
X-WR-CALDESC:Events for Plaza Arthouse Cinema
REFRESH-INTERVAL;VALUE=DURATION:PT1H
X-Robots-Tag:noindex
X-PUBLISHED-TTL:PT1H
BEGIN:VTIMEZONE
TZID:Europe/Brussels
BEGIN:DAYLIGHT
TZOFFSETFROM:+0100
TZOFFSETTO:+0200
TZNAME:CEST
DTSTART:20260329T010000
END:DAYLIGHT
BEGIN:STANDARD
TZOFFSETFROM:+0200
TZOFFSETTO:+0100
TZNAME:CET
DTSTART:20261025T010000
END:STANDARD
END:VTIMEZONE
BEGIN:VEVENT
DTSTART;TZID=Europe/Brussels:20260424T143000
DTEND;TZID=Europe/Brussels:20260424T161000
DTSTAMP:20260421T221023
CREATED:20260421T113953Z
LAST-MODIFIED:20260421T113954Z
UID:106994-1777041000-1777047000@plaza-mons.be
SUMMARY:Alter ego
DESCRIPTION:Super Charlie\n\n\n\n\n\n			\n				Bande annonce\n			\n		 \n\n\n\n\n\n\n\n\n\n\n\n\n\n\n\n\n\n\n\n\n\n\n\n\n\n\n\n\n\n\n\n\n\n\n\n\n\n\n\n\n\n\n\n\n\n\n\n\n\n\n\n\n\nBande annonce
URL:https://plaza-mons.be/film/alter-ego/2026-04-24
CATEGORIES:Nouveauté
ATTACH;FMTTYPE=image/jpeg:https://plaza-mons.be/wp-content/uploads/2026/04/alter-ego.jpg
END:VEVENT
BEGIN:VEVENT
DTSTART;TZID=Europe/Brussels:20260424T150000
DTEND;TZID=Europe/Brussels:20260424T163400
DTSTAMP:20260421T221023
CREATED:20260408T121953Z
LAST-MODIFIED:20260408T121953Z
UID:106964-1777042800-1777048440@plaza-mons.be
SUMMARY:Christy and his Brother
DESCRIPTION:Super Charlie\n\n\n\n\n\n			\n				Bande annonce\n			\n		 \n\n\n\n\n\n\n\n\n\n\n\n\n\n\n\n\n\n\n\n\n\n\n\n\n\n\n\n\n\n\n\n\n\n\n\n\n\n\n\n\n\n\n\n\n\n\n\n\n\n\n\n\n\nBande annonce
URL:https://plaza-mons.be/film/christy-and-his-brother/2026-04-24
ATTACH;FMTTYPE=image/jpeg:https://plaza-mons.be/wp-content/uploads/2026/04/christy-and-his-brother.jpg
END:VEVENT
BEGIN:VEVENT
DTSTART;TZID=Europe/Brussels:20260424T150000
DTEND;TZID=Europe/Brussels:20260424T163600
DTSTAMP:20260421T221023
CREATED:20260421T114445Z
LAST-MODIFIED:20260421T114447Z
UID:107021-1777042800-1777048560@plaza-mons.be
SUMMARY:La guerre des prix
DESCRIPTION:Super Charlie\n\n\n\n\n\n			\n				Bande annonce\n			\n		 \n\n\n\n\n\n\n\n\n\n\n\n\n\n\n\n\n\n\n\n\n\n\n\n\n\n\n\n\n\n\n\n\n\n\n\n\n\n\n\n\n\n\n\n\n\n\n\n\n\n\n\n\n\nBande annonce
URL:https://plaza-mons.be/film/la-guerre-des-prix/2026-04-24
CATEGORIES:Nouveauté
ATTACH;FMTTYPE=image/png:https://plaza-mons.be/wp-content/uploads/2026/04/la-guerre-des-prix.png
END:VEVENT
BEGIN:VEVENT
DTSTART;TZID=Europe/Brussels:20260424T150000
DTEND;TZID=Europe/Brussels:20260424T164600
DTSTAMP:20260421T221023
CREATED:20260421T114317Z
LAST-MODIFIED:20260421T114319Z
UID:107004-1777042800-1777049160@plaza-mons.be
SUMMARY:The Drama
DESCRIPTION:Super Charlie\n\n\n\n\n\n			\n				Bande annonce\n			\n		 \n\n\n\n\n\n\n\n\n\n\n\n\n\n\n\n\n\n\n\n\n\n\n\n\n\n\n\n\n\n\n\n\n\n\n\n\n\n\n\n\n\n\n\n\n\n\n\n\n\n\n\n\n\nBande annonce
URL:https://plaza-mons.be/film/the-drama/2026-04-24
CATEGORIES:Nouveauté
ATTACH;FMTTYPE=image/jpeg:https://plaza-mons.be/wp-content/uploads/2026/04/the-drama.jpg
END:VEVENT
BEGIN:VEVENT
DTSTART;TZID=Europe/Brussels:20260424T170000
DTEND;TZID=Europe/Brussels:20260424T185200
DTSTAMP:20260421T221023
CREATED:20260331T114602Z
LAST-MODIFIED:20260331T114602Z
UID:107031-1777050000-1777056720@plaza-mons.be
SUMMARY:Une histoire vraie
DESCRIPTION:Super Charlie
URL:https://plaza-mons.be/film/une-histoire-vraie/2026-04-24
ATTACH;FMTTYPE=image/jpeg:https://plaza-mons.be/wp-content/uploads/2026/03/une-histoire-vraie-retrospective-david-lynch.jpg
END:VEVENT
BEGIN:VEVENT
DTSTART;TZID=Europe/Brussels:20260424T180000
DTEND;TZID=Europe/Brussels:20260424T193600
DTSTAMP:20260421T221023
CREATED:20260414T075755Z
LAST-MODIFIED:20260421T115117Z
UID:106950-1777053600-1777059360@plaza-mons.be
SUMMARY:Beginnings
DESCRIPTION:Super Charlie\n\n\n\n\n\n			\n				Bande annonce\n			\n		 \n\n\n\n\n\n\n\n\n\n\n\n\n\n\n\n\n\n\n\n\n\n\n\n\n\n\n\n\n\n\n\n\n\n\n\n\n\n\n\n\n\n\n\n\n\n\n\n\n\n\n\n\n\nBande annonce
URL:https://plaza-mons.be/film/beginnings/2026-04-24
ATTACH;FMTTYPE=image/webp:https://plaza-mons.be/wp-content/uploads/2026/04/beginnings.webp
END:VEVENT
BEGIN:VEVENT
DTSTART;TZID=Europe/Brussels:20260424T180000
DTEND;TZID=Europe/Brussels:20260424T194500
DTSTAMP:20260421T221023
CREATED:20260414T080306Z
LAST-MODIFIED:20260421T115059Z
UID:106969-1777053600-1777059900@plaza-mons.be
SUMMARY:La corde au cou (Dead Man's Wire)
DESCRIPTION:Super Charlie\n\n\n\n\n\n			\n				Bande annonce\n			\n		 \n\n\n\n\n\n\n\n\n\n\n\n\n\n\n\n\n\n\n\n\n\n\n\n\n\n\n\n\n\n\n\n\n\n\n\n\n\n\n\n\n\n\n\n\n\n\n\n\n\n\n\n\n\nBande annonce
URL:https://plaza-mons.be/film/la-corde-au-cou-dead-mans-wire/2026-04-24
ATTACH;FMTTYPE=image/jpeg:https://plaza-mons.be/wp-content/uploads/2026/04/la-corde-au-coup-1sheet-fr-large-1.jpg
END:VEVENT
BEGIN:VEVENT
DTSTART;TZID=Europe/Brussels:20260424T180000
DTEND;TZID=Europe/Brussels:20260424T200100
DTSTAMP:20260421T221023
CREATED:20260317T113154Z
LAST-MODIFIED:20260317T113154Z
UID:106956-1777053600-1777060860@plaza-mons.be
SUMMARY:I swear
DESCRIPTION:Super Charlie\n\n\n\n\n\n			\n				Bande annonce\n			\n		 \n\n\n\n\n\n\n\n\n\n\n\n\n\n\n\n\n\n\n\n\n\n\n\n\n\n\n\n\n\n\n\n\n\n\n\n\n\n\n\n\n\n\n\n\n\n\n\n\n\n\n\n\n\nBande annonce
URL:https://plaza-mons.be/film/i-swear/2026-04-24
ATTACH;FMTTYPE=image/jpeg:https://plaza-mons.be/wp-content/uploads/2026/03/i-swear-1.jpg
END:VEVENT
BEGIN:VEVENT
DTSTART;TZID=Europe/Brussels:20260424T193000
DTEND;TZID=Europe/Brussels:20260424T224500
DTSTAMP:20260421T221023
CREATED:20260331T113653Z
LAST-MODIFIED:20260421T115102Z
UID:106975-1777059000-1777070700@plaza-mons.be
SUMMARY:Les rayons et les ombres
DESCRIPTION:Super Charlie\n\n\n\n\n\n			\n				Bande annonce\n			\n		 \n\n\n\n\n\n\n\n\n\n\n\n\n\n\n\n\n\n\n\n\n\n\n\n\n\n\n\n\n\n\n\n\n\n\n\n\n\n\n\n\n\n\n\n\n\n\n\n\n\n\n\n\n\nBande annonce
URL:https://plaza-mons.be/film/les-rayons-et-les-ombres/2026-04-24
ATTACH;FMTTYPE=image/jpeg:https://plaza-mons.be/wp-content/uploads/2026/03/lesrayonsetlesombres-cineart-def-original.jpg
END:VEVENT
BEGIN:VEVENT
DTSTART;TZID=Europe/Brussels:20260424T203000
DTEND;TZID=Europe/Brussels:20260424T220600
DTSTAMP:20260421T221023
CREATED:20260414T080106Z
LAST-MODIFIED:20260421T115051Z
UID:106982-1777062600-1777068360@plaza-mons.be
SUMMARY:Ceux qui comptent
DESCRIPTION:Super Charlie\n\n\n\n\n\n			\n				Bande annonce\n			\n		 \n\n\n\n\n\n\n\n\n\n\n\n\n\n\n\n\n\n\n\n\n\n\n\n\n\n\n\n\n\n\n\n\n\n\n\n\n\n\n\n\n\n\n\n\n\n\n\n\n\n\n\n\n\nBande annonce
URL:https://plaza-mons.be/film/ceux-qui-comptent/2026-04-24
ATTACH;FMTTYPE=image/jpeg:https://plaza-mons.be/wp-content/uploads/2026/04/ceux-qui-comptent2.jpg
END:VEVENT
BEGIN:VEVENT
DTSTART;TZID=Europe/Brussels:20260424T203000
DTEND;TZID=Europe/Brussels:20260424T221600
DTSTAMP:20260421T221023
CREATED:20260421T114317Z
LAST-MODIFIED:20260421T114319Z
UID:107005-1777062600-1777068960@plaza-mons.be
SUMMARY:The Drama
DESCRIPTION:Super Charlie\n\n\n\n\n\n			\n				Bande annonce\n			\n		 \n\n\n\n\n\n\n\n\n\n\n\n\n\n\n\n\n\n\n\n\n\n\n\n\n\n\n\n\n\n\n\n\n\n\n\n\n\n\n\n\n\n\n\n\n\n\n\n\n\n\n\n\n\nBande annonce
URL:https://plaza-mons.be/film/the-drama/2026-04-24/2
CATEGORIES:Nouveauté
ATTACH;FMTTYPE=image/jpeg:https://plaza-mons.be/wp-content/uploads/2026/04/the-drama.jpg
END:VEVENT
BEGIN:VEVENT
DTSTART;TZID=Europe/Brussels:20260424T203000
DTEND;TZID=Europe/Brussels:20260424T223800
DTSTAMP:20260421T221023
CREATED:20260421T114116Z
LAST-MODIFIED:20260421T114117Z
UID:107014-1777062600-1777070280@plaza-mons.be
SUMMARY:Yellow Letters
DESCRIPTION:Super Charlie\n\n\n\n\n\n			\n				Bande annonce\n			\n		 \n\n\n\n\n\n\n\n\n\n\n\n\n\n\n\n\n\n\n\n\n\n\n\n\n\n\n\n\n\n\n\n\n\n\n\n\n\n\n\n\n\n\n\n\n\n\n\n\n\n\n\n\n\nBande annonce
URL:https://plaza-mons.be/film/yellow-letters/2026-04-24
CATEGORIES:Nouveauté
ATTACH;FMTTYPE=image/jpeg:https://plaza-mons.be/wp-content/uploads/2026/04/yellow-letters-1.jpg
END:VEVENT
END:VCALENDAR