BEGIN:VCALENDAR
VERSION:2.0
PRODID:-//Plaza Arthouse Cinema - ECPv5.14.1//NONSGML v1.0//EN
CALSCALE:GREGORIAN
METHOD:PUBLISH
X-WR-CALNAME:Plaza Arthouse Cinema
X-ORIGINAL-URL:https://plaza-mons.be
X-WR-CALDESC:Events for Plaza Arthouse Cinema
REFRESH-INTERVAL;VALUE=DURATION:PT1H
X-Robots-Tag:noindex
X-PUBLISHED-TTL:PT1H
BEGIN:VTIMEZONE
TZID:Europe/Brussels
BEGIN:DAYLIGHT
TZOFFSETFROM:+0100
TZOFFSETTO:+0200
TZNAME:CEST
DTSTART:20260329T010000
END:DAYLIGHT
BEGIN:STANDARD
TZOFFSETFROM:+0200
TZOFFSETTO:+0100
TZNAME:CET
DTSTART:20261025T010000
END:STANDARD
END:VTIMEZONE
BEGIN:VEVENT
DTSTART;TZID=Europe/Brussels:20260413T143000
DTEND;TZID=Europe/Brussels:20260413T162600
DTSTAMP:20260423T191800
CREATED:20260317T112950Z
LAST-MODIFIED:20260421T000912Z
UID:106396-1776090600-1776097560@plaza-mons.be
SUMMARY:Calle Malaga
DESCRIPTION:Super Charlie\n\n\n\n\n\n			\n				Bande annonce\n			\n		 \n\n\n\n\n\n\n\n\n\n\n\n\n\n\n\n\n\n\n\n\n\n\n\n\n\n\n\n\n\n\n\n\n\n\n\n\n\n\n\n\n\n\n\n\n\n\n\n\n\n\n\n\n\nBande annonce
URL:https://plaza-mons.be/film/calle-malaga/2026-04-13
ATTACH;FMTTYPE=image/jpeg:https://plaza-mons.be/wp-content/uploads/2026/03/callemalaga-cineart-def-original.jpg
END:VEVENT
BEGIN:VEVENT
DTSTART;TZID=Europe/Brussels:20260413T150000
DTEND;TZID=Europe/Brussels:20260413T164400
DTSTAMP:20260423T191800
CREATED:20260317T113859Z
LAST-MODIFIED:20260419T000531Z
UID:106446-1776092400-1776098640@plaza-mons.be
SUMMARY:Lumière\, l'aventure continue
DESCRIPTION:Super Charlie\n\n\n\n\n\n			\n				Bande annonce\n			\n		 \n\n\n\n\n\n\n\n\n\n\n\n\n\n\n\n\n\n\n\n\n\n\n\n\n\n\n\n\n\n\n\n\n\n\n\n\n\n\n\n\n\n\n\n\n\n\n\n\n\n\n\n\n\nBande annonce
URL:https://plaza-mons.be/film/lumiere/2026-04-13
ATTACH;FMTTYPE=image/jpeg:https://plaza-mons.be/wp-content/uploads/2026/03/lumiere-laventure-continue-1.jpg
END:VEVENT
BEGIN:VEVENT
DTSTART;TZID=Europe/Brussels:20260413T150000
DTEND;TZID=Europe/Brussels:20260413T165200
DTSTAMP:20260423T191800
CREATED:20260331T114602Z
LAST-MODIFIED:20260423T000122Z
UID:106426-1776092400-1776099120@plaza-mons.be
SUMMARY:Une histoire vraie
DESCRIPTION:Super Charlie
URL:https://plaza-mons.be/film/une-histoire-vraie/2026-04-13
ATTACH;FMTTYPE=image/jpeg:https://plaza-mons.be/wp-content/uploads/2026/03/une-histoire-vraie-retrospective-david-lynch.jpg
END:VEVENT
BEGIN:VEVENT
DTSTART;TZID=Europe/Brussels:20260413T150000
DTEND;TZID=Europe/Brussels:20260413T170100
DTSTAMP:20260423T191800
CREATED:20260317T113154Z
LAST-MODIFIED:20260423T000117Z
UID:106421-1776092400-1776099660@plaza-mons.be
SUMMARY:I swear
DESCRIPTION:Super Charlie\n\n\n\n\n\n			\n				Bande annonce\n			\n		 \n\n\n\n\n\n\n\n\n\n\n\n\n\n\n\n\n\n\n\n\n\n\n\n\n\n\n\n\n\n\n\n\n\n\n\n\n\n\n\n\n\n\n\n\n\n\n\n\n\n\n\n\n\nBande annonce
URL:https://plaza-mons.be/film/i-swear/2026-04-13
ATTACH;FMTTYPE=image/jpeg:https://plaza-mons.be/wp-content/uploads/2026/03/i-swear-1.jpg
END:VEVENT
BEGIN:VEVENT
DTSTART;TZID=Europe/Brussels:20260413T170000
DTEND;TZID=Europe/Brussels:20260413T185300
DTSTAMP:20260423T191800
CREATED:20260408T122335Z
LAST-MODIFIED:20260423T000128Z
UID:106471-1776099600-1776106380@plaza-mons.be
SUMMARY:If I Had Legs I'd Kick You
DESCRIPTION:Super Charlie
URL:https://plaza-mons.be/film/if-i-had-legs-id-kick-you/2026-04-13
ATTACH;FMTTYPE=image/jpeg:https://plaza-mons.be/wp-content/uploads/2026/04/if-i-had-legs-70x100-fr-original-1.jpg
END:VEVENT
BEGIN:VEVENT
DTSTART;TZID=Europe/Brussels:20260413T173000
DTEND;TZID=Europe/Brussels:20260413T190300
DTSTAMP:20260423T191800
CREATED:20260127T152216Z
LAST-MODIFIED:20260423T000059Z
UID:106440-1776101400-1776106980@plaza-mons.be
SUMMARY:Le chant des forêts
DESCRIPTION:Super Charlie\n\n\n\n\n\n			\n				Bande annonce\n			\n		 \n\n\n\n\n\n\n\n\n\n\n\n\n\n\n\n\n\n\n\n\n\n\n\n\n\n\n\n\n\n\n\n\n\n\n\n\n\n\n\n\n\n\n\n\n\n\n\n\n\n\n\n\n\nBande annonce
URL:https://plaza-mons.be/film/le-chant-des-forets/2026-04-13
ATTACH;FMTTYPE=image/jpeg:https://plaza-mons.be/wp-content/uploads/2026/01/lechantdesforets-cineart-70x100-fr-original.jpg
END:VEVENT
BEGIN:VEVENT
DTSTART;TZID=Europe/Brussels:20260413T180000
DTEND;TZID=Europe/Brussels:20260413T193200
DTSTAMP:20260423T191800
CREATED:20260317T113314Z
LAST-MODIFIED:20260413T000136Z
UID:106404-1776103200-1776108720@plaza-mons.be
SUMMARY:La danse des renards
DESCRIPTION:Super Charlie\n\n\n\n\n\n			\n				Bande annonce\n			\n		 \n\n\n\n\n\n\n\n\n\n\n\n\n\n\n\n\n\n\n\n\n\n\n\n\n\n\n\n\n\n\n\n\n\n\n\n\n\n\n\n\n\n\n\n\n\n\n\n\n\n\n\n\n\nBande annonce
URL:https://plaza-mons.be/film/la-danse-des-renards-2/2026-04-13
ATTACH;FMTTYPE=image/jpeg:https://plaza-mons.be/wp-content/uploads/2026/03/la-danse-des-renards-poster-b-120-x-h-160-cm-voorstel-2-original.jpg
END:VEVENT
BEGIN:VEVENT
DTSTART;TZID=Europe/Brussels:20260413T180000
DTEND;TZID=Europe/Brussels:20260413T193400
DTSTAMP:20260423T191800
CREATED:20260408T122157Z
LAST-MODIFIED:20260423T000401Z
UID:106477-1776103200-1776108840@plaza-mons.be
SUMMARY:Les filles du ciel
DESCRIPTION:Super Charlie\n\n\n\n\n\n			\n				Bande annonce\n			\n		 \n\n\n\n\n\n\n\n\n\n\n\n\n\n\n\n\n\n\n\n\n\n\n\n\n\n\n\n\n\n\n\n\n\n\n\n\n\n\n\n\n\n\n\n\n\n\n\n\n\n\n\n\n\nBande annonce
URL:https://plaza-mons.be/film/les-filles-du-ciel/2026-04-13
ATTACH;FMTTYPE=image/jpeg:https://plaza-mons.be/wp-content/uploads/2026/04/lesfillesduciel-cineart-def-original.jpg
END:VEVENT
BEGIN:VEVENT
DTSTART;TZID=Europe/Brussels:20260413T193000
DTEND;TZID=Europe/Brussels:20260413T224500
DTSTAMP:20260423T191800
CREATED:20260331T113653Z
LAST-MODIFIED:20260423T000258Z
UID:106410-1776108600-1776120300@plaza-mons.be
SUMMARY:Les rayons et les ombres
DESCRIPTION:Super Charlie\n\n\n\n\n\n			\n				Bande annonce\n			\n		 \n\n\n\n\n\n\n\n\n\n\n\n\n\n\n\n\n\n\n\n\n\n\n\n\n\n\n\n\n\n\n\n\n\n\n\n\n\n\n\n\n\n\n\n\n\n\n\n\n\n\n\n\n\nBande annonce
URL:https://plaza-mons.be/film/les-rayons-et-les-ombres/2026-04-13
ATTACH;FMTTYPE=image/jpeg:https://plaza-mons.be/wp-content/uploads/2026/03/lesrayonsetlesombres-cineart-def-original.jpg
END:VEVENT
BEGIN:VEVENT
DTSTART;TZID=Europe/Brussels:20260413T200000
DTEND;TZID=Europe/Brussels:20260413T222000
DTSTAMP:20260423T191800
CREATED:20260226T122616Z
LAST-MODIFIED:20260421T000636Z
UID:106415-1776110400-1776118800@plaza-mons.be
SUMMARY:Marty Supreme
DESCRIPTION:Super Charlie\n\n\n\n\n\n			\n				Bande annonce\n			\n		 \n\n\n\n\n\n\n\n\n\n\n\n\n\n\n\n\n\n\n\n\n\n\n\n\n\n\n\n\n\n\n\n\n\n\n\n\n\n\n\n\n\n\n\n\n\n\n\n\n\n\n\n\n\nBande annonce
URL:https://plaza-mons.be/film/marty-supreme/2026-04-13
CATEGORIES:Biopic,Drame
ATTACH;FMTTYPE=image/jpeg:https://plaza-mons.be/wp-content/uploads/2026/02/martysupreme-finalposter-vf-original.jpg
END:VEVENT
BEGIN:VEVENT
DTSTART;TZID=Europe/Brussels:20260413T203000
DTEND;TZID=Europe/Brussels:20260413T220400
DTSTAMP:20260423T191800
CREATED:20260408T121953Z
LAST-MODIFIED:20260423T000337Z
UID:106465-1776112200-1776117840@plaza-mons.be
SUMMARY:Christy and his Brother
DESCRIPTION:Super Charlie\n\n\n\n\n\n			\n				Bande annonce\n			\n		 \n\n\n\n\n\n\n\n\n\n\n\n\n\n\n\n\n\n\n\n\n\n\n\n\n\n\n\n\n\n\n\n\n\n\n\n\n\n\n\n\n\n\n\n\n\n\n\n\n\n\n\n\n\nBande annonce
URL:https://plaza-mons.be/film/christy-and-his-brother/2026-04-13
ATTACH;FMTTYPE=image/jpeg:https://plaza-mons.be/wp-content/uploads/2026/04/christy-and-his-brother.jpg
END:VEVENT
BEGIN:VEVENT
DTSTART;TZID=Europe/Brussels:20260413T203000
DTEND;TZID=Europe/Brussels:20260413T220900
DTSTAMP:20260423T191800
CREATED:20260331T113845Z
LAST-MODIFIED:20260413T000658Z
UID:106431-1776112200-1776118140@plaza-mons.be
SUMMARY:Keeper (L'Elue)
DESCRIPTION:Super Charlie\n\n\n\n\n\n			\n				Bande annonce\n			\n		 \n\n\n\n\n\n\n\n\n\n\n\n\n\n\n\n\n\n\n\n\n\n\n\n\n\n\n\n\n\n\n\n\n\n\n\n\n\n\n\n\n\n\n\n\n\n\n\n\n\n\n\n\n\nBande annonce
URL:https://plaza-mons.be/film/keeper-lelue/2026-04-13
CATEGORIES:Nouveauté
ATTACH;FMTTYPE=image/jpeg:https://plaza-mons.be/wp-content/uploads/2026/03/keeperjpg.jpg
END:VEVENT
END:VCALENDAR