BEGIN:VCALENDAR
VERSION:2.0
PRODID:-//Plaza Arthouse Cinema - ECPv5.14.1//NONSGML v1.0//EN
CALSCALE:GREGORIAN
METHOD:PUBLISH
X-WR-CALNAME:Plaza Arthouse Cinema
X-ORIGINAL-URL:https://plaza-mons.be
X-WR-CALDESC:Events for Plaza Arthouse Cinema
REFRESH-INTERVAL;VALUE=DURATION:PT1H
X-Robots-Tag:noindex
X-PUBLISHED-TTL:PT1H
BEGIN:VTIMEZONE
TZID:Europe/Brussels
BEGIN:DAYLIGHT
TZOFFSETFROM:+0100
TZOFFSETTO:+0200
TZNAME:CEST
DTSTART:20260329T010000
END:DAYLIGHT
BEGIN:STANDARD
TZOFFSETFROM:+0200
TZOFFSETTO:+0100
TZNAME:CET
DTSTART:20261025T010000
END:STANDARD
END:VTIMEZONE
BEGIN:VEVENT
DTSTART;TZID=Europe/Brussels:20260409T140000
DTEND;TZID=Europe/Brussels:20260409T155600
DTSTAMP:20260426T013807
CREATED:20260317T112950Z
LAST-MODIFIED:20260421T000906Z
UID:106392-1775743200-1775750160@plaza-mons.be
SUMMARY:Calle Malaga
DESCRIPTION:Die my Love\n\n\n\n\n\n			\n				Bande annonce\n			\n		 \n\n\n\n\n\n\n\n\n\n\n\n\n\n\n\n\n\n\n\n\n\n\n\n\n\n\n\n\n\n\n\n\n\n\n\n\n\n\n\n\n\n\n\n\n\n\n\n\n\n\n\n\n\nBande annonce
URL:https://plaza-mons.be/film/calle-malaga/2026-04-09
ATTACH;FMTTYPE=image/jpeg:https://plaza-mons.be/wp-content/uploads/2026/03/callemalaga-cineart-def-original.jpg
END:VEVENT
BEGIN:VEVENT
DTSTART;TZID=Europe/Brussels:20260409T150000
DTEND;TZID=Europe/Brussels:20260409T164400
DTSTAMP:20260426T013807
CREATED:20260317T113859Z
LAST-MODIFIED:20260419T000522Z
UID:106443-1775746800-1775753040@plaza-mons.be
SUMMARY:Lumière\, l'aventure continue
DESCRIPTION:Die my Love\n\n\n\n\n\n			\n				Bande annonce\n			\n		 \n\n\n\n\n\n\n\n\n\n\n\n\n\n\n\n\n\n\n\n\n\n\n\n\n\n\n\n\n\n\n\n\n\n\n\n\n\n\n\n\n\n\n\n\n\n\n\n\n\n\n\n\n\nBande annonce
URL:https://plaza-mons.be/film/lumiere/2026-04-09
ATTACH;FMTTYPE=image/jpeg:https://plaza-mons.be/wp-content/uploads/2026/03/lumiere-laventure-continue-1.jpg
END:VEVENT
BEGIN:VEVENT
DTSTART;TZID=Europe/Brussels:20260409T150000
DTEND;TZID=Europe/Brussels:20260409T165000
DTSTAMP:20260426T013807
CREATED:20260226T114153Z
LAST-MODIFIED:20260414T000451Z
UID:106398-1775746800-1775753400@plaza-mons.be
SUMMARY:La maison des femmes
DESCRIPTION:Die my Love\n\n\n\n\n\n			\n				Bande annonce\n			\n		 \n\n\n\n\n\n\n\n\n\n\n\n\n\n\n\n\n\n\n\n\n\n\n\n\n\n\n\n\n\n\n\n\n\n\n\n\n\n\n\n\n\n\n\n\n\n\n\n\n\n\n\n\n\nBande annonce
URL:https://plaza-mons.be/film/la-maison-des-femmes/2026-04-09
CATEGORIES:Drame
ATTACH;FMTTYPE=image/jpeg:https://plaza-mons.be/wp-content/uploads/2026/02/la-maison-des-femmes.jpg
END:VEVENT
BEGIN:VEVENT
DTSTART;TZID=Europe/Brussels:20260409T150000
DTEND;TZID=Europe/Brussels:20260409T165300
DTSTAMP:20260426T013807
CREATED:20260408T122335Z
LAST-MODIFIED:20260425T000500Z
UID:106624-1775746800-1775753580@plaza-mons.be
SUMMARY:If I Had Legs I'd Kick You
DESCRIPTION:Die my Love
URL:https://plaza-mons.be/film/if-i-had-legs-id-kick-you/2026-04-09
ATTACH;FMTTYPE=image/jpeg:https://plaza-mons.be/wp-content/uploads/2026/04/if-i-had-legs-70x100-fr-original-1.jpg
END:VEVENT
BEGIN:VEVENT
DTSTART;TZID=Europe/Brussels:20260409T163000
DTEND;TZID=Europe/Brussels:20260409T194500
DTSTAMP:20260426T013807
CREATED:20260331T113653Z
LAST-MODIFIED:20260425T000356Z
UID:106565-1775752200-1775763900@plaza-mons.be
SUMMARY:Les rayons et les ombres
DESCRIPTION:Die my Love\n\n\n\n\n\n			\n				Bande annonce\n			\n		 \n\n\n\n\n\n\n\n\n\n\n\n\n\n\n\n\n\n\n\n\n\n\n\n\n\n\n\n\n\n\n\n\n\n\n\n\n\n\n\n\n\n\n\n\n\n\n\n\n\n\n\n\n\nBande annonce
URL:https://plaza-mons.be/film/les-rayons-et-les-ombres/2026-04-09
ATTACH;FMTTYPE=image/jpeg:https://plaza-mons.be/wp-content/uploads/2026/03/lesrayonsetlesombres-cineart-def-original.jpg
END:VEVENT
BEGIN:VEVENT
DTSTART;TZID=Europe/Brussels:20260409T173000
DTEND;TZID=Europe/Brussels:20260409T195000
DTSTAMP:20260426T013807
CREATED:20260226T122616Z
LAST-MODIFIED:20260421T000601Z
UID:106412-1775755800-1775764200@plaza-mons.be
SUMMARY:Marty Supreme
DESCRIPTION:Die my Love\n\n\n\n\n\n			\n				Bande annonce\n			\n		 \n\n\n\n\n\n\n\n\n\n\n\n\n\n\n\n\n\n\n\n\n\n\n\n\n\n\n\n\n\n\n\n\n\n\n\n\n\n\n\n\n\n\n\n\n\n\n\n\n\n\n\n\n\nBande annonce
URL:https://plaza-mons.be/film/marty-supreme/2026-04-09
CATEGORIES:Biopic,Drame
ATTACH;FMTTYPE=image/jpeg:https://plaza-mons.be/wp-content/uploads/2026/02/martysupreme-finalposter-vf-original.jpg
END:VEVENT
BEGIN:VEVENT
DTSTART;TZID=Europe/Brussels:20260409T180000
DTEND;TZID=Europe/Brussels:20260409T193400
DTSTAMP:20260426T013807
CREATED:20260408T122157Z
LAST-MODIFIED:20260425T000205Z
UID:106473-1775757600-1775763240@plaza-mons.be
SUMMARY:Les filles du ciel
DESCRIPTION:Die my Love\n\n\n\n\n\n			\n				Bande annonce\n			\n		 \n\n\n\n\n\n\n\n\n\n\n\n\n\n\n\n\n\n\n\n\n\n\n\n\n\n\n\n\n\n\n\n\n\n\n\n\n\n\n\n\n\n\n\n\n\n\n\n\n\n\n\n\n\nBande annonce
URL:https://plaza-mons.be/film/les-filles-du-ciel/2026-04-09
ATTACH;FMTTYPE=image/jpeg:https://plaza-mons.be/wp-content/uploads/2026/04/lesfillesduciel-cineart-def-original.jpg
END:VEVENT
BEGIN:VEVENT
DTSTART;TZID=Europe/Brussels:20260409T181500
DTEND;TZID=Europe/Brussels:20260409T195400
DTSTAMP:20260426T013807
CREATED:20260331T113845Z
LAST-MODIFIED:20260413T000656Z
UID:106428-1775758500-1775764440@plaza-mons.be
SUMMARY:Keeper (L'Elue)
DESCRIPTION:Die my Love\n\n\n\n\n\n			\n				Bande annonce\n			\n		 \n\n\n\n\n\n\n\n\n\n\n\n\n\n\n\n\n\n\n\n\n\n\n\n\n\n\n\n\n\n\n\n\n\n\n\n\n\n\n\n\n\n\n\n\n\n\n\n\n\n\n\n\n\nBande annonce
URL:https://plaza-mons.be/film/keeper-lelue/2026-04-09
CATEGORIES:Nouveauté
ATTACH;FMTTYPE=image/jpeg:https://plaza-mons.be/wp-content/uploads/2026/03/keeperjpg.jpg
END:VEVENT
BEGIN:VEVENT
DTSTART;TZID=Europe/Brussels:20260409T203000
DTEND;TZID=Europe/Brussels:20260409T220400
DTSTAMP:20260426T013807
CREATED:20260408T121953Z
LAST-MODIFIED:20260425T000202Z
UID:106463-1775766600-1775772240@plaza-mons.be
SUMMARY:Christy and his Brother
DESCRIPTION:Die my Love\n\n\n\n\n\n			\n				Bande annonce\n			\n		 \n\n\n\n\n\n\n\n\n\n\n\n\n\n\n\n\n\n\n\n\n\n\n\n\n\n\n\n\n\n\n\n\n\n\n\n\n\n\n\n\n\n\n\n\n\n\n\n\n\n\n\n\n\nBande annonce
URL:https://plaza-mons.be/film/christy-and-his-brother/2026-04-09
ATTACH;FMTTYPE=image/jpeg:https://plaza-mons.be/wp-content/uploads/2026/04/christy-and-his-brother.jpg
END:VEVENT
BEGIN:VEVENT
DTSTART;TZID=Europe/Brussels:20260409T203000
DTEND;TZID=Europe/Brussels:20260409T221700
DTSTAMP:20260426T013807
CREATED:20260317T112316Z
LAST-MODIFIED:20260412T001254Z
UID:106432-1775766600-1775773020@plaza-mons.be
SUMMARY:Pillion
DESCRIPTION:Die my Love\n\n\n\n\n\n			\n				Bande annonce\n			\n		 \n\n\n\n\n\n\n\n\n\n\n\n\n\n\n\n\n\n\n\n\n\n\n\n\n\n\n\n\n\n\n\n\n\n\n\n\n\n\n\n\n\n\n\n\n\n\n\n\n\n\n\n\n\nBande annonce
URL:https://plaza-mons.be/film/pillion/2026-04-09
ATTACH;FMTTYPE=image/jpeg:https://plaza-mons.be/wp-content/uploads/2026/03/pillion-poster-def-be-original.jpg
END:VEVENT
BEGIN:VEVENT
DTSTART;TZID=Europe/Brussels:20260409T203000
DTEND;TZID=Europe/Brussels:20260409T222300
DTSTAMP:20260426T013807
CREATED:20260408T121622Z
LAST-MODIFIED:20260418T001136Z
UID:106452-1775766600-1775773380@plaza-mons.be
SUMMARY:Send Help
DESCRIPTION:Die my Love\n\n\n\n\n\n			\n				Bande annonce\n			\n		 \n\n\n\n\n\n\n\n\n\n\n\n\n\n\n\n\n\n\n\n\n\n\n\n\n\n\n\n\n\n\n\n\n\n\n\n\n\n\n\n\n\n\n\n\n\n\n\n\n\n\n\n\n\nBande annonce
URL:https://plaza-mons.be/film/send-help/2026-04-09
ATTACH;FMTTYPE=image/jpeg:https://plaza-mons.be/wp-content/uploads/2026/04/send-held.jpg
END:VEVENT
BEGIN:VEVENT
DTSTART;TZID=Europe/Brussels:20260409T203000
DTEND;TZID=Europe/Brussels:20260409T223100
DTSTAMP:20260426T013808
CREATED:20260317T113154Z
LAST-MODIFIED:20260425T000456Z
UID:106418-1775766600-1775773860@plaza-mons.be
SUMMARY:I swear
DESCRIPTION:Die my Love\n\n\n\n\n\n			\n				Bande annonce\n			\n		 \n\n\n\n\n\n\n\n\n\n\n\n\n\n\n\n\n\n\n\n\n\n\n\n\n\n\n\n\n\n\n\n\n\n\n\n\n\n\n\n\n\n\n\n\n\n\n\n\n\n\n\n\n\nBande annonce
URL:https://plaza-mons.be/film/i-swear/2026-04-09
ATTACH;FMTTYPE=image/jpeg:https://plaza-mons.be/wp-content/uploads/2026/03/i-swear-1.jpg
END:VEVENT
END:VCALENDAR