BEGIN:VCALENDAR
VERSION:2.0
PRODID:-//Plaza Arthouse Cinema - ECPv5.14.1//NONSGML v1.0//EN
CALSCALE:GREGORIAN
METHOD:PUBLISH
X-WR-CALNAME:Plaza Arthouse Cinema
X-ORIGINAL-URL:https://plaza-mons.be
X-WR-CALDESC:Events for Plaza Arthouse Cinema
REFRESH-INTERVAL;VALUE=DURATION:PT1H
X-Robots-Tag:noindex
X-PUBLISHED-TTL:PT1H
BEGIN:VTIMEZONE
TZID:Europe/Brussels
BEGIN:DAYLIGHT
TZOFFSETFROM:+0100
TZOFFSETTO:+0200
TZNAME:CEST
DTSTART:20260329T010000
END:DAYLIGHT
BEGIN:STANDARD
TZOFFSETFROM:+0200
TZOFFSETTO:+0100
TZNAME:CET
DTSTART:20261025T010000
END:STANDARD
END:VTIMEZONE
BEGIN:VEVENT
DTSTART;TZID=Europe/Brussels:20260402T150000
DTEND;TZID=Europe/Brussels:20260402T163200
DTSTAMP:20260421T102739
CREATED:20260317T113314Z
LAST-MODIFIED:20260413T000128Z
UID:106226-1775142000-1775147520@plaza-mons.be
SUMMARY:La danse des renards
DESCRIPTION:Pop & Clap ciné-club : Kill Bill: The Whole Bloody Affair\n\n\n\n\n\n			\n				Bande annonce\n			\n		 \n\n\n\n\n\n\n\n\n\n\n\n\n\n\n\n\n\n\n\n\n\n\n\n\n\n\n\n\n\n\n\n\n\n\n\n\n\n\n\n\n\n\n\n\n\n\n\n\n\n\n\n\n\nBande annonce
URL:https://plaza-mons.be/film/la-danse-des-renards-2/2026-04-02
ATTACH;FMTTYPE=image/jpeg:https://plaza-mons.be/wp-content/uploads/2026/03/la-danse-des-renards-poster-b-120-x-h-160-cm-voorstel-2-original.jpg
END:VEVENT
BEGIN:VEVENT
DTSTART;TZID=Europe/Brussels:20260402T150000
DTEND;TZID=Europe/Brussels:20260402T163900
DTSTAMP:20260421T102739
CREATED:20260317T112111Z
LAST-MODIFIED:20260406T002138Z
UID:106214-1775142000-1775147940@plaza-mons.be
SUMMARY:Urchin
DESCRIPTION:Pop & Clap ciné-club : Kill Bill: The Whole Bloody Affair\n\n\n\n\n\n			\n				Bande annonce\n			\n		 \n\n\n\n\n\n\n\n\n\n\n\n\n\n\n\n\n\n\n\n\n\n\n\n\n\n\n\n\n\n\n\n\n\n\n\n\n\n\n\n\n\n\n\n\n\n\n\n\n\n\n\n\n\nBande annonce
URL:https://plaza-mons.be/film/urchin/2026-04-02
ATTACH;FMTTYPE=image/jpeg:https://plaza-mons.be/wp-content/uploads/2026/03/70x100-urchin-be-original.jpg
END:VEVENT
BEGIN:VEVENT
DTSTART;TZID=Europe/Brussels:20260402T150000
DTEND;TZID=Europe/Brussels:20260402T164700
DTSTAMP:20260421T102739
CREATED:20260317T112316Z
LAST-MODIFIED:20260412T001231Z
UID:106231-1775142000-1775148420@plaza-mons.be
SUMMARY:Pillion
DESCRIPTION:Pop & Clap ciné-club : Kill Bill: The Whole Bloody Affair\n\n\n\n\n\n			\n				Bande annonce\n			\n		 \n\n\n\n\n\n\n\n\n\n\n\n\n\n\n\n\n\n\n\n\n\n\n\n\n\n\n\n\n\n\n\n\n\n\n\n\n\n\n\n\n\n\n\n\n\n\n\n\n\n\n\n\n\nBande annonce
URL:https://plaza-mons.be/film/pillion/2026-04-02
ATTACH;FMTTYPE=image/jpeg:https://plaza-mons.be/wp-content/uploads/2026/03/pillion-poster-def-be-original.jpg
END:VEVENT
BEGIN:VEVENT
DTSTART;TZID=Europe/Brussels:20260402T150000
DTEND;TZID=Europe/Brussels:20260402T165600
DTSTAMP:20260421T102739
CREATED:20260317T112950Z
LAST-MODIFIED:20260421T000855Z
UID:106186-1775142000-1775148960@plaza-mons.be
SUMMARY:Calle Malaga
DESCRIPTION:Pop & Clap ciné-club : Kill Bill: The Whole Bloody Affair\n\n\n\n\n\n			\n				Bande annonce\n			\n		 \n\n\n\n\n\n\n\n\n\n\n\n\n\n\n\n\n\n\n\n\n\n\n\n\n\n\n\n\n\n\n\n\n\n\n\n\n\n\n\n\n\n\n\n\n\n\n\n\n\n\n\n\n\nBande annonce
URL:https://plaza-mons.be/film/calle-malaga/2026-04-02
ATTACH;FMTTYPE=image/jpeg:https://plaza-mons.be/wp-content/uploads/2026/03/callemalaga-cineart-def-original.jpg
END:VEVENT
BEGIN:VEVENT
DTSTART;TZID=Europe/Brussels:20260402T170000
DTEND;TZID=Europe/Brussels:20260402T185000
DTSTAMP:20260421T102739
CREATED:20260226T114153Z
LAST-MODIFIED:20260414T000408Z
UID:106193-1775149200-1775155800@plaza-mons.be
SUMMARY:La maison des femmes
DESCRIPTION:Pop & Clap ciné-club : Kill Bill: The Whole Bloody Affair\n\n\n\n\n\n			\n				Bande annonce\n			\n		 \n\n\n\n\n\n\n\n\n\n\n\n\n\n\n\n\n\n\n\n\n\n\n\n\n\n\n\n\n\n\n\n\n\n\n\n\n\n\n\n\n\n\n\n\n\n\n\n\n\n\n\n\n\nBande annonce
URL:https://plaza-mons.be/film/la-maison-des-femmes/2026-04-02
CATEGORIES:Drame
ATTACH;FMTTYPE=image/jpeg:https://plaza-mons.be/wp-content/uploads/2026/02/la-maison-des-femmes.jpg
END:VEVENT
BEGIN:VEVENT
DTSTART;TZID=Europe/Brussels:20260402T173000
DTEND;TZID=Europe/Brussels:20260402T195000
DTSTAMP:20260421T102739
CREATED:20260226T122616Z
LAST-MODIFIED:20260421T000454Z
UID:106218-1775151000-1775159400@plaza-mons.be
SUMMARY:Marty Supreme
DESCRIPTION:Pop & Clap ciné-club : Kill Bill: The Whole Bloody Affair\n\n\n\n\n\n			\n				Bande annonce\n			\n		 \n\n\n\n\n\n\n\n\n\n\n\n\n\n\n\n\n\n\n\n\n\n\n\n\n\n\n\n\n\n\n\n\n\n\n\n\n\n\n\n\n\n\n\n\n\n\n\n\n\n\n\n\n\nBande annonce
URL:https://plaza-mons.be/film/marty-supreme/2026-04-02
CATEGORIES:Biopic,Drame
ATTACH;FMTTYPE=image/jpeg:https://plaza-mons.be/wp-content/uploads/2026/02/martysupreme-finalposter-vf-original.jpg
END:VEVENT
BEGIN:VEVENT
DTSTART;TZID=Europe/Brussels:20260402T193000
DTEND;TZID=Europe/Brussels:20260402T224500
DTSTAMP:20260421T102739
CREATED:20260331T113653Z
LAST-MODIFIED:20260421T000955Z
UID:106241-1775158200-1775169900@plaza-mons.be
SUMMARY:Les rayons et les ombres
DESCRIPTION:Pop & Clap ciné-club : Kill Bill: The Whole Bloody Affair\n\n\n\n\n\n			\n				Bande annonce\n			\n		 \n\n\n\n\n\n\n\n\n\n\n\n\n\n\n\n\n\n\n\n\n\n\n\n\n\n\n\n\n\n\n\n\n\n\n\n\n\n\n\n\n\n\n\n\n\n\n\n\n\n\n\n\n\nBande annonce
URL:https://plaza-mons.be/film/les-rayons-et-les-ombres/2026-04-02
CATEGORIES:Nouveauté
ATTACH;FMTTYPE=image/jpeg:https://plaza-mons.be/wp-content/uploads/2026/03/lesrayonsetlesombres-cineart-def-original.jpg
END:VEVENT
BEGIN:VEVENT
DTSTART;TZID=Europe/Brussels:20260402T203000
DTEND;TZID=Europe/Brussels:20260402T221900
DTSTAMP:20260421T102739
CREATED:20260226T114510Z
LAST-MODIFIED:20260405T001534Z
UID:106199-1775161800-1775168340@plaza-mons.be
SUMMARY:The Love That Remains
DESCRIPTION:Pop & Clap ciné-club : Kill Bill: The Whole Bloody Affair\n\n\n\n\n\n			\n				Bande annonce\n			\n		 \n\n\n\n\n\n\n\n\n\n\n\n\n\n\n\n\n\n\n\n\n\n\n\n\n\n\n\n\n\n\n\n\n\n\n\n\n\n\n\n\n\n\n\n\n\n\n\n\n\n\n\n\n\nBande annonce
URL:https://plaza-mons.be/film/the-love-that-remains/2026-04-02
ATTACH;FMTTYPE=image/jpeg:https://plaza-mons.be/wp-content/uploads/2026/02/thelovethatremains-web-original.jpg
END:VEVENT
BEGIN:VEVENT
DTSTART;TZID=Europe/Brussels:20260402T203000
DTEND;TZID=Europe/Brussels:20260402T222600
DTSTAMP:20260421T102739
CREATED:20260317T111943Z
LAST-MODIFIED:20260407T000327Z
UID:106252-1775161800-1775168760@plaza-mons.be
SUMMARY:Nino dans la nuit
DESCRIPTION:Pop & Clap ciné-club : Kill Bill: The Whole Bloody Affair\n\n\n\n\n\n			\n				Bande annonce\n			\n		 \n\n\n\n\n\n\n\n\n\n\n\n\n\n\n\n\n\n\n\n\n\n\n\n\n\n\n\n\n\n\n\n\n\n\n\n\n\n\n\n\n\n\n\n\n\n\n\n\n\n\n\n\n\nBande annonce
URL:https://plaza-mons.be/film/nino-dans-la-nuit/2026-04-02
CATEGORIES:Nouveauté
ATTACH;FMTTYPE=image/jpeg:https://plaza-mons.be/wp-content/uploads/2026/03/nino-affichebelge-original.jpg
END:VEVENT
BEGIN:VEVENT
DTSTART;TZID=Europe/Brussels:20260402T203000
DTEND;TZID=Europe/Brussels:20260402T223100
DTSTAMP:20260421T102739
CREATED:20260317T113154Z
LAST-MODIFIED:20260421T000928Z
UID:106207-1775161800-1775169060@plaza-mons.be
SUMMARY:I swear
DESCRIPTION:Pop & Clap ciné-club : Kill Bill: The Whole Bloody Affair\n\n\n\n\n\n			\n				Bande annonce\n			\n		 \n\n\n\n\n\n\n\n\n\n\n\n\n\n\n\n\n\n\n\n\n\n\n\n\n\n\n\n\n\n\n\n\n\n\n\n\n\n\n\n\n\n\n\n\n\n\n\n\n\n\n\n\n\nBande annonce
URL:https://plaza-mons.be/film/i-swear/2026-04-02
ATTACH;FMTTYPE=image/jpeg:https://plaza-mons.be/wp-content/uploads/2026/03/i-swear-1.jpg
END:VEVENT
END:VCALENDAR