BEGIN:VCALENDAR
VERSION:2.0
PRODID:-//Plaza Arthouse Cinema - ECPv5.14.1//NONSGML v1.0//EN
CALSCALE:GREGORIAN
METHOD:PUBLISH
X-WR-CALNAME:Plaza Arthouse Cinema
X-ORIGINAL-URL:https://plaza-mons.be
X-WR-CALDESC:Events for Plaza Arthouse Cinema
REFRESH-INTERVAL;VALUE=DURATION:PT1H
X-Robots-Tag:noindex
X-PUBLISHED-TTL:PT1H
BEGIN:VTIMEZONE
TZID:Europe/Brussels
BEGIN:DAYLIGHT
TZOFFSETFROM:+0100
TZOFFSETTO:+0200
TZNAME:CEST
DTSTART:20260329T010000
END:DAYLIGHT
BEGIN:STANDARD
TZOFFSETFROM:+0200
TZOFFSETTO:+0100
TZNAME:CET
DTSTART:20261025T010000
END:STANDARD
END:VTIMEZONE
BEGIN:VEVENT
DTSTART;TZID=Europe/Brussels:20260320T140000
DTEND;TZID=Europe/Brussels:20260320T140000
DTSTAMP:20260424T032506
CREATED:20260226T114048Z
LAST-MODIFIED:20260331T000145Z
UID:105491-1774015200-1774015200@plaza-mons.be
SUMMARY:Dust
DESCRIPTION:Super Charlie\n\n\n\n\n\n			\n				Bande annonce\n			\n		 \n\n\n\n\n\n\n\n\n\n\n\n\n\n\n\n\n\n\n\n\n\n\n\n\n\n\n\n\n\n\n\n\n\n\n\n\n\n\n\n\n\n\n\n\n\n\n\n\n\n\n\n\n\nBande annonce
URL:https://plaza-mons.be/film/dust/2026-03-20
ATTACH;FMTTYPE=image/jpeg:https://plaza-mons.be/wp-content/uploads/2026/02/dust-poster-national-hq-original.jpg
END:VEVENT
BEGIN:VEVENT
DTSTART;TZID=Europe/Brussels:20260320T150000
DTEND;TZID=Europe/Brussels:20260320T163300
DTSTAMP:20260424T032506
CREATED:20260127T152216Z
LAST-MODIFIED:20260424T000523Z
UID:105501-1774018800-1774024380@plaza-mons.be
SUMMARY:Le chant des forêts
DESCRIPTION:Super Charlie\n\n\n\n\n\n			\n				Bande annonce\n			\n		 \n\n\n\n\n\n\n\n\n\n\n\n\n\n\n\n\n\n\n\n\n\n\n\n\n\n\n\n\n\n\n\n\n\n\n\n\n\n\n\n\n\n\n\n\n\n\n\n\n\n\n\n\n\nBande annonce
URL:https://plaza-mons.be/film/le-chant-des-forets/2026-03-20
ATTACH;FMTTYPE=image/jpeg:https://plaza-mons.be/wp-content/uploads/2026/01/lechantdesforets-cineart-70x100-fr-original.jpg
END:VEVENT
BEGIN:VEVENT
DTSTART;TZID=Europe/Brussels:20260320T150000
DTEND;TZID=Europe/Brussels:20260320T165000
DTSTAMP:20260424T032506
CREATED:20260226T114153Z
LAST-MODIFIED:20260414T000242Z
UID:105515-1774018800-1774025400@plaza-mons.be
SUMMARY:La maison des femmes
DESCRIPTION:Super Charlie\n\n\n\n\n\n			\n				Bande annonce\n			\n		 \n\n\n\n\n\n\n\n\n\n\n\n\n\n\n\n\n\n\n\n\n\n\n\n\n\n\n\n\n\n\n\n\n\n\n\n\n\n\n\n\n\n\n\n\n\n\n\n\n\n\n\n\n\nBande annonce
URL:https://plaza-mons.be/film/la-maison-des-femmes/2026-03-20
CATEGORIES:Drame
ATTACH;FMTTYPE=image/jpeg:https://plaza-mons.be/wp-content/uploads/2026/02/la-maison-des-femmes.jpg
END:VEVENT
BEGIN:VEVENT
DTSTART;TZID=Europe/Brussels:20260320T150000
DTEND;TZID=Europe/Brussels:20260320T171900
DTSTAMP:20260424T032506
CREATED:20260127T152456Z
LAST-MODIFIED:20260324T000119Z
UID:105548-1774018800-1774027140@plaza-mons.be
SUMMARY:No Other Choice
DESCRIPTION:Super Charlie\n\n\n\n\n\n			\n				Bande annonce\n			\n		 \n\n\n\n\n\n\n\n\n\n\n\n\n\n\n\n\n\n\n\n\n\n\n\n\n\n\n\n\n\n\n\n\n\n\n\n\n\n\n\n\n\n\n\n\n\n\n\n\n\n\n\n\n\nBande annonce
URL:https://plaza-mons.be/film/no-other-choice/2026-03-20
ATTACH;FMTTYPE=image/jpeg:https://plaza-mons.be/wp-content/uploads/2026/01/nootherchoice-cineart-def-original.jpg
END:VEVENT
BEGIN:VEVENT
DTSTART;TZID=Europe/Brussels:20260320T173000
DTEND;TZID=Europe/Brussels:20260320T195000
DTSTAMP:20260424T032506
CREATED:20260226T122616Z
LAST-MODIFIED:20260421T000212Z
UID:105534-1774027800-1774036200@plaza-mons.be
SUMMARY:Marty Supreme
DESCRIPTION:Super Charlie\n\n\n\n\n\n			\n				Bande annonce\n			\n		 \n\n\n\n\n\n\n\n\n\n\n\n\n\n\n\n\n\n\n\n\n\n\n\n\n\n\n\n\n\n\n\n\n\n\n\n\n\n\n\n\n\n\n\n\n\n\n\n\n\n\n\n\n\nBande annonce
URL:https://plaza-mons.be/film/marty-supreme/2026-03-20
CATEGORIES:Biopic,Drame
ATTACH;FMTTYPE=image/jpeg:https://plaza-mons.be/wp-content/uploads/2026/02/martysupreme-finalposter-vf-original.jpg
END:VEVENT
BEGIN:VEVENT
DTSTART;TZID=Europe/Brussels:20260320T180000
DTEND;TZID=Europe/Brussels:20260320T194900
DTSTAMP:20260424T032506
CREATED:20260226T114510Z
LAST-MODIFIED:20260405T001428Z
UID:105528-1774029600-1774036140@plaza-mons.be
SUMMARY:The Love That Remains
DESCRIPTION:Super Charlie\n\n\n\n\n\n			\n				Bande annonce\n			\n		 \n\n\n\n\n\n\n\n\n\n\n\n\n\n\n\n\n\n\n\n\n\n\n\n\n\n\n\n\n\n\n\n\n\n\n\n\n\n\n\n\n\n\n\n\n\n\n\n\n\n\n\n\n\nBande annonce
URL:https://plaza-mons.be/film/the-love-that-remains/2026-03-20
ATTACH;FMTTYPE=image/jpeg:https://plaza-mons.be/wp-content/uploads/2026/02/thelovethatremains-web-original.jpg
END:VEVENT
BEGIN:VEVENT
DTSTART;TZID=Europe/Brussels:20260320T180000
DTEND;TZID=Europe/Brussels:20260320T195000
DTSTAMP:20260424T032506
CREATED:20260205T161731Z
LAST-MODIFIED:20260324T000429Z
UID:105505-1774029600-1774036200@plaza-mons.be
SUMMARY:The Mastermind
DESCRIPTION:Super Charlie\n\n\n\n\n\n			\n				Bande annonce\n			\n		 \n\n\n\n\n\n\n\n\n\n\n\n\n\n\n\n\n\n\n\n\n\n\n\n\n\n\n\n\n\n\n\n\n\n\n\n\n\n\n\n\n\n\n\n\n\n\n\n\n\n\n\n\n\nBande annonce
URL:https://plaza-mons.be/film/the-mastermind/2026-03-20
ATTACH;FMTTYPE=image/jpeg:https://plaza-mons.be/wp-content/uploads/2026/02/themastermind-cineart-def-original.jpg
END:VEVENT
BEGIN:VEVENT
DTSTART;TZID=Europe/Brussels:20260320T180000
DTEND;TZID=Europe/Brussels:20260320T195600
DTSTAMP:20260424T032506
CREATED:20260317T112950Z
LAST-MODIFIED:20260421T000840Z
UID:105595-1774029600-1774036560@plaza-mons.be
SUMMARY:Calle Malaga
DESCRIPTION:Super Charlie\n\n\n\n\n\n			\n				Bande annonce\n			\n		 \n\n\n\n\n\n\n\n\n\n\n\n\n\n\n\n\n\n\n\n\n\n\n\n\n\n\n\n\n\n\n\n\n\n\n\n\n\n\n\n\n\n\n\n\n\n\n\n\n\n\n\n\n\nBande annonce
URL:https://plaza-mons.be/film/calle-malaga/2026-03-20
ATTACH;FMTTYPE=image/jpeg:https://plaza-mons.be/wp-content/uploads/2026/03/callemalaga-cineart-def-original.jpg
END:VEVENT
BEGIN:VEVENT
DTSTART;TZID=Europe/Brussels:20260320T203000
DTEND;TZID=Europe/Brussels:20260320T220500
DTSTAMP:20260424T032506
CREATED:20260317T112443Z
LAST-MODIFIED:20260406T001610Z
UID:105576-1774038600-1774044300@plaza-mons.be
SUMMARY:Dreams
DESCRIPTION:Super Charlie\n\n\n\n\n\n			\n				Bande annonce\n			\n		 \n\n\n\n\n\n\n\n\n\n\n\n\n\n\n\n\n\n\n\n\n\n\n\n\n\n\n\n\n\n\n\n\n\n\n\n\n\n\n\n\n\n\n\n\n\n\n\n\n\n\n\n\n\nBande annonce
URL:https://plaza-mons.be/film/dreams/2026-03-20
ATTACH;FMTTYPE=image/jpeg:https://plaza-mons.be/wp-content/uploads/2026/03/dreams2-1.jpg
END:VEVENT
BEGIN:VEVENT
DTSTART;TZID=Europe/Brussels:20260320T203000
DTEND;TZID=Europe/Brussels:20260320T220900
DTSTAMP:20260424T032506
CREATED:20260317T112111Z
LAST-MODIFIED:20260406T002043Z
UID:105569-1774038600-1774044540@plaza-mons.be
SUMMARY:Urchin
DESCRIPTION:Super Charlie\n\n\n\n\n\n			\n				Bande annonce\n			\n		 \n\n\n\n\n\n\n\n\n\n\n\n\n\n\n\n\n\n\n\n\n\n\n\n\n\n\n\n\n\n\n\n\n\n\n\n\n\n\n\n\n\n\n\n\n\n\n\n\n\n\n\n\n\nBande annonce
URL:https://plaza-mons.be/film/urchin/2026-03-20
ATTACH;FMTTYPE=image/jpeg:https://plaza-mons.be/wp-content/uploads/2026/03/70x100-urchin-be-original.jpg
END:VEVENT
BEGIN:VEVENT
DTSTART;TZID=Europe/Brussels:20260320T203000
DTEND;TZID=Europe/Brussels:20260320T221700
DTSTAMP:20260424T032507
CREATED:20260317T112316Z
LAST-MODIFIED:20260412T001138Z
UID:105589-1774038600-1774045020@plaza-mons.be
SUMMARY:Pillion
DESCRIPTION:Super Charlie\n\n\n\n\n\n			\n				Bande annonce\n			\n		 \n\n\n\n\n\n\n\n\n\n\n\n\n\n\n\n\n\n\n\n\n\n\n\n\n\n\n\n\n\n\n\n\n\n\n\n\n\n\n\n\n\n\n\n\n\n\n\n\n\n\n\n\n\nBande annonce
URL:https://plaza-mons.be/film/pillion/2026-03-20
ATTACH;FMTTYPE=image/jpeg:https://plaza-mons.be/wp-content/uploads/2026/03/pillion-poster-def-be-original.jpg
END:VEVENT
BEGIN:VEVENT
DTSTART;TZID=Europe/Brussels:20260320T203000
DTEND;TZID=Europe/Brussels:20260320T223900
DTSTAMP:20260424T032507
CREATED:20260205T162920Z
LAST-MODIFIED:20260323T000513Z
UID:105523-1774038600-1774046340@plaza-mons.be
SUMMARY:The History of Sound
DESCRIPTION:Super Charlie\n\n\n\n\n\n			\n				Bande annonce\n			\n		 \n\n\n\n\n\n\n\n\n\n\n\n\n\n\n\n\n\n\n\n\n\n\n\n\n\n\n\n\n\n\n\n\n\n\n\n\n\n\n\n\n\n\n\n\n\n\n\n\n\n\n\n\n\nBande annonce\n\n\n\n\n\n\n\nhttps://www.youtube.com/watch?v=XB9uGkxzWYs
URL:https://plaza-mons.be/film/the-history-of-sound/2026-03-20
CATEGORIES:Drame,Romance
ATTACH;FMTTYPE=image/jpeg:https://plaza-mons.be/wp-content/uploads/2026/02/thos-intl-digital-1sheet-rock-darkgreen-rgb-ov-small.jpg
END:VEVENT
END:VCALENDAR