BEGIN:VCALENDAR
VERSION:2.0
PRODID:-//Plaza Arthouse Cinema - ECPv5.14.1//NONSGML v1.0//EN
CALSCALE:GREGORIAN
METHOD:PUBLISH
X-WR-CALNAME:Plaza Arthouse Cinema
X-ORIGINAL-URL:https://plaza-mons.be
X-WR-CALDESC:Events for Plaza Arthouse Cinema
REFRESH-INTERVAL;VALUE=DURATION:PT1H
X-Robots-Tag:noindex
X-PUBLISHED-TTL:PT1H
BEGIN:VTIMEZONE
TZID:Europe/Brussels
BEGIN:DAYLIGHT
TZOFFSETFROM:+0100
TZOFFSETTO:+0200
TZNAME:CEST
DTSTART:20260329T010000
END:DAYLIGHT
BEGIN:STANDARD
TZOFFSETFROM:+0200
TZOFFSETTO:+0100
TZNAME:CET
DTSTART:20261025T010000
END:STANDARD
END:VTIMEZONE
BEGIN:VEVENT
DTSTART;TZID=Europe/Brussels:20260317T150000
DTEND;TZID=Europe/Brussels:20260317T163300
DTSTAMP:20260422T063810
CREATED:20260127T152216Z
LAST-MODIFIED:20260422T000312Z
UID:105250-1773759600-1773765180@plaza-mons.be
SUMMARY:Le chant des forêts
DESCRIPTION:Super Charlie\n\n\n\n\n\n			\n				Bande annonce\n			\n		 \n\n\n\n\n\n\n\n\n\n\n\n\n\n\n\n\n\n\n\n\n\n\n\n\n\n\n\n\n\n\n\n\n\n\n\n\n\n\n\n\n\n\n\n\n\n\n\n\n\n\n\n\n\nBande annonce
URL:https://plaza-mons.be/film/le-chant-des-forets/2026-03-17
ATTACH;FMTTYPE=image/jpeg:https://plaza-mons.be/wp-content/uploads/2026/01/lechantdesforets-cineart-70x100-fr-original.jpg
END:VEVENT
BEGIN:VEVENT
DTSTART;TZID=Europe/Brussels:20260317T150000
DTEND;TZID=Europe/Brussels:20260317T165000
DTSTAMP:20260422T063810
CREATED:20260205T161731Z
LAST-MODIFIED:20260324T000428Z
UID:105291-1773759600-1773766200@plaza-mons.be
SUMMARY:The Mastermind
DESCRIPTION:Super Charlie\n\n\n\n\n\n			\n				Bande annonce\n			\n		 \n\n\n\n\n\n\n\n\n\n\n\n\n\n\n\n\n\n\n\n\n\n\n\n\n\n\n\n\n\n\n\n\n\n\n\n\n\n\n\n\n\n\n\n\n\n\n\n\n\n\n\n\n\nBande annonce
URL:https://plaza-mons.be/film/the-mastermind/2026-03-17
ATTACH;FMTTYPE=image/jpeg:https://plaza-mons.be/wp-content/uploads/2026/02/themastermind-cineart-def-original.jpg
END:VEVENT
BEGIN:VEVENT
DTSTART;TZID=Europe/Brussels:20260317T150000
DTEND;TZID=Europe/Brussels:20260317T165900
DTSTAMP:20260422T063811
CREATED:20260205T162505Z
LAST-MODIFIED:20260412T000104Z
UID:105278-1773759600-1773766740@plaza-mons.be
SUMMARY:Orwell:2+2=5
DESCRIPTION:Super Charlie\n\n\n\n\n\n			\n				Bande annonce\n			\n		 \n\n\n\n\n\n\n\n\n\n\n\n\n\n\n\n\n\n\n\n\n\n\n\n\n\n\n\n\n\n\n\n\n\n\n\n\n\n\n\n\n\n\n\n\n\n\n\n\n\n\n\n\n\nBande annonce
URL:https://plaza-mons.be/film/orwell225/2026-03-17
ATTACH;FMTTYPE=image/jpeg:https://plaza-mons.be/wp-content/uploads/2026/02/orwell-poster-70x100-be-original.jpg
END:VEVENT
BEGIN:VEVENT
DTSTART;TZID=Europe/Brussels:20260317T150000
DTEND;TZID=Europe/Brussels:20260317T170400
DTSTAMP:20260422T063811
CREATED:20260211T101302Z
LAST-MODIFIED:20260317T000009Z
UID:105243-1773759600-1773767040@plaza-mons.be
SUMMARY:Gourou
DESCRIPTION:Super Charlie\n\n\n\n\n\n			\n				Bande annonce\n			\n		 \n\n\n\n\n\n\n\n\n\n\n\n\n\n\n\n\n\n\n\n\n\n\n\n\n\n\n\n\n\n\n\n\n\n\n\n\n\n\n\n\n\n\n\n\n\n\n\n\n\n\n\n\n\nBande annonce
URL:https://plaza-mons.be/film/gourou/2026-03-17
ATTACH;FMTTYPE=image/jpeg:https://plaza-mons.be/wp-content/uploads/2026/02/gourou-120x160-be-large.jpg
END:VEVENT
BEGIN:VEVENT
DTSTART;TZID=Europe/Brussels:20260317T173000
DTEND;TZID=Europe/Brussels:20260317T192000
DTSTAMP:20260422T063811
CREATED:20260226T114153Z
LAST-MODIFIED:20260414T000222Z
UID:105194-1773768600-1773775200@plaza-mons.be
SUMMARY:La maison des femmes
DESCRIPTION:Super Charlie\n\n\n\n\n\n			\n				Bande annonce\n			\n		 \n\n\n\n\n\n\n\n\n\n\n\n\n\n\n\n\n\n\n\n\n\n\n\n\n\n\n\n\n\n\n\n\n\n\n\n\n\n\n\n\n\n\n\n\n\n\n\n\n\n\n\n\n\nBande annonce
URL:https://plaza-mons.be/film/la-maison-des-femmes/2026-03-17
CATEGORIES:Drame
ATTACH;FMTTYPE=image/jpeg:https://plaza-mons.be/wp-content/uploads/2026/02/la-maison-des-femmes.jpg
END:VEVENT
BEGIN:VEVENT
DTSTART;TZID=Europe/Brussels:20260317T173000
DTEND;TZID=Europe/Brussels:20260317T193500
DTSTAMP:20260422T063811
CREATED:20251222T105731Z
LAST-MODIFIED:20260330T000322Z
UID:105256-1773768600-1773776100@plaza-mons.be
SUMMARY:Hamnet
DESCRIPTION:Super Charlie\n\n\n\n\n\n			\n				Bande annonce\n			\n		 \n\n\n\n\n\n\n\n\n\n\n\n\n\n\n\n\n\n\n\n\n\n\n\n\n\n\n\n\n\n\n\n\n\n\n\n\n\n\n\n\n\n\n\n\n\n\n\n\n\n\n\n\n\nBande annonce
URL:https://plaza-mons.be/film/hamnet/2026-03-17
ATTACH;FMTTYPE=image/jpeg:https://plaza-mons.be/wp-content/uploads/2025/12/hamnet-poster.jpg
END:VEVENT
BEGIN:VEVENT
DTSTART;TZID=Europe/Brussels:20260317T180000
DTEND;TZID=Europe/Brussels:20260317T194000
DTSTAMP:20260422T063811
CREATED:20260205T162045Z
LAST-MODIFIED:20260317T140640Z
UID:105274-1773770400-1773776400@plaza-mons.be
SUMMARY:Amour Apocalypse
DESCRIPTION:Super Charlie\n\n\n\n\n\n			\n				Bande annonce\n			\n		 \n\n\n\n\n\n\n\n\n\n\n\n\n\n\n\n\n\n\n\n\n\n\n\n\n\n\n\n\n\n\n\n\n\n\n\n\n\n\n\n\n\n\n\n\n\n\n\n\n\n\n\n\n\nBande annonce
URL:https://plaza-mons.be/film/amour-apocalypse/2026-03-17
CATEGORIES:Comédie dramatique
ATTACH;FMTTYPE=image/jpeg:https://plaza-mons.be/wp-content/uploads/2026/02/amour-apocalyspe.jpg
END:VEVENT
BEGIN:VEVENT
DTSTART;TZID=Europe/Brussels:20260317T180000
DTEND;TZID=Europe/Brussels:20260317T200900
DTSTAMP:20260422T063811
CREATED:20260205T162920Z
LAST-MODIFIED:20260323T000513Z
UID:105285-1773770400-1773778140@plaza-mons.be
SUMMARY:The History of Sound
DESCRIPTION:Super Charlie\n\n\n\n\n\n			\n				Bande annonce\n			\n		 \n\n\n\n\n\n\n\n\n\n\n\n\n\n\n\n\n\n\n\n\n\n\n\n\n\n\n\n\n\n\n\n\n\n\n\n\n\n\n\n\n\n\n\n\n\n\n\n\n\n\n\n\n\nBande annonce\n\n\n\n\n\n\n\nhttps://www.youtube.com/watch?v=XB9uGkxzWYs
URL:https://plaza-mons.be/film/the-history-of-sound/2026-03-17
CATEGORIES:Drame,Romance
ATTACH;FMTTYPE=image/jpeg:https://plaza-mons.be/wp-content/uploads/2026/02/thos-intl-digital-1sheet-rock-darkgreen-rgb-ov-small.jpg
END:VEVENT
BEGIN:VEVENT
DTSTART;TZID=Europe/Brussels:20260317T200000
DTEND;TZID=Europe/Brussels:20260317T214700
DTSTAMP:20260422T063811
CREATED:20260226T114705Z
LAST-MODIFIED:20260317T140648Z
UID:105321-1773777600-1773784020@plaza-mons.be
SUMMARY:Ciné Genre.S : Pillion
DESCRIPTION:Super Charlie\n\n\n\n\n\n			\n				Bande annonce\n			\n		 \n\n\n\n\n\n\n\n\n\n\n\n\n\n\n\n\n\n\n\n\n\n\n\n\n\n\n\n\n\n\n\n\n\n\n\n\n\n\n\n\n\n\n\n\n\n\n\n\n\n\n\n\n\nBande annonce
URL:https://plaza-mons.be/film/cine-genre-s-pillion/2026-03-17
CATEGORIES:Avant-première
ATTACH;FMTTYPE=image/jpeg:https://plaza-mons.be/wp-content/uploads/2026/02/pillion-poster-def-be-original.jpg
END:VEVENT
BEGIN:VEVENT
DTSTART;TZID=Europe/Brussels:20260317T200000
DTEND;TZID=Europe/Brussels:20260317T222000
DTSTAMP:20260422T063811
CREATED:20260226T122616Z
LAST-MODIFIED:20260421T000145Z
UID:105320-1773777600-1773786000@plaza-mons.be
SUMMARY:Marty Supreme
DESCRIPTION:Super Charlie\n\n\n\n\n\n			\n				Bande annonce\n			\n		 \n\n\n\n\n\n\n\n\n\n\n\n\n\n\n\n\n\n\n\n\n\n\n\n\n\n\n\n\n\n\n\n\n\n\n\n\n\n\n\n\n\n\n\n\n\n\n\n\n\n\n\n\n\nBande annonce
URL:https://plaza-mons.be/film/marty-supreme/2026-03-17
CATEGORIES:Biopic,Drame
ATTACH;FMTTYPE=image/jpeg:https://plaza-mons.be/wp-content/uploads/2026/02/martysupreme-finalposter-vf-original.jpg
END:VEVENT
BEGIN:VEVENT
DTSTART;TZID=Europe/Brussels:20260317T203000
DTEND;TZID=Europe/Brussels:20260317T203000
DTSTAMP:20260422T063811
CREATED:20260226T114048Z
LAST-MODIFIED:20260331T000116Z
UID:105304-1773779400-1773779400@plaza-mons.be
SUMMARY:Dust
DESCRIPTION:Super Charlie\n\n\n\n\n\n			\n				Bande annonce\n			\n		 \n\n\n\n\n\n\n\n\n\n\n\n\n\n\n\n\n\n\n\n\n\n\n\n\n\n\n\n\n\n\n\n\n\n\n\n\n\n\n\n\n\n\n\n\n\n\n\n\n\n\n\n\n\nBande annonce
URL:https://plaza-mons.be/film/dust/2026-03-17
ATTACH;FMTTYPE=image/jpeg:https://plaza-mons.be/wp-content/uploads/2026/02/dust-poster-national-hq-original.jpg
END:VEVENT
BEGIN:VEVENT
DTSTART;TZID=Europe/Brussels:20260317T203000
DTEND;TZID=Europe/Brussels:20260317T221900
DTSTAMP:20260422T063811
CREATED:20260226T114510Z
LAST-MODIFIED:20260405T001418Z
UID:105316-1773779400-1773785940@plaza-mons.be
SUMMARY:The Love That Remains
DESCRIPTION:Super Charlie\n\n\n\n\n\n			\n				Bande annonce\n			\n		 \n\n\n\n\n\n\n\n\n\n\n\n\n\n\n\n\n\n\n\n\n\n\n\n\n\n\n\n\n\n\n\n\n\n\n\n\n\n\n\n\n\n\n\n\n\n\n\n\n\n\n\n\n\nBande annonce
URL:https://plaza-mons.be/film/the-love-that-remains/2026-03-17
ATTACH;FMTTYPE=image/jpeg:https://plaza-mons.be/wp-content/uploads/2026/02/thelovethatremains-web-original.jpg
END:VEVENT
END:VCALENDAR