BEGIN:VCALENDAR
VERSION:2.0
PRODID:-//Plaza Arthouse Cinema - ECPv5.14.1//NONSGML v1.0//EN
CALSCALE:GREGORIAN
METHOD:PUBLISH
X-WR-CALNAME:Plaza Arthouse Cinema
X-ORIGINAL-URL:https://plaza-mons.be
X-WR-CALDESC:Events for Plaza Arthouse Cinema
REFRESH-INTERVAL;VALUE=DURATION:PT1H
X-Robots-Tag:noindex
X-PUBLISHED-TTL:PT1H
BEGIN:VTIMEZONE
TZID:Europe/Brussels
BEGIN:DAYLIGHT
TZOFFSETFROM:+0100
TZOFFSETTO:+0200
TZNAME:CEST
DTSTART:20260329T010000
END:DAYLIGHT
BEGIN:STANDARD
TZOFFSETFROM:+0200
TZOFFSETTO:+0100
TZNAME:CET
DTSTART:20261025T010000
END:STANDARD
END:VTIMEZONE
BEGIN:VEVENT
DTSTART;TZID=Europe/Brussels:20260312T143000
DTEND;TZID=Europe/Brussels:20260312T170000
DTSTAMP:20260424T140950
CREATED:20260220T152654Z
LAST-MODIFIED:20260302T111532Z
UID:105086-1773325800-1773334800@plaza-mons.be
SUMMARY:Irkalla : Gilgamesh's Dream
DESCRIPTION:Super Charlie\n\n\n\n\nBande annonce \n\n\n\n\n\n\n\n\n\nYoussef Husham Al-Thahabi\, Hussein Raad Zuwayr\, Samar Kazem Jawad\, Ameer Jabarah\, Lojin Star Naimal… \n\n\n\n\n\n\n\nDans les rues de Bagdad\, Chum-Chum\, 9 ans\, diabétique et rêveur\, croit que le Tigre cache une porte vers Irkalla\, le monde souterrain ou il peut ranimer ses parents disparus – une idée venue de la légende de Gilgamesh. Lorsque son ami Moody est mêlé a un complot de la milice\, Chum-Chum doit choisir entre mythe et vérité. Un récit de deuil et de foi\, une quête de lumière dans une ville qui refuse de mourir. \n\n\n\n\n\n\n\n\n\n\n\n\n\n\n\n\n\n\n\n\n\n\n\n\n\n\n\n\n\n\n\n\n\n\n\n\n\n\n\nBande annonce
URL:https://plaza-mons.be/film/irkalla-gilgameshs-dream/2026-03-12
CATEGORIES:LIFF
ATTACH;FMTTYPE=image/jpeg:https://plaza-mons.be/wp-content/uploads/2026/02/gilgameshs-dream-poster.jpg
END:VEVENT
BEGIN:VEVENT
DTSTART;TZID=Europe/Brussels:20260312T150000
DTEND;TZID=Europe/Brussels:20260312T170000
DTSTAMP:20260424T140950
CREATED:20260223T101616Z
LAST-MODIFIED:20260224T130945Z
UID:105139-1773327600-1773334800@plaza-mons.be
SUMMARY:Compétition des courts métrages belges 3
DESCRIPTION:Super Charlie\n\n\n\n\n\n\n\n\n\n\n\n\n\n\nLA MOISSON d’Alice d’Hauwe \n\n\n\nSAMIA de Selma Alaoui et Bruno Tracq \n\n\n\nCORPS ETRANGER de Mathieu Mortelmans et Cécile Delberche \n\n\n\nBRULURE DOUCE de Jade Debeugny \n\n\n\n\n\n\n\n\n\n\n\n\n\n\n\n\n\n\n\n\n\n\n\n\n\n\n\n\n\n\n\n\n\n\n\n\n\n\n\nBande annonce
URL:https://plaza-mons.be/film/competition-des-courts-metrages-belges-3-2/2026-03-12
CATEGORIES:Festival,LIFF
ATTACH;FMTTYPE=image/jpeg:https://plaza-mons.be/wp-content/uploads/2026/02/court-met.jpg
END:VEVENT
BEGIN:VEVENT
DTSTART;TZID=Europe/Brussels:20260312T170000
DTEND;TZID=Europe/Brussels:20260312T190000
DTSTAMP:20260424T140950
CREATED:20260220T153059Z
LAST-MODIFIED:20260302T111643Z
UID:105093-1773334800-1773342000@plaza-mons.be
SUMMARY:L’Intérêt d’Adam
DESCRIPTION:Super Charlie\n\n\n\n\nBande annonce \n\n\n\n\n\n\n\n\n\n\n\n\n\n\n\nFace à la détresse d’une jeune mère et son fils\, une infirmière décide de tout mettre en œuvre pour les aider\, quitte à défier sa hiérarchie. \n\n\n\n\n\n\n\n\n\n\n\n\n\n\n\n\n\n\n\n\n\n\n\n\n\n\n\n\n\n\n\n\n\n\n\n\n\n\n\nBande annonce
URL:https://plaza-mons.be/film/linteret-dadam-2
CATEGORIES:LIFF
ATTACH;FMTTYPE=image/jpeg:https://plaza-mons.be/wp-content/uploads/2026/02/linteret-dadam-de-laura-wandel.jpg
END:VEVENT
BEGIN:VEVENT
DTSTART;TZID=Europe/Brussels:20260312T170000
DTEND;TZID=Europe/Brussels:20260312T190000
DTSTAMP:20260424T140950
CREATED:20260223T102051Z
LAST-MODIFIED:20260224T130941Z
UID:105143-1773334800-1773342000@plaza-mons.be
SUMMARY:Compétition des courts métrages belges 4
DESCRIPTION:Super Charlie\n\n\n \n\n\n\n\n\n\n\n\n\n\n\n\n\n\n\nUN CIEL SI BAS de Joachim Michaux \n\n\n\nPOUMPO de Anthony Tueni \n\n\n\nL’ENFANT CAVALE de Margo Brière Bordier
URL:https://plaza-mons.be/film/competition-des-courts-metrages-belges-4-2/2026-03-12
CATEGORIES:LIFF
ATTACH;FMTTYPE=image/jpeg:https://plaza-mons.be/wp-content/uploads/2026/02/court-met.jpg
END:VEVENT
BEGIN:VEVENT
DTSTART;TZID=Europe/Brussels:20260312T200000
DTEND;TZID=Europe/Brussels:20260312T220000
DTSTAMP:20260424T140950
CREATED:20260220T153753Z
LAST-MODIFIED:20260224T132257Z
UID:105098-1773345600-1773352800@plaza-mons.be
SUMMARY:L’Étrangère
DESCRIPTION:Super Charlie\n\n\n\n\nBande annonce \n\n\n\n\n\n\n\n\n\nZar Amir Ebrahimi\, Alexis Manenti\, Amr Waked\, Megan Northam\, Grégoire Monsaingeon\,… \n\n\n\n\n\n\n\nSelma fuit la Syrie en laissant derrière elle un fils de six ans et un mari disparu dans les geôles du régime. Arrivée à Bordeaux\, elle fait la connaissance de Jérôme\, un avocat qui va l’aider dans ses démarches pour obtenir le droit d’asile et retrouver son fils Rami. Leur histoire d’amour va tout remettre en question. \n\n\n\n\n\n\n\n\n\n\n\n\n\n\n\n\n\n\n\n\n\n\n\n\n\n\n\n\n\n\n\n\n\n\n\n\n\n\n\nBande annonce
URL:https://plaza-mons.be/film/letrangere/2026-03-12
CATEGORIES:LIFF
ATTACH;FMTTYPE=image/png:https://plaza-mons.be/wp-content/uploads/2026/02/letrangere-de-gaya-jiji.png
END:VEVENT
BEGIN:VEVENT
DTSTART;TZID=Europe/Brussels:20260312T203000
DTEND;TZID=Europe/Brussels:20260312T223000
DTSTAMP:20260424T140950
CREATED:20260220T152654Z
LAST-MODIFIED:20260220T152654Z
UID:105470-1773347400-1773354600@plaza-mons.be
SUMMARY:Irkalla : Gilgamesh's Dream
DESCRIPTION:Super Charlie\n\n\n\n\nBande annonce \n\n\n\n\n\n\n\n\n\nYoussef Husham Al-Thahabi\, Hussein Raad Zuwayr\, Samar Kazem Jawad\, Ameer Jabarah\, Lojin Star Naimal… \n\n\n\n\n\n\n\nDans les rues de Bagdad\, Chum-Chum\, 9 ans\, diabétique et rêveur\, croit que le Tigre cache une porte vers Irkalla\, le monde souterrain ou il peut ranimer ses parents disparus – une idée venue de la légende de Gilgamesh. Lorsque son ami Moody est mêlé a un complot de la milice\, Chum-Chum doit choisir entre mythe et vérité. Un récit de deuil et de foi\, une quête de lumière dans une ville qui refuse de mourir. \n\n\n\n\n\n\n\n\n\n\n\n\n\n\n\n\n\n\n\n\n\n\n\n\n\n\n\n\n\n\n\n\n\n\n\n\n\n\n\nBande annonce
URL:https://plaza-mons.be/film/irkalla-gilgameshs-dream/2026-03-12/2
CATEGORIES:LIFF
ATTACH;FMTTYPE=image/jpeg:https://plaza-mons.be/wp-content/uploads/2026/02/gilgameshs-dream-poster.jpg
END:VEVENT
BEGIN:VEVENT
DTSTART;TZID=Europe/Brussels:20260312T210000
DTEND;TZID=Europe/Brussels:20260312T223000
DTSTAMP:20260424T140950
CREATED:20260223T094218Z
LAST-MODIFIED:20260224T132304Z
UID:105103-1773349200-1773354600@plaza-mons.be
SUMMARY:Festen
DESCRIPTION:Super Charlie\n\n\n\n\nBande annonce \n\n\n\n\n\n\n\n\n\n\n\n\n\n\n\nLe patriarche Helge Klingenfelt fait préparer une grande fête pour ses 60 ans. Parmi les convives\, Christian\, le fils aîné\, est chargé par Helge de dire quelques mots au cours du dîner sur sa soeur jumelle Linda\, morte un an plus tôt. Personne ne se doute que Christian va profiter de ce petit discours pour révéler de terribles secrets… \n\n\n\n\n\n\n\n\n\n\n\n\n\n\n\n\n\n\n\n\n\n\n\n\n\n\n\n\n\n\n\n\n\n\n\n\n\n\n\nBande annonce
URL:https://plaza-mons.be/film/festen-2/2026-03-12
CATEGORIES:LIFF
ATTACH;FMTTYPE=image/jpeg:https://plaza-mons.be/wp-content/uploads/2026/02/festen-de-thomas-vinterberg.jpg
END:VEVENT
END:VCALENDAR