BEGIN:VCALENDAR
VERSION:2.0
PRODID:-//Plaza Arthouse Cinema - ECPv5.14.1//NONSGML v1.0//EN
CALSCALE:GREGORIAN
METHOD:PUBLISH
X-WR-CALNAME:Plaza Arthouse Cinema
X-ORIGINAL-URL:https://plaza-mons.be
X-WR-CALDESC:Events for Plaza Arthouse Cinema
REFRESH-INTERVAL;VALUE=DURATION:PT1H
X-Robots-Tag:noindex
X-PUBLISHED-TTL:PT1H
BEGIN:VTIMEZONE
TZID:Europe/Brussels
BEGIN:DAYLIGHT
TZOFFSETFROM:+0100
TZOFFSETTO:+0200
TZNAME:CEST
DTSTART:20260329T010000
END:DAYLIGHT
BEGIN:STANDARD
TZOFFSETFROM:+0200
TZOFFSETTO:+0100
TZNAME:CET
DTSTART:20261025T010000
END:STANDARD
END:VTIMEZONE
BEGIN:VEVENT
DTSTART;TZID=Europe/Brussels:20260307T143000
DTEND;TZID=Europe/Brussels:20260307T163000
DTSTAMP:20260424T051704
CREATED:20260223T100840Z
LAST-MODIFIED:20260224T130948Z
UID:105125-1772893800-1772901000@plaza-mons.be
SUMMARY:Compétition des courts métrages belges 1
DESCRIPTION:Super Charlie\n\n\n\n\n\n\n\n\n\n\n\n\n\n\nBASANE de Sami Najib \n\n\n\nKARAOCOEUR de Mila Ryngaert \n\n\n\nSANGUINE de Capucine Pinaud \n\n\n\nGRAND BONHOMME de Colin Cressent \n\n\n\nORTIE de Toni Hilgersson
URL:https://plaza-mons.be/film/competition-des-courts-metrages-belges/2026-03-07
CATEGORIES:LIFF
ATTACH;FMTTYPE=image/jpeg:https://plaza-mons.be/wp-content/uploads/2026/02/court-met.jpg
END:VEVENT
BEGIN:VEVENT
DTSTART;TZID=Europe/Brussels:20260307T150000
DTEND;TZID=Europe/Brussels:20260307T170000
DTSTAMP:20260424T051704
CREATED:20260219T143212Z
LAST-MODIFIED:20260302T105224Z
UID:104983-1772895600-1772902800@plaza-mons.be
SUMMARY:Jeunes mères
DESCRIPTION:Super Charlie\n\n\nLuc et Jean-Pierre Dardenne. \n\n\n\nBande annonce \n\n\n\n\n\n\n\n\n\n\n\n\n\n\n\nJessica\, Perla\, Julie\, Ariane et Naïma sont hébergées dans une maison maternelle qui les aide dans leur vie de jeune mère. Cinq adolescentes qui ont l’espoir de parvenir à une vie meilleure pour elles-mêmes et pour leur enfant. \n\n\n\n\n\n\n\n\n\n\n\n\n\n\n\n\n\n\n\n\n\n\n\n\n\n\n\n\n\n\n\n\n\n\n\n\n\n\n\nBande annonce
URL:https://plaza-mons.be/film/jeunes-meres-3
CATEGORIES:LIFF
ATTACH;FMTTYPE=image/jpeg:https://plaza-mons.be/wp-content/uploads/2025/09/jeunesmeres-cineart-def-bil-original.jpg
END:VEVENT
BEGIN:VEVENT
DTSTART;TZID=Europe/Brussels:20260307T150000
DTEND;TZID=Europe/Brussels:20260307T170000
DTSTAMP:20260424T051704
CREATED:20260219T144050Z
LAST-MODIFIED:20260224T131040Z
UID:104988-1772895600-1772902800@plaza-mons.be
SUMMARY:Le Trésor de Barracuda
DESCRIPTION:Super Charlie\n\n\n\n\nBande annonce \n\n\n\n\n\n\n\n\n\n\n\n\n\n\n\nAlors qu’elle tente de retrouver ses parents\, Chispas se retrouve accidentellement sur le bateau pirate du capitaine Barracuda\, avec un équipage de redoutables marins armés jusqu’aux dents et ayant un grave problème : ils ne savent pas lire. Elle seule peut les aider à trouver le trésor de Phineas Crane\, le plus précieux et le plus convoité par tous les pirates des Caraïbes. Inspiré du livre au titre éponyme de Llanos Campos. \n\n\n\n\n\n\n\n\n\n\n\n\n\n\n\n\n\n\n\n\n\n\n\n\n\n\n\n\n\n\n\n\n\n\n\n\n\n\n\nBande annonce
URL:https://plaza-mons.be/film/le-tresor-de-barracuda-2
CATEGORIES:LIFF
ATTACH;FMTTYPE=image/jpeg:https://plaza-mons.be/wp-content/uploads/2026/02/el-tesoro-de-barracuda-poster-ok-original.jpg
END:VEVENT
BEGIN:VEVENT
DTSTART;TZID=Europe/Brussels:20260307T170000
DTEND;TZID=Europe/Brussels:20260307T190000
DTSTAMP:20260424T051704
CREATED:20260223T101237Z
LAST-MODIFIED:20260224T130946Z
UID:105130-1772902800-1772910000@plaza-mons.be
SUMMARY:Compétition des courts métrages belges 2
DESCRIPTION:Super Charlie\n\n\n\n\n\n\n\n\n\n\n\n\n\n\nEN VOITURE de Sara Du Fossé \n\n\n\nBUNKER de Colin Javaux \n\n\n\nGADJE de Georges Vanev \n\n\n\nFUTUR ANTERIEUR d’Amélie Navarro et Gaëtan d’Agostino
URL:https://plaza-mons.be/film/competition-des-courts-metrages-belges-2-2/2026-03-07
CATEGORIES:LIFF
ATTACH;FMTTYPE=image/jpeg:https://plaza-mons.be/wp-content/uploads/2026/02/court-met.jpg
END:VEVENT
BEGIN:VEVENT
DTSTART;TZID=Europe/Brussels:20260307T200000
DTEND;TZID=Europe/Brussels:20260307T223000
DTSTAMP:20260424T051704
CREATED:20260219T144645Z
LAST-MODIFIED:20260224T131051Z
UID:104990-1772913600-1772922600@plaza-mons.be
SUMMARY:Yes
DESCRIPTION:Super Charlie\n\n\n\n\nBande annonce \n\n\n\n\n\n\n\n\n\n\n\n\n\n\n\nIsraël au lendemain du 7 octobre.Y.\, musicien de jazz précaire\, et sa femme Jasmine\, danseuse\, donnent leur art\, leur âme et leur corps aux plus offrants\, apportent plaisir et consolation à leur pays qui saigne. Bientôt\, Y. se voit confier une mission de la plus haute importance : mettre en musique un nouvel hymne national. \n\n\n\nUn film de Nadav Lapid. \n\n\n\n\n\n\n\n\n\n\n\n\n\n\n\n\n\n\n\n\n\n\n\n\n\n\n\n\n\n\n\n\n\n\n\n\n\n\n\nBande annonce
URL:https://plaza-mons.be/film/yes
CATEGORIES:LIFF
ATTACH;FMTTYPE=image/jpeg:https://plaza-mons.be/wp-content/uploads/2026/02/yes-de-nadav-lapid.jpg
END:VEVENT
BEGIN:VEVENT
DTSTART;TZID=Europe/Brussels:20260307T203000
DTEND;TZID=Europe/Brussels:20260307T223000
DTSTAMP:20260424T051704
CREATED:20260219T145319Z
LAST-MODIFIED:20260302T110054Z
UID:104994-1772915400-1772922600@plaza-mons.be
SUMMARY:Die My Love
DESCRIPTION:Super Charlie\n\n\n\n\nBande annonce \n\n\n\n\n\n\n\n\n\nJennifer Lawrence\, Robert Pattinson\, Lakeith Stanfield\, Sissy Spacek\, Nick Nolte\, Gabrielle Rose\, Phillip Lewitski\, Sarah Lind\, Victor Zinck Jr.\, Debs Howard\, Luke Camilleri… \n\n\n\n\n\n\n\nDans une ferme de la campagne du Montana\, une femme souffre de problèmes de santé mentale suite à la rupture de son mariage. \n\n\n\n\n\n\n\n\n\n\n\n\n\n\n\n\n\n\n\n\n\n\n\n\n\n\n\n\n\n\n\n\n\n\n\n\n\n\n\nBande annonce
URL:https://plaza-mons.be/film/die-my-love/2026-03-07
CATEGORIES:LIFF
ATTACH;FMTTYPE=image/jpeg:https://plaza-mons.be/wp-content/uploads/2026/02/die-my-love-de-lynne-ramsay.jpg
END:VEVENT
END:VCALENDAR