BEGIN:VCALENDAR
VERSION:2.0
PRODID:-//Plaza Arthouse Cinema - ECPv5.14.1//NONSGML v1.0//EN
CALSCALE:GREGORIAN
METHOD:PUBLISH
X-WR-CALNAME:Plaza Arthouse Cinema
X-ORIGINAL-URL:https://plaza-mons.be
X-WR-CALDESC:Events for Plaza Arthouse Cinema
REFRESH-INTERVAL;VALUE=DURATION:PT1H
X-Robots-Tag:noindex
X-PUBLISHED-TTL:PT1H
BEGIN:VTIMEZONE
TZID:Europe/Brussels
BEGIN:DAYLIGHT
TZOFFSETFROM:+0100
TZOFFSETTO:+0200
TZNAME:CEST
DTSTART:20260329T010000
END:DAYLIGHT
BEGIN:STANDARD
TZOFFSETFROM:+0200
TZOFFSETTO:+0100
TZNAME:CET
DTSTART:20261025T010000
END:STANDARD
END:VTIMEZONE
BEGIN:VEVENT
DTSTART;TZID=Europe/Brussels:20260305T150000
DTEND;TZID=Europe/Brussels:20260305T164000
DTSTAMP:20260424T013532
CREATED:20260205T162045Z
LAST-MODIFIED:20260317T140639Z
UID:105176-1772722800-1772728800@plaza-mons.be
SUMMARY:Amour Apocalypse
DESCRIPTION:Super Charlie\n\n\n\n\n\n			\n				Bande annonce\n			\n		 \n\n\n\n\n\n\n\n\n\n\n\n\n\n\n\n\n\n\n\n\n\n\n\n\n\n\n\n\n\n\n\n\n\n\n\n\n\n\n\n\n\n\n\n\n\n\n\n\n\n\n\n\n\nBande annonce
URL:https://plaza-mons.be/film/amour-apocalypse/2026-03-05
CATEGORIES:Comédie dramatique
ATTACH;FMTTYPE=image/jpeg:https://plaza-mons.be/wp-content/uploads/2026/02/amour-apocalyspe.jpg
END:VEVENT
BEGIN:VEVENT
DTSTART;TZID=Europe/Brussels:20260305T150000
DTEND;TZID=Europe/Brussels:20260305T164600
DTSTAMP:20260424T013532
CREATED:20251222T105013Z
LAST-MODIFIED:20260305T000139Z
UID:105154-1772722800-1772729160@plaza-mons.be
SUMMARY:Vie privée
DESCRIPTION:Super Charlie\n\n\n\n\n\n			\n				Bande annonce\n			\n		 \n\n\n\n\n\n\n\n\n\n\n\n\n\n\n\n\n\n\n\n\n\n\n\n\n\n\n\n\n\n\n\n\n\n\n\n\n\n\n\n\n\n\n\n\n\n\n\n\n\n\n\n\n\nBande annonce
URL:https://plaza-mons.be/film/vie-privee/2026-03-05
ATTACH;FMTTYPE=image/jpeg:https://plaza-mons.be/wp-content/uploads/2025/12/vie-privee-poster-def-be-original.jpg
END:VEVENT
BEGIN:VEVENT
DTSTART;TZID=Europe/Brussels:20260305T150000
DTEND;TZID=Europe/Brussels:20260305T165000
DTSTAMP:20260424T013532
CREATED:20260205T161731Z
LAST-MODIFIED:20260324T000426Z
UID:105172-1772722800-1772729400@plaza-mons.be
SUMMARY:The Mastermind
DESCRIPTION:Super Charlie\n\n\n\n\n\n			\n				Bande annonce\n			\n		 \n\n\n\n\n\n\n\n\n\n\n\n\n\n\n\n\n\n\n\n\n\n\n\n\n\n\n\n\n\n\n\n\n\n\n\n\n\n\n\n\n\n\n\n\n\n\n\n\n\n\n\n\n\nBande annonce
URL:https://plaza-mons.be/film/the-mastermind/2026-03-05
ATTACH;FMTTYPE=image/jpeg:https://plaza-mons.be/wp-content/uploads/2026/02/themastermind-cineart-def-original.jpg
END:VEVENT
BEGIN:VEVENT
DTSTART;TZID=Europe/Brussels:20260305T150000
DTEND;TZID=Europe/Brussels:20260305T170500
DTSTAMP:20260424T013532
CREATED:20251222T105731Z
LAST-MODIFIED:20260330T000321Z
UID:105149-1772722800-1772730300@plaza-mons.be
SUMMARY:Hamnet
DESCRIPTION:Super Charlie\n\n\n\n\n\n			\n				Bande annonce\n			\n		 \n\n\n\n\n\n\n\n\n\n\n\n\n\n\n\n\n\n\n\n\n\n\n\n\n\n\n\n\n\n\n\n\n\n\n\n\n\n\n\n\n\n\n\n\n\n\n\n\n\n\n\n\n\nBande annonce
URL:https://plaza-mons.be/film/hamnet/2026-03-05
ATTACH;FMTTYPE=image/jpeg:https://plaza-mons.be/wp-content/uploads/2025/12/hamnet-poster.jpg
END:VEVENT
BEGIN:VEVENT
DTSTART;TZID=Europe/Brussels:20260305T173000
DTEND;TZID=Europe/Brussels:20260305T194500
DTSTAMP:20260424T013532
CREATED:20260226T113931Z
LAST-MODIFIED:20260330T000004Z
UID:105184-1772731800-1772739900@plaza-mons.be
SUMMARY:Lost Highway
DESCRIPTION:Super Charlie
URL:https://plaza-mons.be/film/lost-highway/2026-03-05
ATTACH;FMTTYPE=image/jpeg:https://plaza-mons.be/wp-content/uploads/2026/02/lost-highway-2.jpg
END:VEVENT
BEGIN:VEVENT
DTSTART;TZID=Europe/Brussels:20260305T180000
DTEND;TZID=Europe/Brussels:20260305T195000
DTSTAMP:20260424T013532
CREATED:20260226T114153Z
LAST-MODIFIED:20260414T000123Z
UID:105189-1772733600-1772740200@plaza-mons.be
SUMMARY:La maison des femmes
DESCRIPTION:Super Charlie\n\n\n\n\n\n			\n				Bande annonce\n			\n		 \n\n\n\n\n\n\n\n\n\n\n\n\n\n\n\n\n\n\n\n\n\n\n\n\n\n\n\n\n\n\n\n\n\n\n\n\n\n\n\n\n\n\n\n\n\n\n\n\n\n\n\n\n\nBande annonce
URL:https://plaza-mons.be/film/la-maison-des-femmes/2026-03-05
CATEGORIES:Drame
ATTACH;FMTTYPE=image/jpeg:https://plaza-mons.be/wp-content/uploads/2026/02/la-maison-des-femmes.jpg
END:VEVENT
BEGIN:VEVENT
DTSTART;TZID=Europe/Brussels:20260305T180000
DTEND;TZID=Europe/Brussels:20260305T200000
DTSTAMP:20260424T013532
CREATED:20260205T161311Z
LAST-MODIFIED:20260306T000016Z
UID:105158-1772733600-1772740800@plaza-mons.be
SUMMARY:Is This Thing On ?
DESCRIPTION:Super Charlie\n\n\n\n\n\n			\n				Bande annonce\n			\n		 \n\n\n\n\n\n\n\n\n\n\n\n\n\n\n\n\n\n\n\n\n\n\n\n\n\n\n\n\n\n\n\n\n\n\n\n\n\n\n\n\n\n\n\n\n\n\n\n\n\n\n\n\n\nBande annonce
URL:https://plaza-mons.be/film/is-this-thing-on/2026-03-05
ATTACH;FMTTYPE=image/jpeg:https://plaza-mons.be/wp-content/uploads/2026/02/is-this-thing-on.jpg
END:VEVENT
BEGIN:VEVENT
DTSTART;TZID=Europe/Brussels:20260305T180000
DTEND;TZID=Europe/Brussels:20260305T200400
DTSTAMP:20260424T013532
CREATED:20260211T101302Z
LAST-MODIFIED:20260317T000008Z
UID:105164-1772733600-1772741040@plaza-mons.be
SUMMARY:Gourou
DESCRIPTION:Super Charlie\n\n\n\n\n\n			\n				Bande annonce\n			\n		 \n\n\n\n\n\n\n\n\n\n\n\n\n\n\n\n\n\n\n\n\n\n\n\n\n\n\n\n\n\n\n\n\n\n\n\n\n\n\n\n\n\n\n\n\n\n\n\n\n\n\n\n\n\nBande annonce
URL:https://plaza-mons.be/film/gourou/2026-03-05
ATTACH;FMTTYPE=image/jpeg:https://plaza-mons.be/wp-content/uploads/2026/02/gourou-120x160-be-large.jpg
END:VEVENT
BEGIN:VEVENT
DTSTART;TZID=Europe/Brussels:20260305T203000
DTEND;TZID=Europe/Brussels:20260305T203000
DTSTAMP:20260424T013532
CREATED:20260226T114048Z
LAST-MODIFIED:20260331T000019Z
UID:105186-1772742600-1772742600@plaza-mons.be
SUMMARY:Dust
DESCRIPTION:Super Charlie\n\n\n\n\n\n			\n				Bande annonce\n			\n		 \n\n\n\n\n\n\n\n\n\n\n\n\n\n\n\n\n\n\n\n\n\n\n\n\n\n\n\n\n\n\n\n\n\n\n\n\n\n\n\n\n\n\n\n\n\n\n\n\n\n\n\n\n\nBande annonce
URL:https://plaza-mons.be/film/dust/2026-03-05
ATTACH;FMTTYPE=image/jpeg:https://plaza-mons.be/wp-content/uploads/2026/02/dust-poster-national-hq-original.jpg
END:VEVENT
BEGIN:VEVENT
DTSTART;TZID=Europe/Brussels:20260305T203000
DTEND;TZID=Europe/Brussels:20260305T222900
DTSTAMP:20260424T013532
CREATED:20260205T162505Z
LAST-MODIFIED:20260412T000053Z
UID:105178-1772742600-1772749740@plaza-mons.be
SUMMARY:Orwell:2+2=5
DESCRIPTION:Super Charlie\n\n\n\n\n\n			\n				Bande annonce\n			\n		 \n\n\n\n\n\n\n\n\n\n\n\n\n\n\n\n\n\n\n\n\n\n\n\n\n\n\n\n\n\n\n\n\n\n\n\n\n\n\n\n\n\n\n\n\n\n\n\n\n\n\n\n\n\nBande annonce
URL:https://plaza-mons.be/film/orwell225/2026-03-05
ATTACH;FMTTYPE=image/jpeg:https://plaza-mons.be/wp-content/uploads/2026/02/orwell-poster-70x100-be-original.jpg
END:VEVENT
BEGIN:VEVENT
DTSTART;TZID=Europe/Brussels:20260305T203000
DTEND;TZID=Europe/Brussels:20260305T223900
DTSTAMP:20260424T013532
CREATED:20260205T162920Z
LAST-MODIFIED:20260323T000512Z
UID:105181-1772742600-1772750340@plaza-mons.be
SUMMARY:The History of Sound
DESCRIPTION:Super Charlie\n\n\n\n\n\n			\n				Bande annonce\n			\n		 \n\n\n\n\n\n\n\n\n\n\n\n\n\n\n\n\n\n\n\n\n\n\n\n\n\n\n\n\n\n\n\n\n\n\n\n\n\n\n\n\n\n\n\n\n\n\n\n\n\n\n\n\n\nBande annonce\n\n\n\n\n\n\n\nhttps://www.youtube.com/watch?v=XB9uGkxzWYs
URL:https://plaza-mons.be/film/the-history-of-sound/2026-03-05
CATEGORIES:Drame,Romance
ATTACH;FMTTYPE=image/jpeg:https://plaza-mons.be/wp-content/uploads/2026/02/thos-intl-digital-1sheet-rock-darkgreen-rgb-ov-small.jpg
END:VEVENT
BEGIN:VEVENT
DTSTART;TZID=Europe/Brussels:20260305T203000
DTEND;TZID=Europe/Brussels:20260305T224900
DTSTAMP:20260424T013532
CREATED:20260127T152456Z
LAST-MODIFIED:20260324T000111Z
UID:105167-1772742600-1772750940@plaza-mons.be
SUMMARY:No Other Choice
DESCRIPTION:Super Charlie\n\n\n\n\n\n			\n				Bande annonce\n			\n		 \n\n\n\n\n\n\n\n\n\n\n\n\n\n\n\n\n\n\n\n\n\n\n\n\n\n\n\n\n\n\n\n\n\n\n\n\n\n\n\n\n\n\n\n\n\n\n\n\n\n\n\n\n\nBande annonce
URL:https://plaza-mons.be/film/no-other-choice/2026-03-05
ATTACH;FMTTYPE=image/jpeg:https://plaza-mons.be/wp-content/uploads/2026/01/nootherchoice-cineart-def-original.jpg
END:VEVENT
END:VCALENDAR