BEGIN:VCALENDAR
VERSION:2.0
PRODID:-//Plaza Arthouse Cinema - ECPv5.14.1//NONSGML v1.0//EN
CALSCALE:GREGORIAN
METHOD:PUBLISH
X-WR-CALNAME:Plaza Arthouse Cinema
X-ORIGINAL-URL:https://plaza-mons.be
X-WR-CALDESC:Events for Plaza Arthouse Cinema
REFRESH-INTERVAL;VALUE=DURATION:PT1H
X-Robots-Tag:noindex
X-PUBLISHED-TTL:PT1H
BEGIN:VTIMEZONE
TZID:Europe/Brussels
BEGIN:DAYLIGHT
TZOFFSETFROM:+0100
TZOFFSETTO:+0200
TZNAME:CEST
DTSTART:20260329T010000
END:DAYLIGHT
BEGIN:STANDARD
TZOFFSETFROM:+0200
TZOFFSETTO:+0100
TZNAME:CET
DTSTART:20261025T010000
END:STANDARD
END:VTIMEZONE
BEGIN:VEVENT
DTSTART;TZID=Europe/Brussels:20260223T140000
DTEND;TZID=Europe/Brussels:20260223T144500
DTSTAMP:20260423T215905
CREATED:20251222T110542Z
LAST-MODIFIED:20260304T000013Z
UID:104240-1771855200-1771857900@plaza-mons.be
SUMMARY:La Princesse et le rossignol
DESCRIPTION:Super Charlie\n\n\n\n\n\n			\n				Bande annonce\n			\n		 \n\n\n\n\n\n\n\n\n\n\n\n\n\n\n\n\n\n\n\n\n\n\n\n\n\n\n\n\n\n\n\n\n\n\n\n\n\n\n\n\n\n\n\n\n\n\n\n\n\n\n\n\n\nBande annonce
URL:https://plaza-mons.be/film/la-princesse-et-le-rossignol-2/2026-02-23
ATTACH;FMTTYPE=image/jpeg:https://plaza-mons.be/wp-content/uploads/2025/12/la-princesse-et-le-rossignol-poster-2.jpg
END:VEVENT
BEGIN:VEVENT
DTSTART;TZID=Europe/Brussels:20260223T140000
DTEND;TZID=Europe/Brussels:20260223T145200
DTSTAMP:20260423T215905
CREATED:20260127T151748Z
LAST-MODIFIED:20260301T000039Z
UID:104255-1771855200-1771858320@plaza-mons.be
SUMMARY:Jack & Nancy\, les plus belles histoires de Quentin Blake
DESCRIPTION:Super Charlie\n\n\n\n\n\n			\n				Bande annonce\n			\n		 \n\n\n\n\n\n\n\n\n\n\n\n\n\n\n\n\n\n\n\n\n\n\n\n\n\n\n\n\n\n\n\n\n\n\n\n\n\n\n\n\n\n\n\n\n\n\n\n\n\n\n\n\n\nBande annonce
URL:https://plaza-mons.be/film/jack-nancy-les-plus-belles-histoires-de-quentin-blake/2026-02-23
ATTACH;FMTTYPE=image/webp:https://plaza-mons.be/wp-content/uploads/2026/01/jack-nancy-les-plus-belles-histoires-de-quentin-blake.webp
END:VEVENT
BEGIN:VEVENT
DTSTART;TZID=Europe/Brussels:20260223T140000
DTEND;TZID=Europe/Brussels:20260223T153300
DTSTAMP:20260423T215905
CREATED:20260127T152216Z
LAST-MODIFIED:20260423T000036Z
UID:104082-1771855200-1771860780@plaza-mons.be
SUMMARY:Le chant des forêts
DESCRIPTION:Super Charlie\n\n\n\n\n\n			\n				Bande annonce\n			\n		 \n\n\n\n\n\n\n\n\n\n\n\n\n\n\n\n\n\n\n\n\n\n\n\n\n\n\n\n\n\n\n\n\n\n\n\n\n\n\n\n\n\n\n\n\n\n\n\n\n\n\n\n\n\nBande annonce
URL:https://plaza-mons.be/film/le-chant-des-forets/2026-02-23
ATTACH;FMTTYPE=image/jpeg:https://plaza-mons.be/wp-content/uploads/2026/01/lechantdesforets-cineart-70x100-fr-original.jpg
END:VEVENT
BEGIN:VEVENT
DTSTART;TZID=Europe/Brussels:20260223T150000
DTEND;TZID=Europe/Brussels:20260223T164600
DTSTAMP:20260423T215905
CREATED:20251222T105013Z
LAST-MODIFIED:20260305T000136Z
UID:103968-1771858800-1771865160@plaza-mons.be
SUMMARY:Vie privée
DESCRIPTION:Super Charlie\n\n\n\n\n\n			\n				Bande annonce\n			\n		 \n\n\n\n\n\n\n\n\n\n\n\n\n\n\n\n\n\n\n\n\n\n\n\n\n\n\n\n\n\n\n\n\n\n\n\n\n\n\n\n\n\n\n\n\n\n\n\n\n\n\n\n\n\nBande annonce
URL:https://plaza-mons.be/film/vie-privee/2026-02-23
ATTACH;FMTTYPE=image/jpeg:https://plaza-mons.be/wp-content/uploads/2025/12/vie-privee-poster-def-be-original.jpg
END:VEVENT
BEGIN:VEVENT
DTSTART;TZID=Europe/Brussels:20260223T153000
DTEND;TZID=Europe/Brussels:20260223T173000
DTSTAMP:20260423T215905
CREATED:20260205T161311Z
LAST-MODIFIED:20260306T000007Z
UID:104292-1771860600-1771867800@plaza-mons.be
SUMMARY:Is This Thing On ?
DESCRIPTION:Super Charlie\n\n\n\n\n\n			\n				Bande annonce\n			\n		 \n\n\n\n\n\n\n\n\n\n\n\n\n\n\n\n\n\n\n\n\n\n\n\n\n\n\n\n\n\n\n\n\n\n\n\n\n\n\n\n\n\n\n\n\n\n\n\n\n\n\n\n\n\nBande annonce
URL:https://plaza-mons.be/film/is-this-thing-on/2026-02-23
ATTACH;FMTTYPE=image/jpeg:https://plaza-mons.be/wp-content/uploads/2026/02/is-this-thing-on.jpg
END:VEVENT
BEGIN:VEVENT
DTSTART;TZID=Europe/Brussels:20260223T160000
DTEND;TZID=Europe/Brussels:20260223T172700
DTSTAMP:20260423T215905
CREATED:20260205T161918Z
LAST-MODIFIED:20260405T000224Z
UID:104310-1771862400-1771867620@plaza-mons.be
SUMMARY:Le Trésor de Barracuda
DESCRIPTION:Super Charlie\n\n\n\n\n\n			\n				Bande annonce\n			\n		 \n\n\n\n\n\n\n\n\n\n\n\n\n\n\n\n\n\n\n\n\n\n\n\n\n\n\n\n\n\n\n\n\n\n\n\n\n\n\n\n\n\n\n\n\n\n\n\n\n\n\n\n\n\nBande annonce
URL:https://plaza-mons.be/film/le-tresor-de-barracuda/2026-02-23
ATTACH;FMTTYPE=image/jpeg:https://plaza-mons.be/wp-content/uploads/2026/02/el-tesoro-de-barracuda-poster-ok-original.jpg
END:VEVENT
BEGIN:VEVENT
DTSTART;TZID=Europe/Brussels:20260223T160000
DTEND;TZID=Europe/Brussels:20260223T173500
DTSTAMP:20260423T215905
CREATED:20260127T151844Z
LAST-MODIFIED:20260224T000151Z
UID:104267-1771862400-1771868100@plaza-mons.be
SUMMARY:L'enfant bélier
DESCRIPTION:Super Charlie\n\n\n\n\n\n			\n				Bande annonce\n			\n		 \n\n\n\n\n\n\n\n\n\n\n\n\n\n\n\n\n\n\n\n\n\n\n\n\n\n\n\n\n\n\n\n\n\n\n\n\n\n\n\n\n\n\n\n\n\n\n\n\n\n\n\n\n\nBande annonce
URL:https://plaza-mons.be/film/lenfant-belier/2026-02-23
ATTACH;FMTTYPE=image/jpeg:https://plaza-mons.be/wp-content/uploads/2026/01/lenfant-belier-affiche-a2-original.jpg
END:VEVENT
BEGIN:VEVENT
DTSTART;TZID=Europe/Brussels:20260223T174500
DTEND;TZID=Europe/Brussels:20260223T193500
DTSTAMP:20260423T215905
CREATED:20260205T161731Z
LAST-MODIFIED:20260324T000424Z
UID:104307-1771868700-1771875300@plaza-mons.be
SUMMARY:The Mastermind
DESCRIPTION:Super Charlie\n\n\n\n\n\n			\n				Bande annonce\n			\n		 \n\n\n\n\n\n\n\n\n\n\n\n\n\n\n\n\n\n\n\n\n\n\n\n\n\n\n\n\n\n\n\n\n\n\n\n\n\n\n\n\n\n\n\n\n\n\n\n\n\n\n\n\n\nBande annonce
URL:https://plaza-mons.be/film/the-mastermind/2026-02-23
ATTACH;FMTTYPE=image/jpeg:https://plaza-mons.be/wp-content/uploads/2026/02/themastermind-cineart-def-original.jpg
END:VEVENT
BEGIN:VEVENT
DTSTART;TZID=Europe/Brussels:20260223T180000
DTEND;TZID=Europe/Brussels:20260223T200000
DTSTAMP:20260423T215905
CREATED:20260205T160948Z
LAST-MODIFIED:20260303T000213Z
UID:104284-1771869600-1771876800@plaza-mons.be
SUMMARY:Renoir
DESCRIPTION:Super Charlie\n\n\n\n\n\n			\n				Bande annonce\n			\n		 \n\n\n\n\n\n\n\n\n\n\n\n\n\n\n\n\n\n\n\n\n\n\n\n\n\n\n\n\n\n\n\n\n\n\n\n\n\n\n\n\n\n\n\n\n\n\n\n\n\n\n\n\n\nBande annonce
URL:https://plaza-mons.be/film/renoir/2026-02-23
ATTACH;FMTTYPE=image/jpeg:https://plaza-mons.be/wp-content/uploads/2026/02/renoir-poster-be-original.jpg
END:VEVENT
BEGIN:VEVENT
DTSTART;TZID=Europe/Brussels:20260223T180000
DTEND;TZID=Europe/Brussels:20260223T200400
DTSTAMP:20260423T215905
CREATED:20260211T101302Z
LAST-MODIFIED:20260317T000006Z
UID:104918-1771869600-1771877040@plaza-mons.be
SUMMARY:Gourou
DESCRIPTION:Super Charlie\n\n\n\n\n\n			\n				Bande annonce\n			\n		 \n\n\n\n\n\n\n\n\n\n\n\n\n\n\n\n\n\n\n\n\n\n\n\n\n\n\n\n\n\n\n\n\n\n\n\n\n\n\n\n\n\n\n\n\n\n\n\n\n\n\n\n\n\nBande annonce
URL:https://plaza-mons.be/film/gourou/2026-02-23
ATTACH;FMTTYPE=image/jpeg:https://plaza-mons.be/wp-content/uploads/2026/02/gourou-120x160-be-large.jpg
END:VEVENT
BEGIN:VEVENT
DTSTART;TZID=Europe/Brussels:20260223T180000
DTEND;TZID=Europe/Brussels:20260223T200500
DTSTAMP:20260423T215905
CREATED:20251222T105731Z
LAST-MODIFIED:20260330T000320Z
UID:103927-1771869600-1771877100@plaza-mons.be
SUMMARY:Hamnet
DESCRIPTION:Super Charlie\n\n\n\n\n\n			\n				Bande annonce\n			\n		 \n\n\n\n\n\n\n\n\n\n\n\n\n\n\n\n\n\n\n\n\n\n\n\n\n\n\n\n\n\n\n\n\n\n\n\n\n\n\n\n\n\n\n\n\n\n\n\n\n\n\n\n\n\nBande annonce
URL:https://plaza-mons.be/film/hamnet/2026-02-23
ATTACH;FMTTYPE=image/jpeg:https://plaza-mons.be/wp-content/uploads/2025/12/hamnet-poster.jpg
END:VEVENT
BEGIN:VEVENT
DTSTART;TZID=Europe/Brussels:20260223T201500
DTEND;TZID=Europe/Brussels:20260223T222600
DTSTAMP:20260423T215905
CREATED:20251222T133139Z
LAST-MODIFIED:20260223T000152Z
UID:104249-1771877700-1771885560@plaza-mons.be
SUMMARY:La Grazia
DESCRIPTION:Super Charlie\n\n\n\n\n\n			\n				Bande annonce\n			\n		 \n\n\n\n\n\n\n\n\n\n\n\n\n\n\n\n\n\n\n\n\n\n\n\n\n\n\n\n\n\n\n\n\n\n\n\n\n\n\n\n\n\n\n\n\n\n\n\n\n\n\n\n\n\nBande annonce
URL:https://plaza-mons.be/film/la-grazia/2026-02-23
ATTACH;FMTTYPE=image/jpeg:https://plaza-mons.be/wp-content/uploads/2025/12/la-grazia-poster.jpg
END:VEVENT
BEGIN:VEVENT
DTSTART;TZID=Europe/Brussels:20260223T203000
DTEND;TZID=Europe/Brussels:20260223T203000
DTSTAMP:20260423T215905
CREATED:20260127T152104Z
LAST-MODIFIED:20260303T000106Z
UID:104059-1771878600-1771878600@plaza-mons.be
SUMMARY:28 Years Later : The Bone Temple
DESCRIPTION:Super Charlie\n\n\n\n\n\n			\n				Bande annonce\n			\n		 \n\n\n\n\n\n\n\n\n\n\n\n\n\n\n\n\n\n\n\n\n\n\n\n\n\n\n\n\n\n\n\n\n\n\n\n\n\n\n\n\n\n\n\n\n\n\n\n\n\n\n\n\n\nBande annonce
URL:https://plaza-mons.be/film/28-years-later-the-bone-temple/2026-02-23
ATTACH;FMTTYPE=image/jpeg:https://plaza-mons.be/wp-content/uploads/2026/01/28yearslater-fr-original.jpg
END:VEVENT
BEGIN:VEVENT
DTSTART;TZID=Europe/Brussels:20260223T203000
DTEND;TZID=Europe/Brussels:20260223T221700
DTSTAMP:20260423T215905
CREATED:20260205T161626Z
LAST-MODIFIED:20260306T000202Z
UID:104299-1771878600-1771885020@plaza-mons.be
SUMMARY:Skiff
DESCRIPTION:Super Charlie\n\n\n\n\n\n			\n				Bande annonce\n			\n		 \n\n\n\n\n\n\n\n\n\n\n\n\n\n\n\n\n\n\n\n\n\n\n\n\n\n\n\n\n\n\n\n\n\n\n\n\n\n\n\n\n\n\n\n\n\n\n\n\n\n\n\n\n\nBande annonce
URL:https://plaza-mons.be/film/skiff/2026-02-23
ATTACH;FMTTYPE=image/jpeg:https://plaza-mons.be/wp-content/uploads/2026/02/skiff-poster-hq-original.jpg
END:VEVENT
BEGIN:VEVENT
DTSTART;TZID=Europe/Brussels:20260223T203000
DTEND;TZID=Europe/Brussels:20260223T224900
DTSTAMP:20260423T215905
CREATED:20260127T152456Z
LAST-MODIFIED:20260324T000051Z
UID:104114-1771878600-1771886940@plaza-mons.be
SUMMARY:No Other Choice
DESCRIPTION:Super Charlie\n\n\n\n\n\n			\n				Bande annonce\n			\n		 \n\n\n\n\n\n\n\n\n\n\n\n\n\n\n\n\n\n\n\n\n\n\n\n\n\n\n\n\n\n\n\n\n\n\n\n\n\n\n\n\n\n\n\n\n\n\n\n\n\n\n\n\n\nBande annonce
URL:https://plaza-mons.be/film/no-other-choice/2026-02-23
ATTACH;FMTTYPE=image/jpeg:https://plaza-mons.be/wp-content/uploads/2026/01/nootherchoice-cineart-def-original.jpg
END:VEVENT
END:VCALENDAR