BEGIN:VCALENDAR
VERSION:2.0
PRODID:-//Plaza Arthouse Cinema - ECPv5.14.1//NONSGML v1.0//EN
CALSCALE:GREGORIAN
METHOD:PUBLISH
X-WR-CALNAME:Plaza Arthouse Cinema
X-ORIGINAL-URL:https://plaza-mons.be
X-WR-CALDESC:Events for Plaza Arthouse Cinema
REFRESH-INTERVAL;VALUE=DURATION:PT1H
X-Robots-Tag:noindex
X-PUBLISHED-TTL:PT1H
BEGIN:VTIMEZONE
TZID:Europe/Brussels
BEGIN:DAYLIGHT
TZOFFSETFROM:+0100
TZOFFSETTO:+0200
TZNAME:CEST
DTSTART:20260329T010000
END:DAYLIGHT
BEGIN:STANDARD
TZOFFSETFROM:+0200
TZOFFSETTO:+0100
TZNAME:CET
DTSTART:20261025T010000
END:STANDARD
END:VTIMEZONE
BEGIN:VEVENT
DTSTART;TZID=Europe/Brussels:20260221T110000
DTEND;TZID=Europe/Brussels:20260221T110000
DTSTAMP:20260421T201049
CREATED:20260204T143003Z
LAST-MODIFIED:20260304T000026Z
UID:104092-1771671600-1771671600@plaza-mons.be
SUMMARY:Olivia
DESCRIPTION:Super Charlie\n\n\n\n\n\n			\n				Bande annonce\n			\n		 \n\n\n\n\n\n\n\n\n\n\n\n\n\n\n\n\n\n\n\n\n\n\n\n\n\n\n\n\n\n\n\n\n\n\n\n\n\n\n\n\n\n\n\n\n\n\n\n\n\n\n\n\n\nBande annonce
URL:https://plaza-mons.be/film/olivia/2026-02-21
ATTACH;FMTTYPE=image/jpeg:https://plaza-mons.be/wp-content/uploads/2026/02/olivia-poster-tempo-original.jpg
END:VEVENT
BEGIN:VEVENT
DTSTART;TZID=Europe/Brussels:20260221T110000
DTEND;TZID=Europe/Brussels:20260221T114500
DTSTAMP:20260421T201049
CREATED:20251222T110542Z
LAST-MODIFIED:20260304T000013Z
UID:103900-1771671600-1771674300@plaza-mons.be
SUMMARY:La Princesse et le rossignol
DESCRIPTION:Super Charlie\n\n\n\n\n\n			\n				Bande annonce\n			\n		 \n\n\n\n\n\n\n\n\n\n\n\n\n\n\n\n\n\n\n\n\n\n\n\n\n\n\n\n\n\n\n\n\n\n\n\n\n\n\n\n\n\n\n\n\n\n\n\n\n\n\n\n\n\nBande annonce
URL:https://plaza-mons.be/film/la-princesse-et-le-rossignol-2/2026-02-21
ATTACH;FMTTYPE=image/jpeg:https://plaza-mons.be/wp-content/uploads/2025/12/la-princesse-et-le-rossignol-poster-2.jpg
END:VEVENT
BEGIN:VEVENT
DTSTART;TZID=Europe/Brussels:20260221T110000
DTEND;TZID=Europe/Brussels:20260221T115200
DTSTAMP:20260421T201049
CREATED:20260127T151748Z
LAST-MODIFIED:20260301T000039Z
UID:104021-1771671600-1771674720@plaza-mons.be
SUMMARY:Jack & Nancy\, les plus belles histoires de Quentin Blake
DESCRIPTION:Super Charlie\n\n\n\n\n\n			\n				Bande annonce\n			\n		 \n\n\n\n\n\n\n\n\n\n\n\n\n\n\n\n\n\n\n\n\n\n\n\n\n\n\n\n\n\n\n\n\n\n\n\n\n\n\n\n\n\n\n\n\n\n\n\n\n\n\n\n\n\nBande annonce
URL:https://plaza-mons.be/film/jack-nancy-les-plus-belles-histoires-de-quentin-blake/2026-02-21
ATTACH;FMTTYPE=image/webp:https://plaza-mons.be/wp-content/uploads/2026/01/jack-nancy-les-plus-belles-histoires-de-quentin-blake.webp
END:VEVENT
BEGIN:VEVENT
DTSTART;TZID=Europe/Brussels:20260221T110000
DTEND;TZID=Europe/Brussels:20260221T124600
DTSTAMP:20260421T201049
CREATED:20251222T105013Z
LAST-MODIFIED:20260305T000135Z
UID:103965-1771671600-1771677960@plaza-mons.be
SUMMARY:Vie privée
DESCRIPTION:Super Charlie\n\n\n\n\n\n			\n				Bande annonce\n			\n		 \n\n\n\n\n\n\n\n\n\n\n\n\n\n\n\n\n\n\n\n\n\n\n\n\n\n\n\n\n\n\n\n\n\n\n\n\n\n\n\n\n\n\n\n\n\n\n\n\n\n\n\n\n\nBande annonce
URL:https://plaza-mons.be/film/vie-privee/2026-02-21
ATTACH;FMTTYPE=image/jpeg:https://plaza-mons.be/wp-content/uploads/2025/12/vie-privee-poster-def-be-original.jpg
END:VEVENT
BEGIN:VEVENT
DTSTART;TZID=Europe/Brussels:20260221T133000
DTEND;TZID=Europe/Brussels:20260221T150200
DTSTAMP:20260421T201049
CREATED:20260205T103606Z
LAST-MODIFIED:20260303T000022Z
UID:104276-1771680600-1771686120@plaza-mons.be
SUMMARY:Second Victims
DESCRIPTION:Super Charlie\n\n\n\n\n\n			\n				Bande annonce\n			\n		 \n\n\n\n\n\n\n\n\n\n\n\n\n\n\n\n\n\n\n\n\n\n\n\n\n\n\n\n\n\n\n\n\n\n\n\n\n\n\n\n\n\n\n\n\n\n\n\n\n\n\n\n\n\nBande annonce
URL:https://plaza-mons.be/film/second-victims/2026-02-21
ATTACH;FMTTYPE=image/jpeg:https://plaza-mons.be/wp-content/uploads/2026/02/second-victims-1.jpg
END:VEVENT
BEGIN:VEVENT
DTSTART;TZID=Europe/Brussels:20260221T133000
DTEND;TZID=Europe/Brussels:20260221T150300
DTSTAMP:20260421T201049
CREATED:20260127T152216Z
LAST-MODIFIED:20260421T001130Z
UID:104080-1771680600-1771686180@plaza-mons.be
SUMMARY:Le chant des forêts
DESCRIPTION:Super Charlie\n\n\n\n\n\n			\n				Bande annonce\n			\n		 \n\n\n\n\n\n\n\n\n\n\n\n\n\n\n\n\n\n\n\n\n\n\n\n\n\n\n\n\n\n\n\n\n\n\n\n\n\n\n\n\n\n\n\n\n\n\n\n\n\n\n\n\n\nBande annonce
URL:https://plaza-mons.be/film/le-chant-des-forets/2026-02-21
ATTACH;FMTTYPE=image/jpeg:https://plaza-mons.be/wp-content/uploads/2026/01/lechantdesforets-cineart-70x100-fr-original.jpg
END:VEVENT
BEGIN:VEVENT
DTSTART;TZID=Europe/Brussels:20260221T133000
DTEND;TZID=Europe/Brussels:20260221T150500
DTSTAMP:20260421T201049
CREATED:20260127T151844Z
LAST-MODIFIED:20260224T000151Z
UID:104265-1771680600-1771686300@plaza-mons.be
SUMMARY:L'enfant bélier
DESCRIPTION:Super Charlie\n\n\n\n\n\n			\n				Bande annonce\n			\n		 \n\n\n\n\n\n\n\n\n\n\n\n\n\n\n\n\n\n\n\n\n\n\n\n\n\n\n\n\n\n\n\n\n\n\n\n\n\n\n\n\n\n\n\n\n\n\n\n\n\n\n\n\n\nBande annonce
URL:https://plaza-mons.be/film/lenfant-belier/2026-02-21
ATTACH;FMTTYPE=image/jpeg:https://plaza-mons.be/wp-content/uploads/2026/01/lenfant-belier-affiche-a2-original.jpg
END:VEVENT
BEGIN:VEVENT
DTSTART;TZID=Europe/Brussels:20260221T140000
DTEND;TZID=Europe/Brussels:20260221T144500
DTSTAMP:20260421T201049
CREATED:20251222T110542Z
LAST-MODIFIED:20260304T000013Z
UID:104239-1771682400-1771685100@plaza-mons.be
SUMMARY:La Princesse et le rossignol
DESCRIPTION:Super Charlie\n\n\n\n\n\n			\n				Bande annonce\n			\n		 \n\n\n\n\n\n\n\n\n\n\n\n\n\n\n\n\n\n\n\n\n\n\n\n\n\n\n\n\n\n\n\n\n\n\n\n\n\n\n\n\n\n\n\n\n\n\n\n\n\n\n\n\n\nBande annonce
URL:https://plaza-mons.be/film/la-princesse-et-le-rossignol-2/2026-02-21
ATTACH;FMTTYPE=image/jpeg:https://plaza-mons.be/wp-content/uploads/2025/12/la-princesse-et-le-rossignol-poster-2.jpg
END:VEVENT
BEGIN:VEVENT
DTSTART;TZID=Europe/Brussels:20260221T151500
DTEND;TZID=Europe/Brussels:20260221T172600
DTSTAMP:20260421T201049
CREATED:20251222T133139Z
LAST-MODIFIED:20260223T000152Z
UID:104247-1771686900-1771694760@plaza-mons.be
SUMMARY:La Grazia
DESCRIPTION:Super Charlie\n\n\n\n\n\n			\n				Bande annonce\n			\n		 \n\n\n\n\n\n\n\n\n\n\n\n\n\n\n\n\n\n\n\n\n\n\n\n\n\n\n\n\n\n\n\n\n\n\n\n\n\n\n\n\n\n\n\n\n\n\n\n\n\n\n\n\n\nBande annonce
URL:https://plaza-mons.be/film/la-grazia/2026-02-21
ATTACH;FMTTYPE=image/jpeg:https://plaza-mons.be/wp-content/uploads/2025/12/la-grazia-poster.jpg
END:VEVENT
BEGIN:VEVENT
DTSTART;TZID=Europe/Brussels:20260221T153000
DTEND;TZID=Europe/Brussels:20260221T153000
DTSTAMP:20260421T201049
CREATED:20260127T152144Z
LAST-MODIFIED:20260303T000040Z
UID:104260-1771687800-1771687800@plaza-mons.be
SUMMARY:Twin Peaks: Fire Walk with Me
DESCRIPTION:Twin Peaks – Fire Walk With Me (1992) | Pers: Sheryl Lee\, Kyle Maclachlan\, David Lynch\, Kyle Maclachlan | Dir: David Lynch | Ref: TWI023AA | Photo Credit: [ The Kobal Collection / Lynch-Frost/Ciby 2000 ] | Editorial use only related to cinema\, television and personalities. Not for cover use\, advertising or fictional works without specific prior agreement\n\n\n\nSuper Charlie
URL:https://plaza-mons.be/film/twin-peaks-fire-walk-with-me/2026-02-21
ATTACH;FMTTYPE=image/jpeg:https://plaza-mons.be/wp-content/uploads/2026/01/twin-peaks-fire-walk-with-me.jpg
END:VEVENT
BEGIN:VEVENT
DTSTART;TZID=Europe/Brussels:20260221T153000
DTEND;TZID=Europe/Brussels:20260221T162200
DTSTAMP:20260421T201049
CREATED:20260127T151748Z
LAST-MODIFIED:20260301T000039Z
UID:104253-1771687800-1771690920@plaza-mons.be
SUMMARY:Jack & Nancy\, les plus belles histoires de Quentin Blake
DESCRIPTION:Super Charlie\n\n\n\n\n\n			\n				Bande annonce\n			\n		 \n\n\n\n\n\n\n\n\n\n\n\n\n\n\n\n\n\n\n\n\n\n\n\n\n\n\n\n\n\n\n\n\n\n\n\n\n\n\n\n\n\n\n\n\n\n\n\n\n\n\n\n\n\nBande annonce
URL:https://plaza-mons.be/film/jack-nancy-les-plus-belles-histoires-de-quentin-blake/2026-02-21
ATTACH;FMTTYPE=image/webp:https://plaza-mons.be/wp-content/uploads/2026/01/jack-nancy-les-plus-belles-histoires-de-quentin-blake.webp
END:VEVENT
BEGIN:VEVENT
DTSTART;TZID=Europe/Brussels:20260221T153000
DTEND;TZID=Europe/Brussels:20260221T171600
DTSTAMP:20260421T201049
CREATED:20251222T105013Z
LAST-MODIFIED:20260305T000136Z
UID:103966-1771687800-1771694160@plaza-mons.be
SUMMARY:Vie privée
DESCRIPTION:Super Charlie\n\n\n\n\n\n			\n				Bande annonce\n			\n		 \n\n\n\n\n\n\n\n\n\n\n\n\n\n\n\n\n\n\n\n\n\n\n\n\n\n\n\n\n\n\n\n\n\n\n\n\n\n\n\n\n\n\n\n\n\n\n\n\n\n\n\n\n\nBande annonce
URL:https://plaza-mons.be/film/vie-privee/2026-02-21/3
ATTACH;FMTTYPE=image/jpeg:https://plaza-mons.be/wp-content/uploads/2025/12/vie-privee-poster-def-be-original.jpg
END:VEVENT
BEGIN:VEVENT
DTSTART;TZID=Europe/Brussels:20260221T173000
DTEND;TZID=Europe/Brussels:20260221T193400
DTSTAMP:20260421T201049
CREATED:20260211T101302Z
LAST-MODIFIED:20260317T000005Z
UID:104916-1771695000-1771702440@plaza-mons.be
SUMMARY:Gourou
DESCRIPTION:Super Charlie\n\n\n\n\n\n			\n				Bande annonce\n			\n		 \n\n\n\n\n\n\n\n\n\n\n\n\n\n\n\n\n\n\n\n\n\n\n\n\n\n\n\n\n\n\n\n\n\n\n\n\n\n\n\n\n\n\n\n\n\n\n\n\n\n\n\n\n\nBande annonce
URL:https://plaza-mons.be/film/gourou/2026-02-21
ATTACH;FMTTYPE=image/jpeg:https://plaza-mons.be/wp-content/uploads/2026/02/gourou-120x160-be-large.jpg
END:VEVENT
BEGIN:VEVENT
DTSTART;TZID=Europe/Brussels:20260221T180000
DTEND;TZID=Europe/Brussels:20260221T200000
DTSTAMP:20260421T201049
CREATED:20260205T161311Z
LAST-MODIFIED:20260306T000005Z
UID:104290-1771696800-1771704000@plaza-mons.be
SUMMARY:Is This Thing On ?
DESCRIPTION:Super Charlie\n\n\n\n\n\n			\n				Bande annonce\n			\n		 \n\n\n\n\n\n\n\n\n\n\n\n\n\n\n\n\n\n\n\n\n\n\n\n\n\n\n\n\n\n\n\n\n\n\n\n\n\n\n\n\n\n\n\n\n\n\n\n\n\n\n\n\n\nBande annonce
URL:https://plaza-mons.be/film/is-this-thing-on/2026-02-21
ATTACH;FMTTYPE=image/jpeg:https://plaza-mons.be/wp-content/uploads/2026/02/is-this-thing-on.jpg
END:VEVENT
BEGIN:VEVENT
DTSTART;TZID=Europe/Brussels:20260221T180000
DTEND;TZID=Europe/Brussels:20260221T200500
DTSTAMP:20260421T201049
CREATED:20251222T105731Z
LAST-MODIFIED:20260330T000319Z
UID:103925-1771696800-1771704300@plaza-mons.be
SUMMARY:Hamnet
DESCRIPTION:Super Charlie\n\n\n\n\n\n			\n				Bande annonce\n			\n		 \n\n\n\n\n\n\n\n\n\n\n\n\n\n\n\n\n\n\n\n\n\n\n\n\n\n\n\n\n\n\n\n\n\n\n\n\n\n\n\n\n\n\n\n\n\n\n\n\n\n\n\n\n\nBande annonce
URL:https://plaza-mons.be/film/hamnet/2026-02-21
ATTACH;FMTTYPE=image/jpeg:https://plaza-mons.be/wp-content/uploads/2025/12/hamnet-poster.jpg
END:VEVENT
BEGIN:VEVENT
DTSTART;TZID=Europe/Brussels:20260221T181500
DTEND;TZID=Europe/Brussels:20260221T200200
DTSTAMP:20260421T201049
CREATED:20260205T161626Z
LAST-MODIFIED:20260306T000202Z
UID:104297-1771697700-1771704120@plaza-mons.be
SUMMARY:Skiff
DESCRIPTION:Super Charlie\n\n\n\n\n\n			\n				Bande annonce\n			\n		 \n\n\n\n\n\n\n\n\n\n\n\n\n\n\n\n\n\n\n\n\n\n\n\n\n\n\n\n\n\n\n\n\n\n\n\n\n\n\n\n\n\n\n\n\n\n\n\n\n\n\n\n\n\nBande annonce
URL:https://plaza-mons.be/film/skiff/2026-02-21
ATTACH;FMTTYPE=image/jpeg:https://plaza-mons.be/wp-content/uploads/2026/02/skiff-poster-hq-original.jpg
END:VEVENT
BEGIN:VEVENT
DTSTART;TZID=Europe/Brussels:20260221T200000
DTEND;TZID=Europe/Brussels:20260221T223000
DTSTAMP:20260421T201049
CREATED:20260126T093554Z
LAST-MODIFIED:20260221T000139Z
UID:103228-1771704000-1771713000@plaza-mons.be
SUMMARY:Pop & Clap Ciné-club Marty Supreme
DESCRIPTION:Super Charlie\n\n\n\n\n\n			\n				Bande annonce\n			\n		 \n\n\n\n\n\n\n\n\n\n\n\n\n\n\n\n\n\n\n\n\n\n\n\n\n\n\n\n\n\n\n\n\n\n\n\n\n\n\n\n\n\n\n\n\n\n\n\n\n\n\n\n\n\nBande annonce
URL:https://plaza-mons.be/film/pop-clap-cine-club-marty-supreme/2026-02-21
CATEGORIES:Avant-première,Pop & Clap Ciné-club
ATTACH;FMTTYPE=image/jpeg:https://plaza-mons.be/wp-content/uploads/2026/01/martysupreme-finalposter-vf-original.jpg
END:VEVENT
BEGIN:VEVENT
DTSTART;TZID=Europe/Brussels:20260221T203000
DTEND;TZID=Europe/Brussels:20260221T222000
DTSTAMP:20260421T201049
CREATED:20260205T161731Z
LAST-MODIFIED:20260324T000423Z
UID:104305-1771705800-1771712400@plaza-mons.be
SUMMARY:The Mastermind
DESCRIPTION:Super Charlie\n\n\n\n\n\n			\n				Bande annonce\n			\n		 \n\n\n\n\n\n\n\n\n\n\n\n\n\n\n\n\n\n\n\n\n\n\n\n\n\n\n\n\n\n\n\n\n\n\n\n\n\n\n\n\n\n\n\n\n\n\n\n\n\n\n\n\n\nBande annonce
URL:https://plaza-mons.be/film/the-mastermind/2026-02-21
ATTACH;FMTTYPE=image/jpeg:https://plaza-mons.be/wp-content/uploads/2026/02/themastermind-cineart-def-original.jpg
END:VEVENT
BEGIN:VEVENT
DTSTART;TZID=Europe/Brussels:20260221T203000
DTEND;TZID=Europe/Brussels:20260221T223000
DTSTAMP:20260421T201049
CREATED:20260205T160948Z
LAST-MODIFIED:20260303T000210Z
UID:104282-1771705800-1771713000@plaza-mons.be
SUMMARY:Renoir
DESCRIPTION:Super Charlie\n\n\n\n\n\n			\n				Bande annonce\n			\n		 \n\n\n\n\n\n\n\n\n\n\n\n\n\n\n\n\n\n\n\n\n\n\n\n\n\n\n\n\n\n\n\n\n\n\n\n\n\n\n\n\n\n\n\n\n\n\n\n\n\n\n\n\n\nBande annonce
URL:https://plaza-mons.be/film/renoir/2026-02-21
ATTACH;FMTTYPE=image/jpeg:https://plaza-mons.be/wp-content/uploads/2026/02/renoir-poster-be-original.jpg
END:VEVENT
BEGIN:VEVENT
DTSTART;TZID=Europe/Brussels:20260221T203000
DTEND;TZID=Europe/Brussels:20260221T224900
DTSTAMP:20260421T201049
CREATED:20260127T152456Z
LAST-MODIFIED:20260324T000047Z
UID:104112-1771705800-1771714140@plaza-mons.be
SUMMARY:No Other Choice
DESCRIPTION:Super Charlie\n\n\n\n\n\n			\n				Bande annonce\n			\n		 \n\n\n\n\n\n\n\n\n\n\n\n\n\n\n\n\n\n\n\n\n\n\n\n\n\n\n\n\n\n\n\n\n\n\n\n\n\n\n\n\n\n\n\n\n\n\n\n\n\n\n\n\n\nBande annonce
URL:https://plaza-mons.be/film/no-other-choice/2026-02-21
ATTACH;FMTTYPE=image/jpeg:https://plaza-mons.be/wp-content/uploads/2026/01/nootherchoice-cineart-def-original.jpg
END:VEVENT
END:VCALENDAR