BEGIN:VCALENDAR
VERSION:2.0
PRODID:-//Plaza Arthouse Cinema - ECPv5.14.1//NONSGML v1.0//EN
CALSCALE:GREGORIAN
METHOD:PUBLISH
X-WR-CALNAME:Plaza Arthouse Cinema
X-ORIGINAL-URL:https://plaza-mons.be
X-WR-CALDESC:Events for Plaza Arthouse Cinema
REFRESH-INTERVAL;VALUE=DURATION:PT1H
X-Robots-Tag:noindex
X-PUBLISHED-TTL:PT1H
BEGIN:VTIMEZONE
TZID:Europe/Brussels
BEGIN:DAYLIGHT
TZOFFSETFROM:+0100
TZOFFSETTO:+0200
TZNAME:CEST
DTSTART:20260329T010000
END:DAYLIGHT
BEGIN:STANDARD
TZOFFSETFROM:+0200
TZOFFSETTO:+0100
TZNAME:CET
DTSTART:20261025T010000
END:STANDARD
END:VTIMEZONE
BEGIN:VEVENT
DTSTART;TZID=Europe/Brussels:20260209T150000
DTEND;TZID=Europe/Brussels:20260209T150000
DTSTAMP:20260421T230631
CREATED:20260127T152144Z
LAST-MODIFIED:20260303T000031Z
UID:103693-1770649200-1770649200@plaza-mons.be
SUMMARY:Twin Peaks: Fire Walk with Me
DESCRIPTION:Twin Peaks – Fire Walk With Me (1992) | Pers: Sheryl Lee\, Kyle Maclachlan\, David Lynch\, Kyle Maclachlan | Dir: David Lynch | Ref: TWI023AA | Photo Credit: [ The Kobal Collection / Lynch-Frost/Ciby 2000 ] | Editorial use only related to cinema\, television and personalities. Not for cover use\, advertising or fictional works without specific prior agreement\n\n\n\nSuper Charlie
URL:https://plaza-mons.be/film/twin-peaks-fire-walk-with-me/2026-02-09
ATTACH;FMTTYPE=image/jpeg:https://plaza-mons.be/wp-content/uploads/2026/01/twin-peaks-fire-walk-with-me.jpg
END:VEVENT
BEGIN:VEVENT
DTSTART;TZID=Europe/Brussels:20260209T150000
DTEND;TZID=Europe/Brussels:20260209T164000
DTSTAMP:20260421T230631
CREATED:20251222T105127Z
LAST-MODIFIED:20260210T000010Z
UID:103388-1770649200-1770655200@plaza-mons.be
SUMMARY:Blue Moon
DESCRIPTION:Super Charlie\n\n\n\n\n\n			\n				Bande annonce\n			\n		 \n\n\n\n\n\n\n\n\n\n\n\n\n\n\n\n\n\n\n\n\n\n\n\n\n\n\n\n\n\n\n\n\n\n\n\n\n\n\n\n\n\n\n\n\n\n\n\n\n\n\n\n\n\nBande annonce
URL:https://plaza-mons.be/film/blue-moon/2026-02-09
ATTACH;FMTTYPE=image/jpeg:https://plaza-mons.be/wp-content/uploads/2025/12/blue-moon-poster.jpg
END:VEVENT
BEGIN:VEVENT
DTSTART;TZID=Europe/Brussels:20260209T150000
DTEND;TZID=Europe/Brussels:20260209T170300
DTSTAMP:20260421T230631
CREATED:20251222T110019Z
LAST-MODIFIED:20260217T000023Z
UID:103321-1770649200-1770656580@plaza-mons.be
SUMMARY:L’affaire Bojarski
DESCRIPTION:Super Charlie\n\n\n\n\n\n			\n				Bande annonce\n			\n		 \n\n\n\n\n\n\n\n\n\n\n\n\n\n\n\n\n\n\n\n\n\n\n\n\n\n\n\n\n\n\n\n\n\n\n\n\n\n\n\n\n\n\n\n\n\n\n\n\n\n\n\n\n\nBande annonce
URL:https://plaza-mons.be/film/laffaire-bojarski/2026-02-09
ATTACH;FMTTYPE=image/jpeg:https://plaza-mons.be/wp-content/uploads/2025/12/laffaire-bojarski-1.jpg
END:VEVENT
BEGIN:VEVENT
DTSTART;TZID=Europe/Brussels:20260209T150000
DTEND;TZID=Europe/Brussels:20260209T172600
DTSTAMP:20260421T230631
CREATED:20251222T105523Z
LAST-MODIFIED:20260209T000023Z
UID:103475-1770649200-1770657960@plaza-mons.be
SUMMARY:Sound of Falling
DESCRIPTION:Super Charlie\n\n\n\n\n\n			\n				Bande annonce\n			\n		 \n\n\n\n\n\n\n\n\n\n\n\n\n\n\n\n\n\n\n\n\n\n\n\n\n\n\n\n\n\n\n\n\n\n\n\n\n\n\n\n\n\n\n\n\n\n\n\n\n\n\n\n\n\nBande annonce
URL:https://plaza-mons.be/film/sound-of-falling/2026-02-09
ATTACH;FMTTYPE=image/jpeg:https://plaza-mons.be/wp-content/uploads/2025/12/sound-of-falling-poster-1.jpg
END:VEVENT
BEGIN:VEVENT
DTSTART;TZID=Europe/Brussels:20260209T180000
DTEND;TZID=Europe/Brussels:20260209T180000
DTSTAMP:20260421T230631
CREATED:20260127T152104Z
LAST-MODIFIED:20260303T000059Z
UID:103711-1770660000-1770660000@plaza-mons.be
SUMMARY:28 Years Later : The Bone Temple
DESCRIPTION:Super Charlie\n\n\n\n\n\n			\n				Bande annonce\n			\n		 \n\n\n\n\n\n\n\n\n\n\n\n\n\n\n\n\n\n\n\n\n\n\n\n\n\n\n\n\n\n\n\n\n\n\n\n\n\n\n\n\n\n\n\n\n\n\n\n\n\n\n\n\n\nBande annonce
URL:https://plaza-mons.be/film/28-years-later-the-bone-temple/2026-02-09
ATTACH;FMTTYPE=image/jpeg:https://plaza-mons.be/wp-content/uploads/2026/01/28yearslater-fr-original.jpg
END:VEVENT
BEGIN:VEVENT
DTSTART;TZID=Europe/Brussels:20260209T180000
DTEND;TZID=Europe/Brussels:20260209T195200
DTSTAMP:20260421T230631
CREATED:20251222T104301Z
LAST-MODIFIED:20260210T000039Z
UID:103415-1770660000-1770666720@plaza-mons.be
SUMMARY:Ma frère
DESCRIPTION:Super Charlie\n\n\n\n\n\n			\n				Bande annonce\n			\n		 \n\n\n\n\n\n\n\n\n\n\n\n\n\n\n\n\n\n\n\n\n\n\n\n\n\n\n\n\n\n\n\n\n\n\n\n\n\n\n\n\n\n\n\n\n\n\n\n\n\n\n\n\n\nBande annonce
URL:https://plaza-mons.be/film/ma-frere-2/2026-02-09
ATTACH;FMTTYPE=image/jpeg:https://plaza-mons.be/wp-content/uploads/2025/12/ma-frere-poster.jpg
END:VEVENT
BEGIN:VEVENT
DTSTART;TZID=Europe/Brussels:20260209T181500
DTEND;TZID=Europe/Brussels:20260209T194800
DTSTAMP:20260421T230631
CREATED:20260127T152216Z
LAST-MODIFIED:20260421T001120Z
UID:103725-1770660900-1770666480@plaza-mons.be
SUMMARY:Le chant des forêts
DESCRIPTION:Super Charlie\n\n\n\n\n\n			\n				Bande annonce\n			\n		 \n\n\n\n\n\n\n\n\n\n\n\n\n\n\n\n\n\n\n\n\n\n\n\n\n\n\n\n\n\n\n\n\n\n\n\n\n\n\n\n\n\n\n\n\n\n\n\n\n\n\n\n\n\nBande annonce
URL:https://plaza-mons.be/film/le-chant-des-forets/2026-02-09
ATTACH;FMTTYPE=image/jpeg:https://plaza-mons.be/wp-content/uploads/2026/01/lechantdesforets-cineart-70x100-fr-original.jpg
END:VEVENT
BEGIN:VEVENT
DTSTART;TZID=Europe/Brussels:20260209T181500
DTEND;TZID=Europe/Brussels:20260209T194900
DTSTAMP:20260421T230631
CREATED:20251222T110911Z
LAST-MODIFIED:20260217T000029Z
UID:103650-1770660900-1770666540@plaza-mons.be
SUMMARY:Baise-en-ville
DESCRIPTION:Super Charlie\n\n\n\n\n\n			\n				Bande annonce\n			\n		 \n\n\n\n\n\n\n\n\n\n\n\n\n\n\n\n\n\n\n\n\n\n\n\n\n\n\n\n\n\n\n\n\n\n\n\n\n\n\n\n\n\n\n\n\n\n\n\n\n\n\n\n\n\nBande annonce
URL:https://plaza-mons.be/film/baise-en-ville/2026-02-09
ATTACH;FMTTYPE=image/jpeg:https://plaza-mons.be/wp-content/uploads/2025/12/baise-en-ville-poster.jpg
END:VEVENT
BEGIN:VEVENT
DTSTART;TZID=Europe/Brussels:20260209T201500
DTEND;TZID=Europe/Brussels:20260209T222600
DTSTAMP:20260421T230631
CREATED:20251222T133139Z
LAST-MODIFIED:20260223T000152Z
UID:103676-1770668100-1770675960@plaza-mons.be
SUMMARY:La Grazia
DESCRIPTION:Super Charlie\n\n\n\n\n\n			\n				Bande annonce\n			\n		 \n\n\n\n\n\n\n\n\n\n\n\n\n\n\n\n\n\n\n\n\n\n\n\n\n\n\n\n\n\n\n\n\n\n\n\n\n\n\n\n\n\n\n\n\n\n\n\n\n\n\n\n\n\nBande annonce
URL:https://plaza-mons.be/film/la-grazia/2026-02-09
ATTACH;FMTTYPE=image/jpeg:https://plaza-mons.be/wp-content/uploads/2025/12/la-grazia-poster.jpg
END:VEVENT
BEGIN:VEVENT
DTSTART;TZID=Europe/Brussels:20260209T203000
DTEND;TZID=Europe/Brussels:20260209T220500
DTSTAMP:20260421T230631
CREATED:20260127T151844Z
LAST-MODIFIED:20260224T000148Z
UID:104512-1770669000-1770674700@plaza-mons.be
SUMMARY:L'enfant bélier
DESCRIPTION:Super Charlie\n\n\n\n\n\n			\n				Bande annonce\n			\n		 \n\n\n\n\n\n\n\n\n\n\n\n\n\n\n\n\n\n\n\n\n\n\n\n\n\n\n\n\n\n\n\n\n\n\n\n\n\n\n\n\n\n\n\n\n\n\n\n\n\n\n\n\n\nBande annonce
URL:https://plaza-mons.be/film/lenfant-belier/2026-02-09
ATTACH;FMTTYPE=image/jpeg:https://plaza-mons.be/wp-content/uploads/2026/01/lenfant-belier-affiche-a2-original.jpg
END:VEVENT
BEGIN:VEVENT
DTSTART;TZID=Europe/Brussels:20260209T203000
DTEND;TZID=Europe/Brussels:20260209T221600
DTSTAMP:20260421T230631
CREATED:20251222T105013Z
LAST-MODIFIED:20260305T000132Z
UID:103448-1770669000-1770675360@plaza-mons.be
SUMMARY:Vie privée
DESCRIPTION:Super Charlie\n\n\n\n\n\n			\n				Bande annonce\n			\n		 \n\n\n\n\n\n\n\n\n\n\n\n\n\n\n\n\n\n\n\n\n\n\n\n\n\n\n\n\n\n\n\n\n\n\n\n\n\n\n\n\n\n\n\n\n\n\n\n\n\n\n\n\n\nBande annonce
URL:https://plaza-mons.be/film/vie-privee/2026-02-09
ATTACH;FMTTYPE=image/jpeg:https://plaza-mons.be/wp-content/uploads/2025/12/vie-privee-poster-def-be-original.jpg
END:VEVENT
BEGIN:VEVENT
DTSTART;TZID=Europe/Brussels:20260209T203000
DTEND;TZID=Europe/Brussels:20260209T223500
DTSTAMP:20260421T230631
CREATED:20251222T105731Z
LAST-MODIFIED:20260330T000317Z
UID:103529-1770669000-1770676500@plaza-mons.be
SUMMARY:Hamnet
DESCRIPTION:Super Charlie\n\n\n\n\n\n			\n				Bande annonce\n			\n		 \n\n\n\n\n\n\n\n\n\n\n\n\n\n\n\n\n\n\n\n\n\n\n\n\n\n\n\n\n\n\n\n\n\n\n\n\n\n\n\n\n\n\n\n\n\n\n\n\n\n\n\n\n\nBande annonce
URL:https://plaza-mons.be/film/hamnet/2026-02-09
ATTACH;FMTTYPE=image/jpeg:https://plaza-mons.be/wp-content/uploads/2025/12/hamnet-poster.jpg
END:VEVENT
END:VCALENDAR