BEGIN:VCALENDAR
VERSION:2.0
PRODID:-//Plaza Arthouse Cinema - ECPv5.14.1//NONSGML v1.0//EN
CALSCALE:GREGORIAN
METHOD:PUBLISH
X-WR-CALNAME:Plaza Arthouse Cinema
X-ORIGINAL-URL:https://plaza-mons.be
X-WR-CALDESC:Events for Plaza Arthouse Cinema
REFRESH-INTERVAL;VALUE=DURATION:PT1H
X-Robots-Tag:noindex
X-PUBLISHED-TTL:PT1H
BEGIN:VTIMEZONE
TZID:Europe/Brussels
BEGIN:DAYLIGHT
TZOFFSETFROM:+0100
TZOFFSETTO:+0200
TZNAME:CEST
DTSTART:20260329T010000
END:DAYLIGHT
BEGIN:STANDARD
TZOFFSETFROM:+0200
TZOFFSETTO:+0100
TZNAME:CET
DTSTART:20261025T010000
END:STANDARD
END:VTIMEZONE
BEGIN:VEVENT
DTSTART;TZID=Europe/Brussels:20260208T110000
DTEND;TZID=Europe/Brussels:20260208T114500
DTSTAMP:20260425T123817
CREATED:20251222T110542Z
LAST-MODIFIED:20260304T000011Z
UID:103599-1770548400-1770551100@plaza-mons.be
SUMMARY:La Princesse et le rossignol
DESCRIPTION:Super Charlie\n\n\n\n\n\n			\n				Bande annonce\n			\n		 \n\n\n\n\n\n\n\n\n\n\n\n\n\n\n\n\n\n\n\n\n\n\n\n\n\n\n\n\n\n\n\n\n\n\n\n\n\n\n\n\n\n\n\n\n\n\n\n\n\n\n\n\n\nBande annonce
URL:https://plaza-mons.be/film/la-princesse-et-le-rossignol-2/2026-02-08
ATTACH;FMTTYPE=image/jpeg:https://plaza-mons.be/wp-content/uploads/2025/12/la-princesse-et-le-rossignol-poster-2.jpg
END:VEVENT
BEGIN:VEVENT
DTSTART;TZID=Europe/Brussels:20260208T110000
DTEND;TZID=Europe/Brussels:20260208T115200
DTSTAMP:20260425T123817
CREATED:20260127T151748Z
LAST-MODIFIED:20260301T000037Z
UID:103683-1770548400-1770551520@plaza-mons.be
SUMMARY:Jack & Nancy\, les plus belles histoires de Quentin Blake
DESCRIPTION:Super Charlie\n\n\n\n\n\n			\n				Bande annonce\n			\n		 \n\n\n\n\n\n\n\n\n\n\n\n\n\n\n\n\n\n\n\n\n\n\n\n\n\n\n\n\n\n\n\n\n\n\n\n\n\n\n\n\n\n\n\n\n\n\n\n\n\n\n\n\n\nBande annonce
URL:https://plaza-mons.be/film/jack-nancy-les-plus-belles-histoires-de-quentin-blake/2026-02-08
ATTACH;FMTTYPE=image/webp:https://plaza-mons.be/wp-content/uploads/2026/01/jack-nancy-les-plus-belles-histoires-de-quentin-blake.webp
END:VEVENT
BEGIN:VEVENT
DTSTART;TZID=Europe/Brussels:20260208T110000
DTEND;TZID=Europe/Brussels:20260208T123300
DTSTAMP:20260425T123817
CREATED:20260127T152216Z
LAST-MODIFIED:20260425T000038Z
UID:103723-1770548400-1770553980@plaza-mons.be
SUMMARY:Le chant des forêts
DESCRIPTION:Super Charlie\n\n\n\n\n\n			\n				Bande annonce\n			\n		 \n\n\n\n\n\n\n\n\n\n\n\n\n\n\n\n\n\n\n\n\n\n\n\n\n\n\n\n\n\n\n\n\n\n\n\n\n\n\n\n\n\n\n\n\n\n\n\n\n\n\n\n\n\nBande annonce
URL:https://plaza-mons.be/film/le-chant-des-forets/2026-02-08
ATTACH;FMTTYPE=image/jpeg:https://plaza-mons.be/wp-content/uploads/2026/01/lechantdesforets-cineart-70x100-fr-original.jpg
END:VEVENT
BEGIN:VEVENT
DTSTART;TZID=Europe/Brussels:20260208T133000
DTEND;TZID=Europe/Brussels:20260208T150400
DTSTAMP:20260425T123817
CREATED:20251222T110911Z
LAST-MODIFIED:20260217T000029Z
UID:103648-1770557400-1770563040@plaza-mons.be
SUMMARY:Baise-en-ville
DESCRIPTION:Super Charlie\n\n\n\n\n\n			\n				Bande annonce\n			\n		 \n\n\n\n\n\n\n\n\n\n\n\n\n\n\n\n\n\n\n\n\n\n\n\n\n\n\n\n\n\n\n\n\n\n\n\n\n\n\n\n\n\n\n\n\n\n\n\n\n\n\n\n\n\nBande annonce
URL:https://plaza-mons.be/film/baise-en-ville/2026-02-08
ATTACH;FMTTYPE=image/jpeg:https://plaza-mons.be/wp-content/uploads/2025/12/baise-en-ville-poster.jpg
END:VEVENT
BEGIN:VEVENT
DTSTART;TZID=Europe/Brussels:20260208T133000
DTEND;TZID=Europe/Brussels:20260208T152200
DTSTAMP:20260425T123817
CREATED:20251222T104301Z
LAST-MODIFIED:20260210T000039Z
UID:103414-1770557400-1770564120@plaza-mons.be
SUMMARY:Ma frère
DESCRIPTION:Super Charlie\n\n\n\n\n\n			\n				Bande annonce\n			\n		 \n\n\n\n\n\n\n\n\n\n\n\n\n\n\n\n\n\n\n\n\n\n\n\n\n\n\n\n\n\n\n\n\n\n\n\n\n\n\n\n\n\n\n\n\n\n\n\n\n\n\n\n\n\nBande annonce
URL:https://plaza-mons.be/film/ma-frere-2/2026-02-08
ATTACH;FMTTYPE=image/jpeg:https://plaza-mons.be/wp-content/uploads/2025/12/ma-frere-poster.jpg
END:VEVENT
BEGIN:VEVENT
DTSTART;TZID=Europe/Brussels:20260208T133000
DTEND;TZID=Europe/Brussels:20260208T153500
DTSTAMP:20260425T123817
CREATED:20251222T105731Z
LAST-MODIFIED:20260330T000316Z
UID:103527-1770557400-1770564900@plaza-mons.be
SUMMARY:Hamnet
DESCRIPTION:Super Charlie\n\n\n\n\n\n			\n				Bande annonce\n			\n		 \n\n\n\n\n\n\n\n\n\n\n\n\n\n\n\n\n\n\n\n\n\n\n\n\n\n\n\n\n\n\n\n\n\n\n\n\n\n\n\n\n\n\n\n\n\n\n\n\n\n\n\n\n\nBande annonce
URL:https://plaza-mons.be/film/hamnet/2026-02-08
ATTACH;FMTTYPE=image/jpeg:https://plaza-mons.be/wp-content/uploads/2025/12/hamnet-poster.jpg
END:VEVENT
BEGIN:VEVENT
DTSTART;TZID=Europe/Brussels:20260208T140000
DTEND;TZID=Europe/Brussels:20260208T145200
DTSTAMP:20260425T123817
CREATED:20260127T151748Z
LAST-MODIFIED:20260301T000037Z
UID:103684-1770559200-1770562320@plaza-mons.be
SUMMARY:Jack & Nancy\, les plus belles histoires de Quentin Blake
DESCRIPTION:Super Charlie\n\n\n\n\n\n			\n				Bande annonce\n			\n		 \n\n\n\n\n\n\n\n\n\n\n\n\n\n\n\n\n\n\n\n\n\n\n\n\n\n\n\n\n\n\n\n\n\n\n\n\n\n\n\n\n\n\n\n\n\n\n\n\n\n\n\n\n\nBande annonce
URL:https://plaza-mons.be/film/jack-nancy-les-plus-belles-histoires-de-quentin-blake/2026-02-08/2
ATTACH;FMTTYPE=image/webp:https://plaza-mons.be/wp-content/uploads/2026/01/jack-nancy-les-plus-belles-histoires-de-quentin-blake.webp
END:VEVENT
BEGIN:VEVENT
DTSTART;TZID=Europe/Brussels:20260208T153000
DTEND;TZID=Europe/Brussels:20260208T153000
DTSTAMP:20260425T123817
CREATED:20260127T152144Z
LAST-MODIFIED:20260303T000029Z
UID:103692-1770564600-1770564600@plaza-mons.be
SUMMARY:Twin Peaks: Fire Walk with Me
DESCRIPTION:Twin Peaks – Fire Walk With Me (1992) | Pers: Sheryl Lee\, Kyle Maclachlan\, David Lynch\, Kyle Maclachlan | Dir: David Lynch | Ref: TWI023AA | Photo Credit: [ The Kobal Collection / Lynch-Frost/Ciby 2000 ] | Editorial use only related to cinema\, television and personalities. Not for cover use\, advertising or fictional works without specific prior agreement\n\n\n\nSuper Charlie
URL:https://plaza-mons.be/film/twin-peaks-fire-walk-with-me/2026-02-08
ATTACH;FMTTYPE=image/jpeg:https://plaza-mons.be/wp-content/uploads/2026/01/twin-peaks-fire-walk-with-me.jpg
END:VEVENT
BEGIN:VEVENT
DTSTART;TZID=Europe/Brussels:20260208T153000
DTEND;TZID=Europe/Brussels:20260208T173300
DTSTAMP:20260425T123817
CREATED:20251222T110019Z
LAST-MODIFIED:20260217T000022Z
UID:103320-1770564600-1770571980@plaza-mons.be
SUMMARY:L’affaire Bojarski
DESCRIPTION:Super Charlie\n\n\n\n\n\n			\n				Bande annonce\n			\n		 \n\n\n\n\n\n\n\n\n\n\n\n\n\n\n\n\n\n\n\n\n\n\n\n\n\n\n\n\n\n\n\n\n\n\n\n\n\n\n\n\n\n\n\n\n\n\n\n\n\n\n\n\n\nBande annonce
URL:https://plaza-mons.be/film/laffaire-bojarski/2026-02-08
ATTACH;FMTTYPE=image/jpeg:https://plaza-mons.be/wp-content/uploads/2025/12/laffaire-bojarski-1.jpg
END:VEVENT
BEGIN:VEVENT
DTSTART;TZID=Europe/Brussels:20260208T160000
DTEND;TZID=Europe/Brussels:20260208T164500
DTSTAMP:20260425T123817
CREATED:20251222T110542Z
LAST-MODIFIED:20260304T000011Z
UID:103600-1770566400-1770569100@plaza-mons.be
SUMMARY:La Princesse et le rossignol
DESCRIPTION:Super Charlie\n\n\n\n\n\n			\n				Bande annonce\n			\n		 \n\n\n\n\n\n\n\n\n\n\n\n\n\n\n\n\n\n\n\n\n\n\n\n\n\n\n\n\n\n\n\n\n\n\n\n\n\n\n\n\n\n\n\n\n\n\n\n\n\n\n\n\n\nBande annonce
URL:https://plaza-mons.be/film/la-princesse-et-le-rossignol-2/2026-02-08/2
ATTACH;FMTTYPE=image/jpeg:https://plaza-mons.be/wp-content/uploads/2025/12/la-princesse-et-le-rossignol-poster-2.jpg
END:VEVENT
BEGIN:VEVENT
DTSTART;TZID=Europe/Brussels:20260208T160000
DTEND;TZID=Europe/Brussels:20260208T173300
DTSTAMP:20260425T123817
CREATED:20260127T152216Z
LAST-MODIFIED:20260425T000039Z
UID:103724-1770566400-1770571980@plaza-mons.be
SUMMARY:Le chant des forêts
DESCRIPTION:Super Charlie\n\n\n\n\n\n			\n				Bande annonce\n			\n		 \n\n\n\n\n\n\n\n\n\n\n\n\n\n\n\n\n\n\n\n\n\n\n\n\n\n\n\n\n\n\n\n\n\n\n\n\n\n\n\n\n\n\n\n\n\n\n\n\n\n\n\n\n\nBande annonce
URL:https://plaza-mons.be/film/le-chant-des-forets/2026-02-08/2
ATTACH;FMTTYPE=image/jpeg:https://plaza-mons.be/wp-content/uploads/2026/01/lechantdesforets-cineart-70x100-fr-original.jpg
END:VEVENT
BEGIN:VEVENT
DTSTART;TZID=Europe/Brussels:20260208T173000
DTEND;TZID=Europe/Brussels:20260208T195600
DTSTAMP:20260425T123817
CREATED:20251222T105523Z
LAST-MODIFIED:20260209T000023Z
UID:103474-1770571800-1770580560@plaza-mons.be
SUMMARY:Sound of Falling
DESCRIPTION:Super Charlie\n\n\n\n\n\n			\n				Bande annonce\n			\n		 \n\n\n\n\n\n\n\n\n\n\n\n\n\n\n\n\n\n\n\n\n\n\n\n\n\n\n\n\n\n\n\n\n\n\n\n\n\n\n\n\n\n\n\n\n\n\n\n\n\n\n\n\n\nBande annonce
URL:https://plaza-mons.be/film/sound-of-falling/2026-02-08
ATTACH;FMTTYPE=image/jpeg:https://plaza-mons.be/wp-content/uploads/2025/12/sound-of-falling-poster-1.jpg
END:VEVENT
BEGIN:VEVENT
DTSTART;TZID=Europe/Brussels:20260208T180000
DTEND;TZID=Europe/Brussels:20260208T194600
DTSTAMP:20260425T123817
CREATED:20251222T105013Z
LAST-MODIFIED:20260305T000131Z
UID:103447-1770573600-1770579960@plaza-mons.be
SUMMARY:Vie privée
DESCRIPTION:Super Charlie\n\n\n\n\n\n			\n				Bande annonce\n			\n		 \n\n\n\n\n\n\n\n\n\n\n\n\n\n\n\n\n\n\n\n\n\n\n\n\n\n\n\n\n\n\n\n\n\n\n\n\n\n\n\n\n\n\n\n\n\n\n\n\n\n\n\n\n\nBande annonce
URL:https://plaza-mons.be/film/vie-privee/2026-02-08
ATTACH;FMTTYPE=image/jpeg:https://plaza-mons.be/wp-content/uploads/2025/12/vie-privee-poster-def-be-original.jpg
END:VEVENT
BEGIN:VEVENT
DTSTART;TZID=Europe/Brussels:20260208T181500
DTEND;TZID=Europe/Brussels:20260208T195000
DTSTAMP:20260425T123817
CREATED:20260127T151844Z
LAST-MODIFIED:20260224T000148Z
UID:103696-1770574500-1770580200@plaza-mons.be
SUMMARY:L'enfant bélier
DESCRIPTION:Super Charlie\n\n\n\n\n\n			\n				Bande annonce\n			\n		 \n\n\n\n\n\n\n\n\n\n\n\n\n\n\n\n\n\n\n\n\n\n\n\n\n\n\n\n\n\n\n\n\n\n\n\n\n\n\n\n\n\n\n\n\n\n\n\n\n\n\n\n\n\nBande annonce
URL:https://plaza-mons.be/film/lenfant-belier/2026-02-08
ATTACH;FMTTYPE=image/jpeg:https://plaza-mons.be/wp-content/uploads/2026/01/lenfant-belier-affiche-a2-original.jpg
END:VEVENT
BEGIN:VEVENT
DTSTART;TZID=Europe/Brussels:20260208T181500
DTEND;TZID=Europe/Brussels:20260208T195200
DTSTAMP:20260425T123817
CREATED:20251222T133016Z
LAST-MODIFIED:20260216T000038Z
UID:103662-1770574500-1770580320@plaza-mons.be
SUMMARY:El Jockey
DESCRIPTION:Super Charlie\n\n\n\n\n\n			\n				Bande annonce\n			\n		 \n\n\n\n\n\n\n\n\n\n\n\n\n\n\n\n\n\n\n\n\n\n\n\n\n\n\n\n\n\n\n\n\n\n\n\n\n\n\n\n\n\n\n\n\n\n\n\n\n\n\n\n\n\nBande annonce
URL:https://plaza-mons.be/film/el-jockey/2026-02-08
ATTACH;FMTTYPE=image/jpeg:https://plaza-mons.be/wp-content/uploads/2025/12/el-jockey-poster.jpg
END:VEVENT
BEGIN:VEVENT
DTSTART;TZID=Europe/Brussels:20260208T203000
DTEND;TZID=Europe/Brussels:20260208T203000
DTSTAMP:20260425T123817
CREATED:20260127T152104Z
LAST-MODIFIED:20260303T000058Z
UID:103710-1770582600-1770582600@plaza-mons.be
SUMMARY:28 Years Later : The Bone Temple
DESCRIPTION:Super Charlie\n\n\n\n\n\n			\n				Bande annonce\n			\n		 \n\n\n\n\n\n\n\n\n\n\n\n\n\n\n\n\n\n\n\n\n\n\n\n\n\n\n\n\n\n\n\n\n\n\n\n\n\n\n\n\n\n\n\n\n\n\n\n\n\n\n\n\n\nBande annonce
URL:https://plaza-mons.be/film/28-years-later-the-bone-temple/2026-02-08
ATTACH;FMTTYPE=image/jpeg:https://plaza-mons.be/wp-content/uploads/2026/01/28yearslater-fr-original.jpg
END:VEVENT
BEGIN:VEVENT
DTSTART;TZID=Europe/Brussels:20260208T203000
DTEND;TZID=Europe/Brussels:20260208T220400
DTSTAMP:20260425T123817
CREATED:20251222T110911Z
LAST-MODIFIED:20260217T000029Z
UID:103649-1770582600-1770588240@plaza-mons.be
SUMMARY:Baise-en-ville
DESCRIPTION:Super Charlie\n\n\n\n\n\n			\n				Bande annonce\n			\n		 \n\n\n\n\n\n\n\n\n\n\n\n\n\n\n\n\n\n\n\n\n\n\n\n\n\n\n\n\n\n\n\n\n\n\n\n\n\n\n\n\n\n\n\n\n\n\n\n\n\n\n\n\n\nBande annonce
URL:https://plaza-mons.be/film/baise-en-ville/2026-02-08/2
ATTACH;FMTTYPE=image/jpeg:https://plaza-mons.be/wp-content/uploads/2025/12/baise-en-ville-poster.jpg
END:VEVENT
BEGIN:VEVENT
DTSTART;TZID=Europe/Brussels:20260208T203000
DTEND;TZID=Europe/Brussels:20260208T223500
DTSTAMP:20260425T123817
CREATED:20251222T105731Z
LAST-MODIFIED:20260330T000317Z
UID:103528-1770582600-1770590100@plaza-mons.be
SUMMARY:Hamnet
DESCRIPTION:Super Charlie\n\n\n\n\n\n			\n				Bande annonce\n			\n		 \n\n\n\n\n\n\n\n\n\n\n\n\n\n\n\n\n\n\n\n\n\n\n\n\n\n\n\n\n\n\n\n\n\n\n\n\n\n\n\n\n\n\n\n\n\n\n\n\n\n\n\n\n\nBande annonce
URL:https://plaza-mons.be/film/hamnet/2026-02-08/3
ATTACH;FMTTYPE=image/jpeg:https://plaza-mons.be/wp-content/uploads/2025/12/hamnet-poster.jpg
END:VEVENT
BEGIN:VEVENT
DTSTART;TZID=Europe/Brussels:20260208T203000
DTEND;TZID=Europe/Brussels:20260208T224100
DTSTAMP:20260425T123817
CREATED:20251222T133139Z
LAST-MODIFIED:20260223T000151Z
UID:103675-1770582600-1770590460@plaza-mons.be
SUMMARY:La Grazia
DESCRIPTION:Super Charlie\n\n\n\n\n\n			\n				Bande annonce\n			\n		 \n\n\n\n\n\n\n\n\n\n\n\n\n\n\n\n\n\n\n\n\n\n\n\n\n\n\n\n\n\n\n\n\n\n\n\n\n\n\n\n\n\n\n\n\n\n\n\n\n\n\n\n\n\nBande annonce
URL:https://plaza-mons.be/film/la-grazia/2026-02-08
ATTACH;FMTTYPE=image/jpeg:https://plaza-mons.be/wp-content/uploads/2025/12/la-grazia-poster.jpg
END:VEVENT
END:VCALENDAR