BEGIN:VCALENDAR
VERSION:2.0
PRODID:-//Plaza Arthouse Cinema - ECPv5.14.1//NONSGML v1.0//EN
CALSCALE:GREGORIAN
METHOD:PUBLISH
X-WR-CALNAME:Plaza Arthouse Cinema
X-ORIGINAL-URL:https://plaza-mons.be
X-WR-CALDESC:Events for Plaza Arthouse Cinema
REFRESH-INTERVAL;VALUE=DURATION:PT1H
X-Robots-Tag:noindex
X-PUBLISHED-TTL:PT1H
BEGIN:VTIMEZONE
TZID:Europe/Brussels
BEGIN:DAYLIGHT
TZOFFSETFROM:+0100
TZOFFSETTO:+0200
TZNAME:CEST
DTSTART:20260329T010000
END:DAYLIGHT
BEGIN:STANDARD
TZOFFSETFROM:+0200
TZOFFSETTO:+0100
TZNAME:CET
DTSTART:20261025T010000
END:STANDARD
END:VTIMEZONE
BEGIN:VEVENT
DTSTART;TZID=Europe/Brussels:20260124T143000
DTEND;TZID=Europe/Brussels:20260124T160300
DTSTAMP:20260422T071317
CREATED:20251222T103711Z
LAST-MODIFIED:20260201T000007Z
UID:101943-1769265000-1769270580@plaza-mons.be
SUMMARY:Diplodocus
DESCRIPTION:Super Charlie\n\n\n\n\n\n			\n				Bande annonce\n			\n		 \n\n\n\n\n\n\n\n\n\n\n\n\n\n\n\n\n\n\n\n\n\n\n\n\n\n\n\n\n\n\n\n\n\n\n\n\n\n\n\n\n\n\n\n\n\n\n\n\n\n\n\n\n\nBande annonce\n\n\n\n\n\n\n\nhttps://www.youtube.com/watch?v=A-Uaf-Mn5-8
URL:https://plaza-mons.be/film/diplodocus/2026-01-24
ATTACH;FMTTYPE=image/jpeg:https://plaza-mons.be/wp-content/uploads/2025/12/diplodocus-poster.jpg
END:VEVENT
BEGIN:VEVENT
DTSTART;TZID=Europe/Brussels:20260124T150000
DTEND;TZID=Europe/Brussels:20260124T161700
DTSTAMP:20260422T071317
CREATED:20251204T100201Z
LAST-MODIFIED:20260201T000042Z
UID:101854-1769266800-1769271420@plaza-mons.be
SUMMARY:Le secret des mésanges
DESCRIPTION:Super Charlie\n\n\n\n\n\n			\n				Bande annonce\n			\n		 \n\n\n\n\n\n\n\n\n\n\n\n\n\n\n\n\n\n\n\n\n\n\n\n\n\n\n\n\n\n\n\n\n\n\n\n\n\n\n\n\n\n\n\n\n\n\n\n\n\n\n\n\n\nBande annonce
URL:https://plaza-mons.be/film/le-secret-des-mesanges/2026-01-24
ATTACH;FMTTYPE=image/jpeg:https://plaza-mons.be/wp-content/uploads/2025/12/le-secret-des-mesanges-poster.jpg
END:VEVENT
BEGIN:VEVENT
DTSTART;TZID=Europe/Brussels:20260124T150000
DTEND;TZID=Europe/Brussels:20260124T165200
DTSTAMP:20260422T071317
CREATED:20251222T104301Z
LAST-MODIFIED:20260210T000038Z
UID:101996-1769266800-1769273520@plaza-mons.be
SUMMARY:Ma frère
DESCRIPTION:Super Charlie\n\n\n\n\n\n			\n				Bande annonce\n			\n		 \n\n\n\n\n\n\n\n\n\n\n\n\n\n\n\n\n\n\n\n\n\n\n\n\n\n\n\n\n\n\n\n\n\n\n\n\n\n\n\n\n\n\n\n\n\n\n\n\n\n\n\n\n\nBande annonce
URL:https://plaza-mons.be/film/ma-frere-2/2026-01-24
ATTACH;FMTTYPE=image/jpeg:https://plaza-mons.be/wp-content/uploads/2025/12/ma-frere-poster.jpg
END:VEVENT
BEGIN:VEVENT
DTSTART;TZID=Europe/Brussels:20260124T150000
DTEND;TZID=Europe/Brussels:20260124T170800
DTSTAMP:20260422T071317
CREATED:20251222T104553Z
LAST-MODIFIED:20260201T000109Z
UID:102014-1769266800-1769274480@plaza-mons.be
SUMMARY:The Chronology  of Water
DESCRIPTION:Super Charlie\n\n\n\n\n\n			\n				Bande annonce\n			\n		 \n\n\n\n\n\n\n\n\n\n\n\n\n\n\n\n\n\n\n\n\n\n\n\n\n\n\n\n\n\n\n\n\n\n\n\n\n\n\n\n\n\n\n\n\n\n\n\n\n\n\n\n\n\nBande annonce
URL:https://plaza-mons.be/film/the-chronology-of-water/2026-01-24
ATTACH;FMTTYPE=image/png:https://plaza-mons.be/wp-content/uploads/2025/12/the-chronology-of-water-poster-visu-provisoire.png
END:VEVENT
BEGIN:VEVENT
DTSTART;TZID=Europe/Brussels:20260124T170000
DTEND;TZID=Europe/Brussels:20260124T170000
DTSTAMP:20260422T071317
CREATED:20251204T101705Z
LAST-MODIFIED:20260127T000011Z
UID:101837-1769274000-1769274000@plaza-mons.be
SUMMARY:The Secret Agent (O Agente Secreto)
DESCRIPTION:Super Charlie\n\n\n\n\n\n			\n				Bande annonce\n			\n		 \n\n\n\n\n\n\n\n\n\n\n\n\n\n\n\n\n\n\n\n\n\n\n\n\n\n\n\n\n\n\n\n\n\n\n\n\n\n\n\n\n\n\n\n\n\n\n\n\n\n\n\n\n\nBande annonce
URL:https://plaza-mons.be/film/the-secret-agent/2026-01-24
ATTACH;FMTTYPE=image/jpeg:https://plaza-mons.be/wp-content/uploads/2025/12/the-secret-agent-web-normal.jpg
END:VEVENT
BEGIN:VEVENT
DTSTART;TZID=Europe/Brussels:20260124T180000
DTEND;TZID=Europe/Brussels:20260124T194500
DTSTAMP:20260422T071317
CREATED:20251204T102406Z
LAST-MODIFIED:20260127T000101Z
UID:101877-1769277600-1769283900@plaza-mons.be
SUMMARY:Muganga\, celui qui soigne
DESCRIPTION:Super Charlie\n\n\n\n\n\n			\n				Bande annonce\n			\n		 \n\n\n\n\n\n\n\n\n\n\n\n\n\n\n\n\n\n\n\n\n\n\n\n\n\n\n\n\n\n\n\n\n\n\n\n\n\n\n\n\n\n\n\n\n\n\n\n\n\n\n\n\n\nBande annonce
URL:https://plaza-mons.be/film/muganga-celui-qui-soigne/2026-01-24
ATTACH;FMTTYPE=image/png:https://plaza-mons.be/wp-content/uploads/2025/12/muganga-poster.png
END:VEVENT
BEGIN:VEVENT
DTSTART;TZID=Europe/Brussels:20260124T180000
DTEND;TZID=Europe/Brussels:20260124T194600
DTSTAMP:20260422T071317
CREATED:20251222T105013Z
LAST-MODIFIED:20260305T000125Z
UID:102032-1769277600-1769283960@plaza-mons.be
SUMMARY:Vie privée
DESCRIPTION:Super Charlie\n\n\n\n\n\n			\n				Bande annonce\n			\n		 \n\n\n\n\n\n\n\n\n\n\n\n\n\n\n\n\n\n\n\n\n\n\n\n\n\n\n\n\n\n\n\n\n\n\n\n\n\n\n\n\n\n\n\n\n\n\n\n\n\n\n\n\n\nBande annonce
URL:https://plaza-mons.be/film/vie-privee/2026-01-24
ATTACH;FMTTYPE=image/jpeg:https://plaza-mons.be/wp-content/uploads/2025/12/vie-privee-poster-def-be-original.jpg
END:VEVENT
BEGIN:VEVENT
DTSTART;TZID=Europe/Brussels:20260124T180000
DTEND;TZID=Europe/Brussels:20260124T195000
DTSTAMP:20260422T071317
CREATED:20251222T104125Z
LAST-MODIFIED:20260203T003258Z
UID:101968-1769277600-1769284200@plaza-mons.be
SUMMARY:Father Mother Sister Brother
DESCRIPTION:Super Charlie\n\n\n\n\n\n			\n				Bande annonce\n			\n		 \n\n\n\n\n\n\n\n\n\n\n\n\n\n\n\n\n\n\n\n\n\n\n\n\n\n\n\n\n\n\n\n\n\n\n\n\n\n\n\n\n\n\n\n\n\n\n\n\n\n\n\n\n\nBande annonce
URL:https://plaza-mons.be/film/father-mother-sister-brother/2026-01-24
ATTACH;FMTTYPE=image/webp:https://plaza-mons.be/wp-content/uploads/2025/12/father-mother-sister-brother-poster.webp
END:VEVENT
BEGIN:VEVENT
DTSTART;TZID=Europe/Brussels:20260124T201500
DTEND;TZID=Europe/Brussels:20260124T224100
DTSTAMP:20260422T071317
CREATED:20251222T105523Z
LAST-MODIFIED:20260209T000022Z
UID:102071-1769285700-1769294460@plaza-mons.be
SUMMARY:Sound of Falling
DESCRIPTION:Super Charlie\n\n\n\n\n\n			\n				Bande annonce\n			\n		 \n\n\n\n\n\n\n\n\n\n\n\n\n\n\n\n\n\n\n\n\n\n\n\n\n\n\n\n\n\n\n\n\n\n\n\n\n\n\n\n\n\n\n\n\n\n\n\n\n\n\n\n\n\nBande annonce
URL:https://plaza-mons.be/film/sound-of-falling/2026-01-24
ATTACH;FMTTYPE=image/jpeg:https://plaza-mons.be/wp-content/uploads/2025/12/sound-of-falling-poster-1.jpg
END:VEVENT
BEGIN:VEVENT
DTSTART;TZID=Europe/Brussels:20260124T203000
DTEND;TZID=Europe/Brussels:20260124T221000
DTSTAMP:20260422T071317
CREATED:20251222T105127Z
LAST-MODIFIED:20260210T000009Z
UID:102054-1769286600-1769292600@plaza-mons.be
SUMMARY:Blue Moon
DESCRIPTION:Super Charlie\n\n\n\n\n\n			\n				Bande annonce\n			\n		 \n\n\n\n\n\n\n\n\n\n\n\n\n\n\n\n\n\n\n\n\n\n\n\n\n\n\n\n\n\n\n\n\n\n\n\n\n\n\n\n\n\n\n\n\n\n\n\n\n\n\n\n\n\nBande annonce
URL:https://plaza-mons.be/film/blue-moon/2026-01-24
ATTACH;FMTTYPE=image/jpeg:https://plaza-mons.be/wp-content/uploads/2025/12/blue-moon-poster.jpg
END:VEVENT
BEGIN:VEVENT
DTSTART;TZID=Europe/Brussels:20260124T203000
DTEND;TZID=Europe/Brussels:20260124T223300
DTSTAMP:20260422T071317
CREATED:20251222T110019Z
LAST-MODIFIED:20260217T000018Z
UID:102103-1769286600-1769293980@plaza-mons.be
SUMMARY:L’affaire Bojarski
DESCRIPTION:Super Charlie\n\n\n\n\n\n			\n				Bande annonce\n			\n		 \n\n\n\n\n\n\n\n\n\n\n\n\n\n\n\n\n\n\n\n\n\n\n\n\n\n\n\n\n\n\n\n\n\n\n\n\n\n\n\n\n\n\n\n\n\n\n\n\n\n\n\n\n\nBande annonce
URL:https://plaza-mons.be/film/laffaire-bojarski/2026-01-24
ATTACH;FMTTYPE=image/jpeg:https://plaza-mons.be/wp-content/uploads/2025/12/laffaire-bojarski-1.jpg
END:VEVENT
BEGIN:VEVENT
DTSTART;TZID=Europe/Brussels:20260124T203000
DTEND;TZID=Europe/Brussels:20260124T223500
DTSTAMP:20260422T071317
CREATED:20251222T105731Z
LAST-MODIFIED:20260330T000312Z
UID:102085-1769286600-1769294100@plaza-mons.be
SUMMARY:Hamnet
DESCRIPTION:Super Charlie\n\n\n\n\n\n			\n				Bande annonce\n			\n		 \n\n\n\n\n\n\n\n\n\n\n\n\n\n\n\n\n\n\n\n\n\n\n\n\n\n\n\n\n\n\n\n\n\n\n\n\n\n\n\n\n\n\n\n\n\n\n\n\n\n\n\n\n\nBande annonce
URL:https://plaza-mons.be/film/hamnet/2026-01-24
ATTACH;FMTTYPE=image/jpeg:https://plaza-mons.be/wp-content/uploads/2025/12/hamnet-poster.jpg
END:VEVENT
END:VCALENDAR