BEGIN:VCALENDAR
VERSION:2.0
PRODID:-//Plaza Arthouse Cinema - ECPv5.14.1//NONSGML v1.0//EN
CALSCALE:GREGORIAN
METHOD:PUBLISH
X-WR-CALNAME:Plaza Arthouse Cinema
X-ORIGINAL-URL:https://plaza-mons.be
X-WR-CALDESC:Events for Plaza Arthouse Cinema
REFRESH-INTERVAL;VALUE=DURATION:PT1H
X-Robots-Tag:noindex
X-PUBLISHED-TTL:PT1H
BEGIN:VTIMEZONE
TZID:Europe/Brussels
BEGIN:DAYLIGHT
TZOFFSETFROM:+0100
TZOFFSETTO:+0200
TZNAME:CEST
DTSTART:20260329T010000
END:DAYLIGHT
BEGIN:STANDARD
TZOFFSETFROM:+0200
TZOFFSETTO:+0100
TZNAME:CET
DTSTART:20261025T010000
END:STANDARD
END:VTIMEZONE
BEGIN:VEVENT
DTSTART;TZID=Europe/Brussels:20260109T150000
DTEND;TZID=Europe/Brussels:20260109T164500
DTSTAMP:20260422T092627
CREATED:20251222T103028Z
LAST-MODIFIED:20260125T000006Z
UID:101741-1767970800-1767977100@plaza-mons.be
SUMMARY:Folktales
DESCRIPTION:Super Charlie\n\n\n\n\n\n			\n				Bande annonce\n			\n		 \n\n\n\n\n\n\n\n\n\n\n\n\n\n\n\n\n\n\n\n\n\n\n\n\n\n\n\n\n\n\n\n\n\n\n\n\n\n\n\n\n\n\n\n\n\n\n\n\n\n\n\n\n\nBande annonce
URL:https://plaza-mons.be/film/folktales/2026-01-09
ATTACH;FMTTYPE=image/jpeg:https://plaza-mons.be/wp-content/uploads/2025/12/folktales-poster.jpg
END:VEVENT
BEGIN:VEVENT
DTSTART;TZID=Europe/Brussels:20260109T150000
DTEND;TZID=Europe/Brussels:20260109T164800
DTSTAMP:20260422T092627
CREATED:20251222T103956Z
LAST-MODIFIED:20260127T000014Z
UID:101602-1767970800-1767977280@plaza-mons.be
SUMMARY:Louise
DESCRIPTION:Super Charlie\n\n\n\n\n\n			\n				Bande annonce\n			\n		 \n\n\n\n\n\n\n\n\n\n\n\n\n\n\n\n\n\n\n\n\n\n\n\n\n\n\n\n\n\n\n\n\n\n\n\n\n\n\n\n\n\n\n\n\n\n\n\n\n\n\n\n\n\nBande annonce
URL:https://plaza-mons.be/film/louise/2026-01-09
ATTACH;FMTTYPE=image/jpeg:https://plaza-mons.be/wp-content/uploads/2025/12/louise-poster.jpg
END:VEVENT
BEGIN:VEVENT
DTSTART;TZID=Europe/Brussels:20260109T150000
DTEND;TZID=Europe/Brussels:20260109T165000
DTSTAMP:20260422T092627
CREATED:20251204T102556Z
LAST-MODIFIED:20260113T000545Z
UID:101556-1767970800-1767977400@plaza-mons.be
SUMMARY:The Penguin Lessons
DESCRIPTION:Super Charlie\n\n\n\n\n\n			\n				Bande annonce\n			\n		 \n\n\n\n\n\n\n\n\n\n\n\n\n\n\n\n\n\n\n\n\n\n\n\n\n\n\n\n\n\n\n\n\n\n\n\n\n\n\n\n\n\n\n\n\n\n\n\n\n\n\n\n\n\nBande annonce
URL:https://plaza-mons.be/film/the-penguin-lessons/2026-01-09
ATTACH;FMTTYPE=image/jpeg:https://plaza-mons.be/wp-content/uploads/2025/12/the-penguin-lessons-poster.jpg
END:VEVENT
BEGIN:VEVENT
DTSTART;TZID=Europe/Brussels:20260109T153000
DTEND;TZID=Europe/Brussels:20260109T170800
DTSTAMP:20260422T092627
CREATED:20251222T103142Z
LAST-MODIFIED:20260117T000400Z
UID:101752-1767972600-1767978480@plaza-mons.be
SUMMARY:L'Engloutie
DESCRIPTION:Super Charlie\n\n\n\n\n\n			\n				Bande annonce\n			\n		 \n\n\n\n\n\n\n\n\n\n\n\n\n\n\n\n\n\n\n\n\n\n\n\n\n\n\n\n\n\n\n\n\n\n\n\n\n\n\n\n\n\n\n\n\n\n\n\n\n\n\n\n\n\nBande annonce
URL:https://plaza-mons.be/film/lengloutie/2026-01-09
ATTACH;FMTTYPE=image/jpeg:https://plaza-mons.be/wp-content/uploads/2025/12/lengloutie-poster.jpg
END:VEVENT
BEGIN:VEVENT
DTSTART;TZID=Europe/Brussels:20260109T173000
DTEND;TZID=Europe/Brussels:20260109T173000
DTSTAMP:20260422T092627
CREATED:20251204T101705Z
LAST-MODIFIED:20260127T000011Z
UID:101650-1767979800-1767979800@plaza-mons.be
SUMMARY:The Secret Agent (O Agente Secreto)
DESCRIPTION:Super Charlie\n\n\n\n\n\n			\n				Bande annonce\n			\n		 \n\n\n\n\n\n\n\n\n\n\n\n\n\n\n\n\n\n\n\n\n\n\n\n\n\n\n\n\n\n\n\n\n\n\n\n\n\n\n\n\n\n\n\n\n\n\n\n\n\n\n\n\n\nBande annonce
URL:https://plaza-mons.be/film/the-secret-agent/2026-01-09
ATTACH;FMTTYPE=image/jpeg:https://plaza-mons.be/wp-content/uploads/2025/12/the-secret-agent-web-normal.jpg
END:VEVENT
BEGIN:VEVENT
DTSTART;TZID=Europe/Brussels:20260109T173000
DTEND;TZID=Europe/Brussels:20260109T193000
DTSTAMP:20260422T092627
CREATED:20251222T103258Z
LAST-MODIFIED:20260120T000338Z
UID:101766-1767979800-1767987000@plaza-mons.be
SUMMARY:Radioman
DESCRIPTION:Super Charlie\n\n\n\n\n\n			\n				Bande annonce\n			\n		 \n\n\n\n\n\n\n\n\n\n\n\n\n\n\n\n\n\n\n\n\n\n\n\n\n\n\n\n\n\n\n\n\n\n\n\n\n\n\n\n\n\n\n\n\n\n\n\n\n\n\n\n\n\nBande annonce
URL:https://plaza-mons.be/film/radioman/2026-01-09
ATTACH;FMTTYPE=image/jpeg:https://plaza-mons.be/wp-content/uploads/2025/12/radioman-poster.jpg
END:VEVENT
BEGIN:VEVENT
DTSTART;TZID=Europe/Brussels:20260109T174500
DTEND;TZID=Europe/Brussels:20260109T174500
DTSTAMP:20260422T092627
CREATED:20251204T103048Z
LAST-MODIFIED:20260120T000349Z
UID:101543-1767980700-1767980700@plaza-mons.be
SUMMARY:Song Sung Blue  (Sur un air de Blues)
DESCRIPTION:Super Charlie\n\n\n\n\n\n			\n				Bande annonce\n			\n		 \n\n\n\n\n\n\n\n\n\n\n\n\n\n\n\n\n\n\n\n\n\n\n\n\n\n\n\n\n\n\n\n\n\n\n\n\n\n\n\n\n\n\n\n\n\n\n\n\n\n\n\n\n\nBande annonce
URL:https://plaza-mons.be/film/song-sung-blue/2026-01-09
ATTACH;FMTTYPE=image/jpeg:https://plaza-mons.be/wp-content/uploads/2025/12/songsungblue-digitalpayoff-nl-original.jpg
END:VEVENT
BEGIN:VEVENT
DTSTART;TZID=Europe/Brussels:20260109T174500
DTEND;TZID=Europe/Brussels:20260109T195300
DTSTAMP:20260422T092627
CREATED:20251222T133742Z
LAST-MODIFIED:20260113T000606Z
UID:101798-1767980700-1767988380@plaza-mons.be
SUMMARY:The Chronology of Water
DESCRIPTION:Super Charlie\n\n\n\n\n\n			\n				Bande annonce\n			\n		 \n\n\n\n\n\n\n\n\n\n\n\n\n\n\n\n\n\n\n\n\n\n\n\n\n\n\n\n\n\n\n\n\n\n\n\n\n\n\n\n\n\n\n\n\n\n\n\n\n\n\n\n\n\nBande annonce
URL:https://plaza-mons.be/film/the-chronology-of-water-18/2026-01-09
CATEGORIES:Nouveauté
ATTACH;FMTTYPE=image/jpeg:https://plaza-mons.be/wp-content/uploads/2025/12/affiche-be-normal.jpg
END:VEVENT
BEGIN:VEVENT
DTSTART;TZID=Europe/Brussels:20260109T200000
DTEND;TZID=Europe/Brussels:20260109T224000
DTSTAMP:20260422T092627
CREATED:20251203T134805Z
LAST-MODIFIED:20260120T000020Z
UID:101628-1767988800-1767998400@plaza-mons.be
SUMMARY:Resurrection
DESCRIPTION:Super Charlie\n\n\n\n\n\n			\n				Bande annonce\n			\n		 \n\n\n\n\n\n\n\n\n\n\n\n\n\n\n\n\n\n\n\n\n\n\n\n\n\n\n\n\n\n\n\n\n\n\n\n\n\n\n\n\n\n\n\n\n\n\n\n\n\n\n\n\n\nBande annonce
URL:https://plaza-mons.be/film/resurrection/2026-01-09
ATTACH;FMTTYPE=image/jpeg:https://plaza-mons.be/wp-content/uploads/2025/12/resurrection-2.jpeg
END:VEVENT
BEGIN:VEVENT
DTSTART;TZID=Europe/Brussels:20260109T203000
DTEND;TZID=Europe/Brussels:20260109T203000
DTSTAMP:20260422T092627
CREATED:20251204T101921Z
LAST-MODIFIED:20260113T000626Z
UID:101699-1767990600-1767990600@plaza-mons.be
SUMMARY:The Running Man
DESCRIPTION:Super Charlie\n\n\n\n\n\n			\n				Bande annonce\n			\n		 \n\n\n\n\n\n\n\n\n\n\n\n\n\n\n\n\n\n\n\n\n\n\n\n\n\n\n\n\n\n\n\n\n\n\n\n\n\n\n\n\n\n\n\n\n\n\n\n\n\n\n\n\n\nBande annonce
URL:https://plaza-mons.be/film/the-running-man/2026-01-09
ATTACH;FMTTYPE=image/jpeg:https://plaza-mons.be/wp-content/uploads/2025/12/the-running-man-poster-1.jpg
END:VEVENT
BEGIN:VEVENT
DTSTART;TZID=Europe/Brussels:20260109T203000
DTEND;TZID=Europe/Brussels:20260109T221500
DTSTAMP:20260422T092627
CREATED:20251204T102406Z
LAST-MODIFIED:20260127T000100Z
UID:101690-1767990600-1767996900@plaza-mons.be
SUMMARY:Muganga\, celui qui soigne
DESCRIPTION:Super Charlie\n\n\n\n\n\n			\n				Bande annonce\n			\n		 \n\n\n\n\n\n\n\n\n\n\n\n\n\n\n\n\n\n\n\n\n\n\n\n\n\n\n\n\n\n\n\n\n\n\n\n\n\n\n\n\n\n\n\n\n\n\n\n\n\n\n\n\n\nBande annonce
URL:https://plaza-mons.be/film/muganga-celui-qui-soigne/2026-01-09
ATTACH;FMTTYPE=image/png:https://plaza-mons.be/wp-content/uploads/2025/12/muganga-poster.png
END:VEVENT
BEGIN:VEVENT
DTSTART;TZID=Europe/Brussels:20260109T203000
DTEND;TZID=Europe/Brussels:20260109T222000
DTSTAMP:20260422T092627
CREATED:20251222T104125Z
LAST-MODIFIED:20260203T003256Z
UID:101596-1767990600-1767997200@plaza-mons.be
SUMMARY:Father Mother Sister Brother
DESCRIPTION:Super Charlie\n\n\n\n\n\n			\n				Bande annonce\n			\n		 \n\n\n\n\n\n\n\n\n\n\n\n\n\n\n\n\n\n\n\n\n\n\n\n\n\n\n\n\n\n\n\n\n\n\n\n\n\n\n\n\n\n\n\n\n\n\n\n\n\n\n\n\n\nBande annonce
URL:https://plaza-mons.be/film/father-mother-sister-brother/2026-01-09
ATTACH;FMTTYPE=image/webp:https://plaza-mons.be/wp-content/uploads/2025/12/father-mother-sister-brother-poster.webp
END:VEVENT
END:VCALENDAR