BEGIN:VCALENDAR
VERSION:2.0
PRODID:-//Plaza Arthouse Cinema - ECPv5.14.1//NONSGML v1.0//EN
CALSCALE:GREGORIAN
METHOD:PUBLISH
X-WR-CALNAME:Plaza Arthouse Cinema
X-ORIGINAL-URL:https://plaza-mons.be
X-WR-CALDESC:Events for Plaza Arthouse Cinema
REFRESH-INTERVAL;VALUE=DURATION:PT1H
X-Robots-Tag:noindex
X-PUBLISHED-TTL:PT1H
BEGIN:VTIMEZONE
TZID:Europe/Brussels
BEGIN:DAYLIGHT
TZOFFSETFROM:+0100
TZOFFSETTO:+0200
TZNAME:CEST
DTSTART:20260329T010000
END:DAYLIGHT
BEGIN:STANDARD
TZOFFSETFROM:+0200
TZOFFSETTO:+0100
TZNAME:CET
DTSTART:20261025T010000
END:STANDARD
END:VTIMEZONE
BEGIN:VEVENT
DTSTART;TZID=Europe/Brussels:20260102T110000
DTEND;TZID=Europe/Brussels:20260102T114100
DTSTAMP:20260426T014714
CREATED:20251204T102254Z
LAST-MODIFIED:20260104T000005Z
UID:101520-1767351600-1767354060@plaza-mons.be
SUMMARY:La petite fanfare de Noël
DESCRIPTION:Die my Love\n\n\n\n\n\n			\n				Bande annonce\n			\n		 \n\n\n\n\n\n\n\n\n\n\n\n\n\n\n\n\n\n\n\n\n\n\n\n\n\n\n\n\n\n\n\n\n\n\n\n\n\n\n\n\n\n\n\n\n\n\n\n\n\n\n\n\n\nBande annonce
URL:https://plaza-mons.be/film/la-petite-fanfare-de-noel/2026-01-02
CATEGORIES:Nouveauté
ATTACH;FMTTYPE=image/jpeg:https://plaza-mons.be/wp-content/uploads/2025/12/la-petite-fanfare-de-noel-poster.jpg
END:VEVENT
BEGIN:VEVENT
DTSTART;TZID=Europe/Brussels:20260102T110000
DTEND;TZID=Europe/Brussels:20260102T120000
DTSTAMP:20260426T014714
CREATED:20251203T132415Z
LAST-MODIFIED:20260104T000014Z
UID:101523-1767351600-1767355200@plaza-mons.be
SUMMARY:Shaun le mouton :   la vie est une fête !
DESCRIPTION:Die my Love\n\n\n\n\n\n			\n				Bande annonce\n			\n		 \n\n\n\n\n\n\n\n\n\n\n\n\n\n\n\n\n\n\n\n\n\n\n\n\n\n\n\n\n\n\n\n\n\n\n\n\n\n\n\n\n\n\n\n\n\n\n\n\n\n\n\n\n\nBande annonce
URL:https://plaza-mons.be/film/shaun-le-mouton-la-vie-est-une-fete/2026-01-02
ATTACH;FMTTYPE=image/jpeg:https://plaza-mons.be/wp-content/uploads/2025/11/shaun-le-mouton-la-vie-est-une-fete-poster.jpg
END:VEVENT
BEGIN:VEVENT
DTSTART;TZID=Europe/Brussels:20260102T110000
DTEND;TZID=Europe/Brussels:20260102T121700
DTSTAMP:20260426T014714
CREATED:20251204T100201Z
LAST-MODIFIED:20260201T000040Z
UID:101450-1767351600-1767356220@plaza-mons.be
SUMMARY:Le secret des mésanges
DESCRIPTION:Die my Love\n\n\n\n\n\n			\n				Bande annonce\n			\n		 \n\n\n\n\n\n\n\n\n\n\n\n\n\n\n\n\n\n\n\n\n\n\n\n\n\n\n\n\n\n\n\n\n\n\n\n\n\n\n\n\n\n\n\n\n\n\n\n\n\n\n\n\n\nBande annonce
URL:https://plaza-mons.be/film/le-secret-des-mesanges/2026-01-02
ATTACH;FMTTYPE=image/jpeg:https://plaza-mons.be/wp-content/uploads/2025/12/le-secret-des-mesanges-poster.jpg
END:VEVENT
BEGIN:VEVENT
DTSTART;TZID=Europe/Brussels:20260102T110000
DTEND;TZID=Europe/Brussels:20260102T123600
DTSTAMP:20260426T014714
CREATED:20251201T184248Z
LAST-MODIFIED:20260104T000012Z
UID:101476-1767351600-1767357360@plaza-mons.be
SUMMARY:Mission Père Noël
DESCRIPTION:Die my Love\n\n\n\n\n\n			\n				Bande annonce\n			\n		 \n\n\n\n\n\n\n\n\n\n\n\n\n\n\n\n\n\n\n\n\n\n\n\n\n\n\n\n\n\n\n\n\n\n\n\n\n\n\n\n\n\n\n\n\n\n\n\n\n\n\n\n\n\nBande annonce
URL:https://plaza-mons.be/film/mission-pere-noel/2026-01-02
ATTACH;FMTTYPE=image/jpeg:https://plaza-mons.be/wp-content/uploads/2025/12/mission-pere-noel-poster.jpg
END:VEVENT
BEGIN:VEVENT
DTSTART;TZID=Europe/Brussels:20260102T133000
DTEND;TZID=Europe/Brussels:20260102T140500
DTSTAMP:20260426T014714
CREATED:20251104T131437Z
LAST-MODIFIED:20260104T000016Z
UID:101532-1767360600-1767362700@plaza-mons.be
SUMMARY:Premières neiges
DESCRIPTION:Die my Love\n\n\n\n\n\n			\n				Bande annonce\n			\n		 \n\n\n\n\n\n\n\n\n\n\n\n\n\n\n\n\n\n\n\n\n\n\n\n\n\n\n\n\n\n\n\n\n\n\n\n\n\n\n\n\n\n\n\n\n\n\n\n\n\n\n\n\n\nBande annonce
URL:https://plaza-mons.be/film/premieres-neiges/2026-01-02
ATTACH;FMTTYPE=image/jpeg:https://plaza-mons.be/wp-content/uploads/2025/11/premieres-neiges-poster.jpg
END:VEVENT
BEGIN:VEVENT
DTSTART;TZID=Europe/Brussels:20260102T133000
DTEND;TZID=Europe/Brussels:20260102T152000
DTSTAMP:20260426T014714
CREATED:20251204T102556Z
LAST-MODIFIED:20260113T000544Z
UID:101549-1767360600-1767367200@plaza-mons.be
SUMMARY:The Penguin Lessons
DESCRIPTION:Die my Love\n\n\n\n\n\n			\n				Bande annonce\n			\n		 \n\n\n\n\n\n\n\n\n\n\n\n\n\n\n\n\n\n\n\n\n\n\n\n\n\n\n\n\n\n\n\n\n\n\n\n\n\n\n\n\n\n\n\n\n\n\n\n\n\n\n\n\n\nBande annonce
URL:https://plaza-mons.be/film/the-penguin-lessons/2026-01-02
ATTACH;FMTTYPE=image/jpeg:https://plaza-mons.be/wp-content/uploads/2025/12/the-penguin-lessons-poster.jpg
END:VEVENT
BEGIN:VEVENT
DTSTART;TZID=Europe/Brussels:20260102T140000
DTEND;TZID=Europe/Brussels:20260102T151700
DTSTAMP:20260426T014714
CREATED:20251204T100201Z
LAST-MODIFIED:20260201T000040Z
UID:101470-1767362400-1767367020@plaza-mons.be
SUMMARY:Le secret des mésanges
DESCRIPTION:Die my Love\n\n\n\n\n\n			\n				Bande annonce\n			\n		 \n\n\n\n\n\n\n\n\n\n\n\n\n\n\n\n\n\n\n\n\n\n\n\n\n\n\n\n\n\n\n\n\n\n\n\n\n\n\n\n\n\n\n\n\n\n\n\n\n\n\n\n\n\nBande annonce
URL:https://plaza-mons.be/film/le-secret-des-mesanges/2026-01-02
ATTACH;FMTTYPE=image/jpeg:https://plaza-mons.be/wp-content/uploads/2025/12/le-secret-des-mesanges-poster.jpg
END:VEVENT
BEGIN:VEVENT
DTSTART;TZID=Europe/Brussels:20260102T143000
DTEND;TZID=Europe/Brussels:20260102T160800
DTSTAMP:20260426T014714
CREATED:20251222T103142Z
LAST-MODIFIED:20260117T000400Z
UID:101750-1767364200-1767370080@plaza-mons.be
SUMMARY:L'Engloutie
DESCRIPTION:Die my Love\n\n\n\n\n\n			\n				Bande annonce\n			\n		 \n\n\n\n\n\n\n\n\n\n\n\n\n\n\n\n\n\n\n\n\n\n\n\n\n\n\n\n\n\n\n\n\n\n\n\n\n\n\n\n\n\n\n\n\n\n\n\n\n\n\n\n\n\nBande annonce
URL:https://plaza-mons.be/film/lengloutie/2026-01-02
ATTACH;FMTTYPE=image/jpeg:https://plaza-mons.be/wp-content/uploads/2025/12/lengloutie-poster.jpg
END:VEVENT
BEGIN:VEVENT
DTSTART;TZID=Europe/Brussels:20260102T150000
DTEND;TZID=Europe/Brussels:20260102T165600
DTSTAMP:20260426T014714
CREATED:20251104T131006Z
LAST-MODIFIED:20260106T000010Z
UID:101509-1767366000-1767372960@plaza-mons.be
SUMMARY:Dossier 137
DESCRIPTION:Die my Love\n\n\n\n\n\n			\n				Bande annonce\n			\n		 \n\n\n\n\n\n\n\n\n\n\n\n\n\n\n\n\n\n\n\n\n\n\n\n\n\n\n\n\n\n\n\n\n\n\n\n\n\n\n\n\n\n\n\n\n\n\n\n\n\n\n\n\n\nBande annonce
URL:https://plaza-mons.be/film/dossier-137/2026-01-02
ATTACH;FMTTYPE=image/jpeg:https://plaza-mons.be/wp-content/uploads/2025/11/dossier-137-poster.jpg
END:VEVENT
BEGIN:VEVENT
DTSTART;TZID=Europe/Brussels:20260102T154500
DTEND;TZID=Europe/Brussels:20260102T172100
DTSTAMP:20260426T014714
CREATED:20251201T184248Z
LAST-MODIFIED:20260104T000012Z
UID:101477-1767368700-1767374460@plaza-mons.be
SUMMARY:Mission Père Noël
DESCRIPTION:Die my Love\n\n\n\n\n\n			\n				Bande annonce\n			\n		 \n\n\n\n\n\n\n\n\n\n\n\n\n\n\n\n\n\n\n\n\n\n\n\n\n\n\n\n\n\n\n\n\n\n\n\n\n\n\n\n\n\n\n\n\n\n\n\n\n\n\n\n\n\nBande annonce
URL:https://plaza-mons.be/film/mission-pere-noel/2026-01-02/3
ATTACH;FMTTYPE=image/jpeg:https://plaza-mons.be/wp-content/uploads/2025/12/mission-pere-noel-poster.jpg
END:VEVENT
BEGIN:VEVENT
DTSTART;TZID=Europe/Brussels:20260102T160000
DTEND;TZID=Europe/Brussels:20260102T173200
DTSTAMP:20260426T014714
CREATED:20251203T140209Z
LAST-MODIFIED:20260106T000408Z
UID:101482-1767369600-1767375120@plaza-mons.be
SUMMARY:Six jours\, ce printemps-là
DESCRIPTION:Die my Love\n\n\n\n\n\n			\n				Bande annonce\n			\n		 \n\n\n\n\n\n\n\n\n\n\n\n\n\n\n\n\n\n\n\n\n\n\n\n\n\n\n\n\n\n\n\n\n\n\n\n\n\n\n\n\n\n\n\n\n\n\n\n\n\n\n\n\n\nBande annonce
URL:https://plaza-mons.be/film/six-jours-ce-printemps-la/2026-01-02
ATTACH;FMTTYPE=image/jpeg:https://plaza-mons.be/wp-content/uploads/2025/12/six-jours-ce-printemps-la-poster.jpg
END:VEVENT
BEGIN:VEVENT
DTSTART;TZID=Europe/Brussels:20260102T170000
DTEND;TZID=Europe/Brussels:20260102T194000
DTSTAMP:20260426T014714
CREATED:20251203T134805Z
LAST-MODIFIED:20260120T000016Z
UID:101493-1767373200-1767382800@plaza-mons.be
SUMMARY:Resurrection
DESCRIPTION:Die my Love\n\n\n\n\n\n			\n				Bande annonce\n			\n		 \n\n\n\n\n\n\n\n\n\n\n\n\n\n\n\n\n\n\n\n\n\n\n\n\n\n\n\n\n\n\n\n\n\n\n\n\n\n\n\n\n\n\n\n\n\n\n\n\n\n\n\n\n\nBande annonce
URL:https://plaza-mons.be/film/resurrection/2026-01-02
ATTACH;FMTTYPE=image/jpeg:https://plaza-mons.be/wp-content/uploads/2025/12/resurrection-2.jpeg
END:VEVENT
BEGIN:VEVENT
DTSTART;TZID=Europe/Brussels:20260102T173000
DTEND;TZID=Europe/Brussels:20260102T193000
DTSTAMP:20260426T014714
CREATED:20251222T103258Z
LAST-MODIFIED:20260120T000337Z
UID:101584-1767375000-1767382200@plaza-mons.be
SUMMARY:Radioman
DESCRIPTION:Die my Love\n\n\n\n\n\n			\n				Bande annonce\n			\n		 \n\n\n\n\n\n\n\n\n\n\n\n\n\n\n\n\n\n\n\n\n\n\n\n\n\n\n\n\n\n\n\n\n\n\n\n\n\n\n\n\n\n\n\n\n\n\n\n\n\n\n\n\n\nBande annonce
URL:https://plaza-mons.be/film/radioman/2026-01-02
ATTACH;FMTTYPE=image/jpeg:https://plaza-mons.be/wp-content/uploads/2025/12/radioman-poster.jpg
END:VEVENT
BEGIN:VEVENT
DTSTART;TZID=Europe/Brussels:20260102T174500
DTEND;TZID=Europe/Brussels:20260102T174500
DTSTAMP:20260426T014714
CREATED:20251204T101921Z
LAST-MODIFIED:20260113T000626Z
UID:101504-1767375900-1767375900@plaza-mons.be
SUMMARY:The Running Man
DESCRIPTION:Die my Love\n\n\n\n\n\n			\n				Bande annonce\n			\n		 \n\n\n\n\n\n\n\n\n\n\n\n\n\n\n\n\n\n\n\n\n\n\n\n\n\n\n\n\n\n\n\n\n\n\n\n\n\n\n\n\n\n\n\n\n\n\n\n\n\n\n\n\n\nBande annonce
URL:https://plaza-mons.be/film/the-running-man/2026-01-02
ATTACH;FMTTYPE=image/jpeg:https://plaza-mons.be/wp-content/uploads/2025/12/the-running-man-poster-1.jpg
END:VEVENT
BEGIN:VEVENT
DTSTART;TZID=Europe/Brussels:20260102T180000
DTEND;TZID=Europe/Brussels:20260102T195800
DTSTAMP:20260426T014715
CREATED:20251204T102125Z
LAST-MODIFIED:20260106T000433Z
UID:101514-1767376800-1767383880@plaza-mons.be
SUMMARY:Les enfants vont bien
DESCRIPTION:Die my Love\n\n\n\n\n\n			\n				Bande annonce\n			\n		 \n\n\n\n\n\n\n\n\n\n\n\n\n\n\n\n\n\n\n\n\n\n\n\n\n\n\n\n\n\n\n\n\n\n\n\n\n\n\n\n\n\n\n\n\n\n\n\n\n\n\n\n\n\nBande annonce
URL:https://plaza-mons.be/film/les-enfants-vont-bien/2026-01-02
CATEGORIES:Nouveauté
ATTACH;FMTTYPE=image/jpeg:https://plaza-mons.be/wp-content/uploads/2025/12/les-enfants-vont-bien-poster-france-2835x3850-lesenfantsvontbien-doc120-hd-original.jpg
END:VEVENT
BEGIN:VEVENT
DTSTART;TZID=Europe/Brussels:20260102T200000
DTEND;TZID=Europe/Brussels:20260102T200000
DTSTAMP:20260426T014715
CREATED:20251204T101705Z
LAST-MODIFIED:20260127T000010Z
UID:101487-1767384000-1767384000@plaza-mons.be
SUMMARY:The Secret Agent (O Agente Secreto)
DESCRIPTION:Die my Love\n\n\n\n\n\n			\n				Bande annonce\n			\n		 \n\n\n\n\n\n\n\n\n\n\n\n\n\n\n\n\n\n\n\n\n\n\n\n\n\n\n\n\n\n\n\n\n\n\n\n\n\n\n\n\n\n\n\n\n\n\n\n\n\n\n\n\n\nBande annonce
URL:https://plaza-mons.be/film/the-secret-agent/2026-01-02
ATTACH;FMTTYPE=image/jpeg:https://plaza-mons.be/wp-content/uploads/2025/12/the-secret-agent-web-normal.jpg
END:VEVENT
BEGIN:VEVENT
DTSTART;TZID=Europe/Brussels:20260102T203000
DTEND;TZID=Europe/Brussels:20260102T203000
DTSTAMP:20260426T014715
CREATED:20251204T103048Z
LAST-MODIFIED:20260120T000346Z
UID:101536-1767385800-1767385800@plaza-mons.be
SUMMARY:Song Sung Blue  (Sur un air de Blues)
DESCRIPTION:Die my Love\n\n\n\n\n\n			\n				Bande annonce\n			\n		 \n\n\n\n\n\n\n\n\n\n\n\n\n\n\n\n\n\n\n\n\n\n\n\n\n\n\n\n\n\n\n\n\n\n\n\n\n\n\n\n\n\n\n\n\n\n\n\n\n\n\n\n\n\nBande annonce
URL:https://plaza-mons.be/film/song-sung-blue/2026-01-02
ATTACH;FMTTYPE=image/jpeg:https://plaza-mons.be/wp-content/uploads/2025/12/songsungblue-digitalpayoff-nl-original.jpg
END:VEVENT
BEGIN:VEVENT
DTSTART;TZID=Europe/Brussels:20260102T203000
DTEND;TZID=Europe/Brussels:20260102T221500
DTSTAMP:20260426T014715
CREATED:20251204T102406Z
LAST-MODIFIED:20260127T000100Z
UID:101527-1767385800-1767392100@plaza-mons.be
SUMMARY:Muganga\, celui qui soigne
DESCRIPTION:Die my Love\n\n\n\n\n\n			\n				Bande annonce\n			\n		 \n\n\n\n\n\n\n\n\n\n\n\n\n\n\n\n\n\n\n\n\n\n\n\n\n\n\n\n\n\n\n\n\n\n\n\n\n\n\n\n\n\n\n\n\n\n\n\n\n\n\n\n\n\nBande annonce
URL:https://plaza-mons.be/film/muganga-celui-qui-soigne/2026-01-02
ATTACH;FMTTYPE=image/png:https://plaza-mons.be/wp-content/uploads/2025/12/muganga-poster.png
END:VEVENT
BEGIN:VEVENT
DTSTART;TZID=Europe/Brussels:20260102T203000
DTEND;TZID=Europe/Brussels:20260102T223500
DTSTAMP:20260426T014715
CREATED:20251222T103553Z
LAST-MODIFIED:20260312T000609Z
UID:101451-1767385800-1767393300@plaza-mons.be
SUMMARY:Sailor et Lula  (Wild at Heart) : Rétrospective Lynch
DESCRIPTION:Die my Love\n\n\n\n\n\n			\n				Bande annonce\n			\n		 \n\n\n\n\n\n\n\n\n\n\n\n\n\n\n\n\n\n\n\n\n\n\n\n\n\n\n\n\n\n\n\n\n\n\n\n\n\n\n\n\n\n\n\n\n\n\n\n\n\n\n\n\n\nBande annonce
URL:https://plaza-mons.be/film/sailor-et-lula-wild-at-heart-retrospective-lynch/2026-01-02
ATTACH;FMTTYPE=image/jpeg:https://plaza-mons.be/wp-content/uploads/2025/12/wild-at-heart-poster.jpg
END:VEVENT
END:VCALENDAR