BEGIN:VCALENDAR
VERSION:2.0
PRODID:-//Plaza Arthouse Cinema - ECPv5.14.1//NONSGML v1.0//EN
CALSCALE:GREGORIAN
METHOD:PUBLISH
X-WR-CALNAME:Plaza Arthouse Cinema
X-ORIGINAL-URL:https://plaza-mons.be
X-WR-CALDESC:Events for Plaza Arthouse Cinema
REFRESH-INTERVAL;VALUE=DURATION:PT1H
X-Robots-Tag:noindex
X-PUBLISHED-TTL:PT1H
BEGIN:VTIMEZONE
TZID:Europe/Brussels
BEGIN:DAYLIGHT
TZOFFSETFROM:+0100
TZOFFSETTO:+0200
TZNAME:CEST
DTSTART:20250330T010000
END:DAYLIGHT
BEGIN:STANDARD
TZOFFSETFROM:+0200
TZOFFSETTO:+0100
TZNAME:CET
DTSTART:20251026T010000
END:STANDARD
END:VTIMEZONE
BEGIN:VEVENT
DTSTART;TZID=Europe/Brussels:20251223T110000
DTEND;TZID=Europe/Brussels:20251223T113500
DTSTAMP:20260425T032802
CREATED:20251104T131437Z
LAST-MODIFIED:20260104T000016Z
UID:100045-1766487600-1766489700@plaza-mons.be
SUMMARY:Premières neiges
DESCRIPTION:Super Charlie\n\n\n\n\n\n			\n				Bande annonce\n			\n		 \n\n\n\n\n\n\n\n\n\n\n\n\n\n\n\n\n\n\n\n\n\n\n\n\n\n\n\n\n\n\n\n\n\n\n\n\n\n\n\n\n\n\n\n\n\n\n\n\n\n\n\n\n\nBande annonce
URL:https://plaza-mons.be/film/premieres-neiges/2025-12-23
ATTACH;FMTTYPE=image/jpeg:https://plaza-mons.be/wp-content/uploads/2025/11/premieres-neiges-poster.jpg
END:VEVENT
BEGIN:VEVENT
DTSTART;TZID=Europe/Brussels:20251223T110000
DTEND;TZID=Europe/Brussels:20251223T120000
DTSTAMP:20260425T032802
CREATED:20251203T132415Z
LAST-MODIFIED:20260104T000014Z
UID:101224-1766487600-1766491200@plaza-mons.be
SUMMARY:Shaun le mouton :   la vie est une fête !
DESCRIPTION:Super Charlie\n\n\n\n\n\n			\n				Bande annonce\n			\n		 \n\n\n\n\n\n\n\n\n\n\n\n\n\n\n\n\n\n\n\n\n\n\n\n\n\n\n\n\n\n\n\n\n\n\n\n\n\n\n\n\n\n\n\n\n\n\n\n\n\n\n\n\n\nBande annonce
URL:https://plaza-mons.be/film/shaun-le-mouton-la-vie-est-une-fete/2025-12-23
ATTACH;FMTTYPE=image/jpeg:https://plaza-mons.be/wp-content/uploads/2025/11/shaun-le-mouton-la-vie-est-une-fete-poster.jpg
END:VEVENT
BEGIN:VEVENT
DTSTART;TZID=Europe/Brussels:20251223T110000
DTEND;TZID=Europe/Brussels:20251223T121700
DTSTAMP:20260425T032802
CREATED:20251204T100201Z
LAST-MODIFIED:20260201T000040Z
UID:100293-1766487600-1766492220@plaza-mons.be
SUMMARY:Le secret des mésanges
DESCRIPTION:Super Charlie\n\n\n\n\n\n			\n				Bande annonce\n			\n		 \n\n\n\n\n\n\n\n\n\n\n\n\n\n\n\n\n\n\n\n\n\n\n\n\n\n\n\n\n\n\n\n\n\n\n\n\n\n\n\n\n\n\n\n\n\n\n\n\n\n\n\n\n\nBande annonce
URL:https://plaza-mons.be/film/le-secret-des-mesanges/2025-12-23
ATTACH;FMTTYPE=image/jpeg:https://plaza-mons.be/wp-content/uploads/2025/12/le-secret-des-mesanges-poster.jpg
END:VEVENT
BEGIN:VEVENT
DTSTART;TZID=Europe/Brussels:20251223T110000
DTEND;TZID=Europe/Brussels:20251223T123600
DTSTAMP:20260425T032802
CREATED:20251201T184248Z
LAST-MODIFIED:20260104T000011Z
UID:101289-1766487600-1766493360@plaza-mons.be
SUMMARY:Mission Père Noël
DESCRIPTION:Super Charlie\n\n\n\n\n\n			\n				Bande annonce\n			\n		 \n\n\n\n\n\n\n\n\n\n\n\n\n\n\n\n\n\n\n\n\n\n\n\n\n\n\n\n\n\n\n\n\n\n\n\n\n\n\n\n\n\n\n\n\n\n\n\n\n\n\n\n\n\nBande annonce
URL:https://plaza-mons.be/film/mission-pere-noel/2025-12-23
ATTACH;FMTTYPE=image/jpeg:https://plaza-mons.be/wp-content/uploads/2025/12/mission-pere-noel-poster.jpg
END:VEVENT
BEGIN:VEVENT
DTSTART;TZID=Europe/Brussels:20251223T133000
DTEND;TZID=Europe/Brussels:20251223T143000
DTSTAMP:20260425T032802
CREATED:20251128T163226Z
LAST-MODIFIED:20251230T000021Z
UID:100075-1766496600-1766500200@plaza-mons.be
SUMMARY:Les Baronnes
DESCRIPTION:Super Charlie\n\n\n\n\n\n			\n				Bande annonce\n			\n		 \n\n\n\n\n\n\n\n\n\n\n\n\n\n\n\n\n\n\n\n\n\n\n\n\n\n\n\n\n\n\n\n\n\n\n\n\n\n\n\n\n\n\n\n\n\n\n\n\n\n\n\n\n\nBande annonce
URL:https://plaza-mons.be/film/les-baronnes/2025-12-23
ATTACH;FMTTYPE=image/jpeg:https://plaza-mons.be/wp-content/uploads/2025/10/15829-lesbaronnes-cineart-def2.jpg
END:VEVENT
BEGIN:VEVENT
DTSTART;TZID=Europe/Brussels:20251223T133000
DTEND;TZID=Europe/Brussels:20251223T150700
DTSTAMP:20260425T032802
CREATED:20251203T133105Z
LAST-MODIFIED:20251223T000423Z
UID:101235-1766496600-1766502420@plaza-mons.be
SUMMARY:Des preuves  d’amour
DESCRIPTION:Super Charlie\n\n\n\n\n\n			\n				Bande annonce\n			\n		 \n\n\n\n\n\n\n\n\n\n\n\n\n\n\n\n\n\n\n\n\n\n\n\n\n\n\n\n\n\n\n\n\n\n\n\n\n\n\n\n\n\n\n\n\n\n\n\n\n\n\n\n\n\nBande annonce
URL:https://plaza-mons.be/film/des-preuves-damour-2/2025-12-23
ATTACH;FMTTYPE=image/jpeg:https://plaza-mons.be/wp-content/uploads/2025/12/des-preuves-damour-poster.jpg
END:VEVENT
BEGIN:VEVENT
DTSTART;TZID=Europe/Brussels:20251223T133000
DTEND;TZID=Europe/Brussels:20251223T151300
DTSTAMP:20260425T032802
CREATED:20251203T133318Z
LAST-MODIFIED:20251230T000012Z
UID:100734-1766496600-1766502780@plaza-mons.be
SUMMARY:Mother
DESCRIPTION:Super Charlie\n\n\n\n\n\n			\n				Bande annonce\n			\n		 \n\n\n\n\n\n\n\n\n\n\n\n\n\n\n\n\n\n\n\n\n\n\n\n\n\n\n\n\n\n\n\n\n\n\n\n\n\n\n\n\n\n\n\n\n\n\n\n\n\n\n\n\n\nBande annonce
URL:https://plaza-mons.be/film/mother/2025-12-23
ATTACH;FMTTYPE=image/jpeg:https://plaza-mons.be/wp-content/uploads/2025/12/mother-be-original.jpg
END:VEVENT
BEGIN:VEVENT
DTSTART;TZID=Europe/Brussels:20251223T140000
DTEND;TZID=Europe/Brussels:20251223T153600
DTSTAMP:20260425T032802
CREATED:20251201T184248Z
LAST-MODIFIED:20260104T000011Z
UID:101290-1766498400-1766504160@plaza-mons.be
SUMMARY:Mission Père Noël
DESCRIPTION:Super Charlie\n\n\n\n\n\n			\n				Bande annonce\n			\n		 \n\n\n\n\n\n\n\n\n\n\n\n\n\n\n\n\n\n\n\n\n\n\n\n\n\n\n\n\n\n\n\n\n\n\n\n\n\n\n\n\n\n\n\n\n\n\n\n\n\n\n\n\n\nBande annonce
URL:https://plaza-mons.be/film/mission-pere-noel/2025-12-23/2
ATTACH;FMTTYPE=image/jpeg:https://plaza-mons.be/wp-content/uploads/2025/12/mission-pere-noel-poster.jpg
END:VEVENT
BEGIN:VEVENT
DTSTART;TZID=Europe/Brussels:20251223T154500
DTEND;TZID=Europe/Brussels:20251223T164500
DTSTAMP:20260425T032802
CREATED:20251203T132415Z
LAST-MODIFIED:20260104T000014Z
UID:101225-1766504700-1766508300@plaza-mons.be
SUMMARY:Shaun le mouton :   la vie est une fête !
DESCRIPTION:Super Charlie\n\n\n\n\n\n			\n				Bande annonce\n			\n		 \n\n\n\n\n\n\n\n\n\n\n\n\n\n\n\n\n\n\n\n\n\n\n\n\n\n\n\n\n\n\n\n\n\n\n\n\n\n\n\n\n\n\n\n\n\n\n\n\n\n\n\n\n\nBande annonce
URL:https://plaza-mons.be/film/shaun-le-mouton-la-vie-est-une-fete/2025-12-23/2
ATTACH;FMTTYPE=image/jpeg:https://plaza-mons.be/wp-content/uploads/2025/11/shaun-le-mouton-la-vie-est-une-fete-poster.jpg
END:VEVENT
BEGIN:VEVENT
DTSTART;TZID=Europe/Brussels:20251223T154500
DTEND;TZID=Europe/Brussels:20251223T174300
DTSTAMP:20260425T032802
CREATED:20251204T102125Z
LAST-MODIFIED:20260106T000433Z
UID:100126-1766504700-1766511780@plaza-mons.be
SUMMARY:Les enfants vont bien
DESCRIPTION:Super Charlie\n\n\n\n\n\n			\n				Bande annonce\n			\n		 \n\n\n\n\n\n\n\n\n\n\n\n\n\n\n\n\n\n\n\n\n\n\n\n\n\n\n\n\n\n\n\n\n\n\n\n\n\n\n\n\n\n\n\n\n\n\n\n\n\n\n\n\n\nBande annonce
URL:https://plaza-mons.be/film/les-enfants-vont-bien/2025-12-23
CATEGORIES:Nouveauté
ATTACH;FMTTYPE=image/jpeg:https://plaza-mons.be/wp-content/uploads/2025/12/les-enfants-vont-bien-poster-france-2835x3850-lesenfantsvontbien-doc120-hd-original.jpg
END:VEVENT
BEGIN:VEVENT
DTSTART;TZID=Europe/Brussels:20251223T160000
DTEND;TZID=Europe/Brussels:20251223T164100
DTSTAMP:20260425T032802
CREATED:20251204T102254Z
LAST-MODIFIED:20260104T000004Z
UID:100130-1766505600-1766508060@plaza-mons.be
SUMMARY:La petite fanfare de Noël
DESCRIPTION:Super Charlie\n\n\n\n\n\n			\n				Bande annonce\n			\n		 \n\n\n\n\n\n\n\n\n\n\n\n\n\n\n\n\n\n\n\n\n\n\n\n\n\n\n\n\n\n\n\n\n\n\n\n\n\n\n\n\n\n\n\n\n\n\n\n\n\n\n\n\n\nBande annonce
URL:https://plaza-mons.be/film/la-petite-fanfare-de-noel/2025-12-23
CATEGORIES:Nouveauté
ATTACH;FMTTYPE=image/jpeg:https://plaza-mons.be/wp-content/uploads/2025/12/la-petite-fanfare-de-noel-poster.jpg
END:VEVENT
BEGIN:VEVENT
DTSTART;TZID=Europe/Brussels:20251223T160000
DTEND;TZID=Europe/Brussels:20251223T173200
DTSTAMP:20260425T032802
CREATED:20251203T140209Z
LAST-MODIFIED:20260106T000407Z
UID:100101-1766505600-1766511120@plaza-mons.be
SUMMARY:Six jours\, ce printemps-là
DESCRIPTION:Super Charlie\n\n\n\n\n\n			\n				Bande annonce\n			\n		 \n\n\n\n\n\n\n\n\n\n\n\n\n\n\n\n\n\n\n\n\n\n\n\n\n\n\n\n\n\n\n\n\n\n\n\n\n\n\n\n\n\n\n\n\n\n\n\n\n\n\n\n\n\nBande annonce
URL:https://plaza-mons.be/film/six-jours-ce-printemps-la/2025-12-23
ATTACH;FMTTYPE=image/jpeg:https://plaza-mons.be/wp-content/uploads/2025/12/six-jours-ce-printemps-la-poster.jpg
END:VEVENT
BEGIN:VEVENT
DTSTART;TZID=Europe/Brussels:20251223T171500
DTEND;TZID=Europe/Brussels:20251223T171500
DTSTAMP:20260425T032802
CREATED:20251204T101705Z
LAST-MODIFIED:20260127T000009Z
UID:100116-1766510100-1766510100@plaza-mons.be
SUMMARY:The Secret Agent (O Agente Secreto)
DESCRIPTION:Super Charlie\n\n\n\n\n\n			\n				Bande annonce\n			\n		 \n\n\n\n\n\n\n\n\n\n\n\n\n\n\n\n\n\n\n\n\n\n\n\n\n\n\n\n\n\n\n\n\n\n\n\n\n\n\n\n\n\n\n\n\n\n\n\n\n\n\n\n\n\nBande annonce
URL:https://plaza-mons.be/film/the-secret-agent/2025-12-23
ATTACH;FMTTYPE=image/jpeg:https://plaza-mons.be/wp-content/uploads/2025/12/the-secret-agent-web-normal.jpg
END:VEVENT
BEGIN:VEVENT
DTSTART;TZID=Europe/Brussels:20251223T173000
DTEND;TZID=Europe/Brussels:20251223T201000
DTSTAMP:20260425T032802
CREATED:20251203T134805Z
LAST-MODIFIED:20260120T000014Z
UID:101278-1766511000-1766520600@plaza-mons.be
SUMMARY:Resurrection
DESCRIPTION:Super Charlie\n\n\n\n\n\n			\n				Bande annonce\n			\n		 \n\n\n\n\n\n\n\n\n\n\n\n\n\n\n\n\n\n\n\n\n\n\n\n\n\n\n\n\n\n\n\n\n\n\n\n\n\n\n\n\n\n\n\n\n\n\n\n\n\n\n\n\n\nBande annonce
URL:https://plaza-mons.be/film/resurrection/2025-12-23
ATTACH;FMTTYPE=image/jpeg:https://plaza-mons.be/wp-content/uploads/2025/12/resurrection-2.jpeg
END:VEVENT
BEGIN:VEVENT
DTSTART;TZID=Europe/Brussels:20251223T180000
DTEND;TZID=Europe/Brussels:20251223T195600
DTSTAMP:20260425T032802
CREATED:20251104T131006Z
LAST-MODIFIED:20260106T000010Z
UID:100042-1766512800-1766519760@plaza-mons.be
SUMMARY:Dossier 137
DESCRIPTION:Super Charlie\n\n\n\n\n\n			\n				Bande annonce\n			\n		 \n\n\n\n\n\n\n\n\n\n\n\n\n\n\n\n\n\n\n\n\n\n\n\n\n\n\n\n\n\n\n\n\n\n\n\n\n\n\n\n\n\n\n\n\n\n\n\n\n\n\n\n\n\nBande annonce
URL:https://plaza-mons.be/film/dossier-137/2025-12-23
ATTACH;FMTTYPE=image/jpeg:https://plaza-mons.be/wp-content/uploads/2025/11/dossier-137-poster.jpg
END:VEVENT
BEGIN:VEVENT
DTSTART;TZID=Europe/Brussels:20251223T181500
DTEND;TZID=Europe/Brussels:20251223T200000
DTSTAMP:20260425T032802
CREATED:20251204T102406Z
LAST-MODIFIED:20260127T000059Z
UID:100134-1766513700-1766520000@plaza-mons.be
SUMMARY:Muganga\, celui qui soigne
DESCRIPTION:Super Charlie\n\n\n\n\n\n			\n				Bande annonce\n			\n		 \n\n\n\n\n\n\n\n\n\n\n\n\n\n\n\n\n\n\n\n\n\n\n\n\n\n\n\n\n\n\n\n\n\n\n\n\n\n\n\n\n\n\n\n\n\n\n\n\n\n\n\n\n\nBande annonce
URL:https://plaza-mons.be/film/muganga-celui-qui-soigne/2025-12-23
ATTACH;FMTTYPE=image/png:https://plaza-mons.be/wp-content/uploads/2025/12/muganga-poster.png
END:VEVENT
BEGIN:VEVENT
DTSTART;TZID=Europe/Brussels:20251223T203000
DTEND;TZID=Europe/Brussels:20251223T203000
DTSTAMP:20260425T032802
CREATED:20251204T101921Z
LAST-MODIFIED:20260113T000625Z
UID:100120-1766521800-1766521800@plaza-mons.be
SUMMARY:The Running Man
DESCRIPTION:Super Charlie\n\n\n\n\n\n			\n				Bande annonce\n			\n		 \n\n\n\n\n\n\n\n\n\n\n\n\n\n\n\n\n\n\n\n\n\n\n\n\n\n\n\n\n\n\n\n\n\n\n\n\n\n\n\n\n\n\n\n\n\n\n\n\n\n\n\n\n\nBande annonce
URL:https://plaza-mons.be/film/the-running-man/2025-12-23
ATTACH;FMTTYPE=image/jpeg:https://plaza-mons.be/wp-content/uploads/2025/12/the-running-man-poster-1.jpg
END:VEVENT
BEGIN:VEVENT
DTSTART;TZID=Europe/Brussels:20251223T203000
DTEND;TZID=Europe/Brussels:20251223T221900
DTSTAMP:20260425T032802
CREATED:20251203T134142Z
LAST-MODIFIED:20251230T000111Z
UID:101261-1766521800-1766528340@plaza-mons.be
SUMMARY:Left-Handed Girl
DESCRIPTION:Super Charlie\n\n\n\n\n\n			\n				Bande annonce\n			\n		 \n\n\n\n\n\n\n\n\n\n\n\n\n\n\n\n\n\n\n\n\n\n\n\n\n\n\n\n\n\n\n\n\n\n\n\n\n\n\n\n\n\n\n\n\n\n\n\n\n\n\n\n\n\nBande annonce
URL:https://plaza-mons.be/film/left-handed-girl/2025-12-23
ATTACH;FMTTYPE=image/jpeg:https://plaza-mons.be/wp-content/uploads/2025/12/left-handed-girl-poster-be-def.jpg
END:VEVENT
BEGIN:VEVENT
DTSTART;TZID=Europe/Brussels:20251223T203000
DTEND;TZID=Europe/Brussels:20251223T222200
DTSTAMP:20260425T032802
CREATED:20251203T132945Z
LAST-MODIFIED:20251230T000348Z
UID:100067-1766521800-1766528520@plaza-mons.be
SUMMARY:Relay
DESCRIPTION:Super Charlie\n\n\n\n\n\n			\n				Bande annonce\n			\n		 \n\n\n\n\n\n\n\n\n\n\n\n\n\n\n\n\n\n\n\n\n\n\n\n\n\n\n\n\n\n\n\n\n\n\n\n\n\n\n\n\n\n\n\n\n\n\n\n\n\n\n\n\n\nBande annonce
URL:https://plaza-mons.be/film/relay/2025-12-23
ATTACH;FMTTYPE=image/jpeg:https://plaza-mons.be/wp-content/uploads/2025/12/relay-poster.jpg
END:VEVENT
END:VCALENDAR