BEGIN:VCALENDAR
VERSION:2.0
PRODID:-//Plaza Arthouse Cinema - ECPv5.14.1//NONSGML v1.0//EN
CALSCALE:GREGORIAN
METHOD:PUBLISH
X-WR-CALNAME:Plaza Arthouse Cinema
X-ORIGINAL-URL:https://plaza-mons.be
X-WR-CALDESC:Events for Plaza Arthouse Cinema
REFRESH-INTERVAL;VALUE=DURATION:PT1H
X-Robots-Tag:noindex
X-PUBLISHED-TTL:PT1H
BEGIN:VTIMEZONE
TZID:Europe/Brussels
BEGIN:DAYLIGHT
TZOFFSETFROM:+0100
TZOFFSETTO:+0200
TZNAME:CEST
DTSTART:20250330T010000
END:DAYLIGHT
BEGIN:STANDARD
TZOFFSETFROM:+0200
TZOFFSETTO:+0100
TZNAME:CET
DTSTART:20251026T010000
END:STANDARD
END:VTIMEZONE
BEGIN:VEVENT
DTSTART;TZID=Europe/Brussels:20251214T110000
DTEND;TZID=Europe/Brussels:20251214T120000
DTSTAMP:20260420T094032
CREATED:20251203T132415Z
LAST-MODIFIED:20260104T000013Z
UID:101220-1765710000-1765713600@plaza-mons.be
SUMMARY:Shaun le mouton :   la vie est une fête !
DESCRIPTION:Pop & Clap ciné-club : Kill Bill: The Whole Bloody Affair\n\n\n\n\n\n			\n				Bande annonce\n			\n		 \n\n\n\n\n\n\n\n\n\n\n\n\n\n\n\n\n\n\n\n\n\n\n\n\n\n\n\n\n\n\n\n\n\n\n\n\n\n\n\n\n\n\n\n\n\n\n\n\n\n\n\n\n\nBande annonce
URL:https://plaza-mons.be/film/shaun-le-mouton-la-vie-est-une-fete/2025-12-14
ATTACH;FMTTYPE=image/jpeg:https://plaza-mons.be/wp-content/uploads/2025/11/shaun-le-mouton-la-vie-est-une-fete-poster.jpg
END:VEVENT
BEGIN:VEVENT
DTSTART;TZID=Europe/Brussels:20251214T110000
DTEND;TZID=Europe/Brussels:20251214T123500
DTSTAMP:20260420T094032
CREATED:20251002T140227Z
LAST-MODIFIED:20251214T000003Z
UID:96890-1765710000-1765715700@plaza-mons.be
SUMMARY:Séance spéciale ETUGEN
DESCRIPTION:Pop & Clap ciné-club : Kill Bill: The Whole Bloody Affair
URL:https://plaza-mons.be/film/seance-speciale-etugen/2025-12-14
CATEGORIES:Avant-première,Documentaire
ATTACH;FMTTYPE=image/jpeg:https://plaza-mons.be/wp-content/uploads/2025/10/libraryutick-1.jpg
END:VEVENT
BEGIN:VEVENT
DTSTART;TZID=Europe/Brussels:20251214T133000
DTEND;TZID=Europe/Brussels:20251214T133000
DTSTAMP:20260420T094032
CREATED:20251104T130838Z
LAST-MODIFIED:20251230T000047Z
UID:99837-1765719000-1765719000@plaza-mons.be
SUMMARY:La voix de Hind Rajab
DESCRIPTION:Pop & Clap ciné-club : Kill Bill: The Whole Bloody Affair\n\n\n\n\n\n			\n				Bande annonce\n			\n		 \n\n\n\n\n\n\n\n\n\n\n\n\n\n\n\n\n\n\n\n\n\n\n\n\n\n\n\n\n\n\n\n\n\n\n\n\n\n\n\n\n\n\n\n\n\n\n\n\n\n\n\n\n\nBande annonce
URL:https://plaza-mons.be/film/la-voix-de-hind-rajab/2025-12-14
ATTACH;FMTTYPE=image/jpeg:https://plaza-mons.be/wp-content/uploads/2025/11/la-voix-de-hind-rajab-poster.jpg
END:VEVENT
BEGIN:VEVENT
DTSTART;TZID=Europe/Brussels:20251214T133000
DTEND;TZID=Europe/Brussels:20251214T150600
DTSTAMP:20260420T094032
CREATED:20251201T184248Z
LAST-MODIFIED:20260104T000011Z
UID:101284-1765719000-1765724760@plaza-mons.be
SUMMARY:Mission Père Noël
DESCRIPTION:Pop & Clap ciné-club : Kill Bill: The Whole Bloody Affair\n\n\n\n\n\n			\n				Bande annonce\n			\n		 \n\n\n\n\n\n\n\n\n\n\n\n\n\n\n\n\n\n\n\n\n\n\n\n\n\n\n\n\n\n\n\n\n\n\n\n\n\n\n\n\n\n\n\n\n\n\n\n\n\n\n\n\n\nBande annonce
URL:https://plaza-mons.be/film/mission-pere-noel/2025-12-14
ATTACH;FMTTYPE=image/jpeg:https://plaza-mons.be/wp-content/uploads/2025/12/mission-pere-noel-poster.jpg
END:VEVENT
BEGIN:VEVENT
DTSTART;TZID=Europe/Brussels:20251214T140000
DTEND;TZID=Europe/Brussels:20251214T152800
DTSTAMP:20260420T094032
CREATED:20251027T151438Z
LAST-MODIFIED:20251222T000230Z
UID:99828-1765720800-1765726080@plaza-mons.be
SUMMARY:Arco
DESCRIPTION:Pop & Clap ciné-club : Kill Bill: The Whole Bloody Affair\n\n\n\n\n\n			\n				Bande annonce\n			\n		 \n\n\n\n\n\n\n\n\n\n\n\n\n\n\n\n\n\n\n\n\n\n\n\n\n\n\n\n\n\n\n\n\n\n\n\n\n\n\n\n\n\n\n\n\n\n\n\n\n\n\n\n\n\nBande annonce\n\n\n\n\n\n\n\nhttps://www.youtube.com/watch?v=sob8PB4DddM&list=PL-G2_HG1UM8j8ZeqI-EZ0bvEItkGDcmpz
URL:https://plaza-mons.be/film/arco/2025-12-14
ATTACH;FMTTYPE=image/jpeg:https://plaza-mons.be/wp-content/uploads/2025/10/arco-poster.jpg
END:VEVENT
BEGIN:VEVENT
DTSTART;TZID=Europe/Brussels:20251214T140000
DTEND;TZID=Europe/Brussels:20251214T161900
DTSTAMP:20260420T094032
CREATED:20251028T153233Z
LAST-MODIFIED:20251215T000021Z
UID:99833-1765720800-1765729140@plaza-mons.be
SUMMARY:Les Aigles de la République
DESCRIPTION:Pop & Clap ciné-club : Kill Bill: The Whole Bloody Affair\n\n\n\n\n\n			\n				Bande annonce\n			\n		 \n\n\n\n\n\n\n\n\n\n\n\n\n\n\n\n\n\n\n\n\n\n\n\n\n\n\n\n\n\n\n\n\n\n\n\n\n\n\n\n\n\n\n\n\n\n\n\n\n\n\n\n\n\nBande annonce
URL:https://plaza-mons.be/film/les-aigles-de-la-republique/2025-12-14
ATTACH;FMTTYPE=image/jpeg:https://plaza-mons.be/wp-content/uploads/2025/10/les-aigles-de-la-republique-poster.jpg
END:VEVENT
BEGIN:VEVENT
DTSTART;TZID=Europe/Brussels:20251214T153000
DTEND;TZID=Europe/Brussels:20251214T171900
DTSTAMP:20260420T094032
CREATED:20251203T134142Z
LAST-MODIFIED:20251230T000111Z
UID:101254-1765726200-1765732740@plaza-mons.be
SUMMARY:Left-Handed Girl
DESCRIPTION:Pop & Clap ciné-club : Kill Bill: The Whole Bloody Affair\n\n\n\n\n\n			\n				Bande annonce\n			\n		 \n\n\n\n\n\n\n\n\n\n\n\n\n\n\n\n\n\n\n\n\n\n\n\n\n\n\n\n\n\n\n\n\n\n\n\n\n\n\n\n\n\n\n\n\n\n\n\n\n\n\n\n\n\nBande annonce
URL:https://plaza-mons.be/film/left-handed-girl/2025-12-14
ATTACH;FMTTYPE=image/jpeg:https://plaza-mons.be/wp-content/uploads/2025/12/left-handed-girl-poster-be-def.jpg
END:VEVENT
BEGIN:VEVENT
DTSTART;TZID=Europe/Brussels:20251214T153000
DTEND;TZID=Europe/Brussels:20251214T172800
DTSTAMP:20260420T094032
CREATED:20251104T131222Z
LAST-MODIFIED:20251215T000006Z
UID:99850-1765726200-1765733280@plaza-mons.be
SUMMARY:Moi qui t'aimais
DESCRIPTION:Pop & Clap ciné-club : Kill Bill: The Whole Bloody Affair\n\n\n\n\n\n			\n				Bande annonce\n			\n		 \n\n\n\n\n\n\n\n\n\n\n\n\n\n\n\n\n\n\n\n\n\n\n\n\n\n\n\n\n\n\n\n\n\n\n\n\n\n\n\n\n\n\n\n\n\n\n\n\n\n\n\n\n\nBande annonce
URL:https://plaza-mons.be/film/moi-qui-taimais/2025-12-14
ATTACH;FMTTYPE=image/jpeg:https://plaza-mons.be/wp-content/uploads/2025/11/moi-qui-taimais-poster.jpg
END:VEVENT
BEGIN:VEVENT
DTSTART;TZID=Europe/Brussels:20251214T160000
DTEND;TZID=Europe/Brussels:20251214T173200
DTSTAMP:20260420T094032
CREATED:20251203T140209Z
LAST-MODIFIED:20260106T000406Z
UID:99922-1765728000-1765733520@plaza-mons.be
SUMMARY:Six jours\, ce printemps-là
DESCRIPTION:Pop & Clap ciné-club : Kill Bill: The Whole Bloody Affair\n\n\n\n\n\n			\n				Bande annonce\n			\n		 \n\n\n\n\n\n\n\n\n\n\n\n\n\n\n\n\n\n\n\n\n\n\n\n\n\n\n\n\n\n\n\n\n\n\n\n\n\n\n\n\n\n\n\n\n\n\n\n\n\n\n\n\n\nBande annonce
URL:https://plaza-mons.be/film/six-jours-ce-printemps-la/2025-12-14
ATTACH;FMTTYPE=image/jpeg:https://plaza-mons.be/wp-content/uploads/2025/12/six-jours-ce-printemps-la-poster.jpg
END:VEVENT
BEGIN:VEVENT
DTSTART;TZID=Europe/Brussels:20251214T173000
DTEND;TZID=Europe/Brussels:20251214T192200
DTSTAMP:20260420T094032
CREATED:20251203T132945Z
LAST-MODIFIED:20251230T000346Z
UID:99868-1765733400-1765740120@plaza-mons.be
SUMMARY:Relay
DESCRIPTION:Pop & Clap ciné-club : Kill Bill: The Whole Bloody Affair\n\n\n\n\n\n			\n				Bande annonce\n			\n		 \n\n\n\n\n\n\n\n\n\n\n\n\n\n\n\n\n\n\n\n\n\n\n\n\n\n\n\n\n\n\n\n\n\n\n\n\n\n\n\n\n\n\n\n\n\n\n\n\n\n\n\n\n\nBande annonce
URL:https://plaza-mons.be/film/relay/2025-12-14
ATTACH;FMTTYPE=image/jpeg:https://plaza-mons.be/wp-content/uploads/2025/12/relay-poster.jpg
END:VEVENT
BEGIN:VEVENT
DTSTART;TZID=Europe/Brussels:20251214T180000
DTEND;TZID=Europe/Brussels:20251214T193700
DTSTAMP:20260420T094032
CREATED:20251203T133105Z
LAST-MODIFIED:20251223T000423Z
UID:99874-1765735200-1765741020@plaza-mons.be
SUMMARY:Des preuves  d’amour
DESCRIPTION:Pop & Clap ciné-club : Kill Bill: The Whole Bloody Affair\n\n\n\n\n\n			\n				Bande annonce\n			\n		 \n\n\n\n\n\n\n\n\n\n\n\n\n\n\n\n\n\n\n\n\n\n\n\n\n\n\n\n\n\n\n\n\n\n\n\n\n\n\n\n\n\n\n\n\n\n\n\n\n\n\n\n\n\nBande annonce
URL:https://plaza-mons.be/film/des-preuves-damour-2/2025-12-14
ATTACH;FMTTYPE=image/jpeg:https://plaza-mons.be/wp-content/uploads/2025/12/des-preuves-damour-poster.jpg
END:VEVENT
BEGIN:VEVENT
DTSTART;TZID=Europe/Brussels:20251214T180000
DTEND;TZID=Europe/Brussels:20251214T194600
DTSTAMP:20260420T094032
CREATED:20251203T132810Z
LAST-MODIFIED:20251222T000215Z
UID:101212-1765735200-1765741560@plaza-mons.be
SUMMARY:Les rêveurs
DESCRIPTION:Pop & Clap ciné-club : Kill Bill: The Whole Bloody Affair\n\n\n\n\n\n			\n				Bande annonce\n			\n		 \n\n\n\n\n\n\n\n\n\n\n\n\n\n\n\n\n\n\n\n\n\n\n\n\n\n\n\n\n\n\n\n\n\n\n\n\n\n\n\n\n\n\n\n\n\n\n\n\n\n\n\n\n\nBande annonce
URL:https://plaza-mons.be/film/les-reveurs/2025-12-14
ATTACH;FMTTYPE=image/jpeg:https://plaza-mons.be/wp-content/uploads/2025/12/les-reveurs-poster-1.jpg
END:VEVENT
BEGIN:VEVENT
DTSTART;TZID=Europe/Brussels:20251214T180000
DTEND;TZID=Europe/Brussels:20251214T195600
DTSTAMP:20260420T094032
CREATED:20251104T131006Z
LAST-MODIFIED:20260106T000009Z
UID:99845-1765735200-1765742160@plaza-mons.be
SUMMARY:Dossier 137
DESCRIPTION:Pop & Clap ciné-club : Kill Bill: The Whole Bloody Affair\n\n\n\n\n\n			\n				Bande annonce\n			\n		 \n\n\n\n\n\n\n\n\n\n\n\n\n\n\n\n\n\n\n\n\n\n\n\n\n\n\n\n\n\n\n\n\n\n\n\n\n\n\n\n\n\n\n\n\n\n\n\n\n\n\n\n\n\nBande annonce
URL:https://plaza-mons.be/film/dossier-137/2025-12-14
ATTACH;FMTTYPE=image/jpeg:https://plaza-mons.be/wp-content/uploads/2025/11/dossier-137-poster.jpg
END:VEVENT
BEGIN:VEVENT
DTSTART;TZID=Europe/Brussels:20251214T200000
DTEND;TZID=Europe/Brussels:20251214T224000
DTSTAMP:20260420T094032
CREATED:20251203T134805Z
LAST-MODIFIED:20260120T000010Z
UID:101269-1765742400-1765752000@plaza-mons.be
SUMMARY:Resurrection
DESCRIPTION:Pop & Clap ciné-club : Kill Bill: The Whole Bloody Affair\n\n\n\n\n\n			\n				Bande annonce\n			\n		 \n\n\n\n\n\n\n\n\n\n\n\n\n\n\n\n\n\n\n\n\n\n\n\n\n\n\n\n\n\n\n\n\n\n\n\n\n\n\n\n\n\n\n\n\n\n\n\n\n\n\n\n\n\nBande annonce
URL:https://plaza-mons.be/film/resurrection/2025-12-14
ATTACH;FMTTYPE=image/jpeg:https://plaza-mons.be/wp-content/uploads/2025/12/resurrection-2.jpeg
END:VEVENT
BEGIN:VEVENT
DTSTART;TZID=Europe/Brussels:20251214T203000
DTEND;TZID=Europe/Brussels:20251214T213000
DTSTAMP:20260420T094032
CREATED:20251128T163226Z
LAST-MODIFIED:20251230T000021Z
UID:99887-1765744200-1765747800@plaza-mons.be
SUMMARY:Les Baronnes
DESCRIPTION:Pop & Clap ciné-club : Kill Bill: The Whole Bloody Affair\n\n\n\n\n\n			\n				Bande annonce\n			\n		 \n\n\n\n\n\n\n\n\n\n\n\n\n\n\n\n\n\n\n\n\n\n\n\n\n\n\n\n\n\n\n\n\n\n\n\n\n\n\n\n\n\n\n\n\n\n\n\n\n\n\n\n\n\nBande annonce
URL:https://plaza-mons.be/film/les-baronnes/2025-12-14
ATTACH;FMTTYPE=image/jpeg:https://plaza-mons.be/wp-content/uploads/2025/10/15829-lesbaronnes-cineart-def2.jpg
END:VEVENT
BEGIN:VEVENT
DTSTART;TZID=Europe/Brussels:20251214T203000
DTEND;TZID=Europe/Brussels:20251214T221300
DTSTAMP:20260420T094033
CREATED:20251203T133318Z
LAST-MODIFIED:20251230T000011Z
UID:100730-1765744200-1765750380@plaza-mons.be
SUMMARY:Mother
DESCRIPTION:Pop & Clap ciné-club : Kill Bill: The Whole Bloody Affair\n\n\n\n\n\n			\n				Bande annonce\n			\n		 \n\n\n\n\n\n\n\n\n\n\n\n\n\n\n\n\n\n\n\n\n\n\n\n\n\n\n\n\n\n\n\n\n\n\n\n\n\n\n\n\n\n\n\n\n\n\n\n\n\n\n\n\n\nBande annonce
URL:https://plaza-mons.be/film/mother/2025-12-14
ATTACH;FMTTYPE=image/jpeg:https://plaza-mons.be/wp-content/uploads/2025/12/mother-be-original.jpg
END:VEVENT
BEGIN:VEVENT
DTSTART;TZID=Europe/Brussels:20251214T203000
DTEND;TZID=Europe/Brussels:20251214T223000
DTSTAMP:20260420T094033
CREATED:20251203T132601Z
LAST-MODIFIED:20251230T000034Z
UID:99858-1765744200-1765751400@plaza-mons.be
SUMMARY:Blue Velvet
DESCRIPTION:Pop & Clap ciné-club : Kill Bill: The Whole Bloody Affair\n\n\n\n\n\n			\n				Bande annonce\n			\n		 \n\n\n\n\n\n\n\n\n\n\n\n\n\n\n\n\n\n\n\n\n\n\n\n\n\n\n\n\n\n\n\n\n\n\n\n\n\n\n\n\n\n\n\n\n\n\n\n\n\n\n\n\n\nBande annonce
URL:https://plaza-mons.be/film/blue-velvet/2025-12-14
ATTACH;FMTTYPE=image/jpeg:https://plaza-mons.be/wp-content/uploads/2025/12/blue-velvet-poster.jpg
END:VEVENT
END:VCALENDAR