BEGIN:VCALENDAR
VERSION:2.0
PRODID:-//Plaza Arthouse Cinema - ECPv5.14.1//NONSGML v1.0//EN
CALSCALE:GREGORIAN
METHOD:PUBLISH
X-WR-CALNAME:Plaza Arthouse Cinema
X-ORIGINAL-URL:https://plaza-mons.be
X-WR-CALDESC:Events for Plaza Arthouse Cinema
REFRESH-INTERVAL;VALUE=DURATION:PT1H
X-Robots-Tag:noindex
X-PUBLISHED-TTL:PT1H
BEGIN:VTIMEZONE
TZID:Europe/Brussels
BEGIN:DAYLIGHT
TZOFFSETFROM:+0100
TZOFFSETTO:+0200
TZNAME:CEST
DTSTART:20250330T010000
END:DAYLIGHT
BEGIN:STANDARD
TZOFFSETFROM:+0200
TZOFFSETTO:+0100
TZNAME:CET
DTSTART:20251026T010000
END:STANDARD
END:VTIMEZONE
BEGIN:VEVENT
DTSTART;TZID=Europe/Brussels:20251208T150000
DTEND;TZID=Europe/Brussels:20251208T163700
DTSTAMP:20260425T044654
CREATED:20251203T133105Z
LAST-MODIFIED:20251223T000422Z
UID:99690-1765206000-1765211820@plaza-mons.be
SUMMARY:Des preuves  d’amour
DESCRIPTION:Super Charlie\n\n\n\n\n\n			\n				Bande annonce\n			\n		 \n\n\n\n\n\n\n\n\n\n\n\n\n\n\n\n\n\n\n\n\n\n\n\n\n\n\n\n\n\n\n\n\n\n\n\n\n\n\n\n\n\n\n\n\n\n\n\n\n\n\n\n\n\nBande annonce
URL:https://plaza-mons.be/film/des-preuves-damour-2/2025-12-08
ATTACH;FMTTYPE=image/jpeg:https://plaza-mons.be/wp-content/uploads/2025/12/des-preuves-damour-poster.jpg
END:VEVENT
BEGIN:VEVENT
DTSTART;TZID=Europe/Brussels:20251208T150000
DTEND;TZID=Europe/Brussels:20251208T170000
DTSTAMP:20260425T044654
CREATED:20251028T152700Z
LAST-MODIFIED:20251208T000010Z
UID:99627-1765206000-1765213200@plaza-mons.be
SUMMARY:La femme la plus riche du monde
DESCRIPTION:Super Charlie\n\n\n\n\n\n			\n				Bande annonce\n			\n		 \n\n\n\n\n\n\n\n\n\n\n\n\n\n\n\n\n\n\n\n\n\n\n\n\n\n\n\n\n\n\n\n\n\n\n\n\n\n\n\n\n\n\n\n\n\n\n\n\n\n\n\n\n\nBande annonce
URL:https://plaza-mons.be/film/98056/2025-12-08
ATTACH;FMTTYPE=image/jpeg:https://plaza-mons.be/wp-content/uploads/2025/10/la-femme-la-plus-riche-du-monde-poster.jpg
END:VEVENT
BEGIN:VEVENT
DTSTART;TZID=Europe/Brussels:20251208T150000
DTEND;TZID=Europe/Brussels:20251208T170000
DTSTAMP:20260425T044654
CREATED:20251203T132601Z
LAST-MODIFIED:20251230T000034Z
UID:99673-1765206000-1765213200@plaza-mons.be
SUMMARY:Blue Velvet
DESCRIPTION:Super Charlie\n\n\n\n\n\n			\n				Bande annonce\n			\n		 \n\n\n\n\n\n\n\n\n\n\n\n\n\n\n\n\n\n\n\n\n\n\n\n\n\n\n\n\n\n\n\n\n\n\n\n\n\n\n\n\n\n\n\n\n\n\n\n\n\n\n\n\n\nBande annonce
URL:https://plaza-mons.be/film/blue-velvet/2025-12-08
ATTACH;FMTTYPE=image/jpeg:https://plaza-mons.be/wp-content/uploads/2025/12/blue-velvet-poster.jpg
END:VEVENT
BEGIN:VEVENT
DTSTART;TZID=Europe/Brussels:20251208T150000
DTEND;TZID=Europe/Brussels:20251208T171900
DTSTAMP:20260425T044654
CREATED:20251028T153233Z
LAST-MODIFIED:20251215T000020Z
UID:99637-1765206000-1765214340@plaza-mons.be
SUMMARY:Les Aigles de la République
DESCRIPTION:Super Charlie\n\n\n\n\n\n			\n				Bande annonce\n			\n		 \n\n\n\n\n\n\n\n\n\n\n\n\n\n\n\n\n\n\n\n\n\n\n\n\n\n\n\n\n\n\n\n\n\n\n\n\n\n\n\n\n\n\n\n\n\n\n\n\n\n\n\n\n\nBande annonce
URL:https://plaza-mons.be/film/les-aigles-de-la-republique/2025-12-08
ATTACH;FMTTYPE=image/jpeg:https://plaza-mons.be/wp-content/uploads/2025/10/les-aigles-de-la-republique-poster.jpg
END:VEVENT
BEGIN:VEVENT
DTSTART;TZID=Europe/Brussels:20251208T180000
DTEND;TZID=Europe/Brussels:20251208T180000
DTSTAMP:20260425T044654
CREATED:20251028T153407Z
LAST-MODIFIED:20251209T000010Z
UID:99751-1765216800-1765216800@plaza-mons.be
SUMMARY:L'inconnu de la Grande Arche
DESCRIPTION:Super Charlie\n\n\n\n\n\n			\n				Bande annonce\n			\n		 \n\n\n\n\n\n\n\n\n\n\n\n\n\n\n\n\n\n\n\n\n\n\n\n\n\n\n\n\n\n\n\n\n\n\n\n\n\n\n\n\n\n\n\n\n\n\n\n\n\n\n\n\n\nBande annonce
URL:https://plaza-mons.be/film/linconnu-de-la-grande-arche/2025-12-08
ATTACH;FMTTYPE=image/webp:https://plaza-mons.be/wp-content/uploads/2025/10/aa.webp
END:VEVENT
BEGIN:VEVENT
DTSTART;TZID=Europe/Brussels:20251208T180000
DTEND;TZID=Europe/Brussels:20251208T194600
DTSTAMP:20260425T044654
CREATED:20251203T132810Z
LAST-MODIFIED:20251222T000213Z
UID:101208-1765216800-1765223160@plaza-mons.be
SUMMARY:Les rêveurs
DESCRIPTION:Super Charlie\n\n\n\n\n\n			\n				Bande annonce\n			\n		 \n\n\n\n\n\n\n\n\n\n\n\n\n\n\n\n\n\n\n\n\n\n\n\n\n\n\n\n\n\n\n\n\n\n\n\n\n\n\n\n\n\n\n\n\n\n\n\n\n\n\n\n\n\nBande annonce
URL:https://plaza-mons.be/film/les-reveurs/2025-12-08
ATTACH;FMTTYPE=image/jpeg:https://plaza-mons.be/wp-content/uploads/2025/12/les-reveurs-poster-1.jpg
END:VEVENT
BEGIN:VEVENT
DTSTART;TZID=Europe/Brussels:20251208T180000
DTEND;TZID=Europe/Brussels:20251208T195800
DTSTAMP:20260425T044654
CREATED:20251104T131222Z
LAST-MODIFIED:20251215T000005Z
UID:99664-1765216800-1765223880@plaza-mons.be
SUMMARY:Moi qui t'aimais
DESCRIPTION:Super Charlie\n\n\n\n\n\n			\n				Bande annonce\n			\n		 \n\n\n\n\n\n\n\n\n\n\n\n\n\n\n\n\n\n\n\n\n\n\n\n\n\n\n\n\n\n\n\n\n\n\n\n\n\n\n\n\n\n\n\n\n\n\n\n\n\n\n\n\n\nBande annonce
URL:https://plaza-mons.be/film/moi-qui-taimais/2025-12-08
ATTACH;FMTTYPE=image/jpeg:https://plaza-mons.be/wp-content/uploads/2025/11/moi-qui-taimais-poster.jpg
END:VEVENT
BEGIN:VEVENT
DTSTART;TZID=Europe/Brussels:20251208T183000
DTEND;TZID=Europe/Brussels:20251208T194800
DTSTAMP:20260425T044654
CREATED:20251028T153054Z
LAST-MODIFIED:20251209T000006Z
UID:99659-1765218600-1765223280@plaza-mons.be
SUMMARY:On vous croit
DESCRIPTION:Super Charlie\n\n\n\n\n\n			\n				Bande annonce\n			\n		 \n\n\n\n\n\n\n\n\n\n\n\n\n\n\n\n\n\n\n\n\n\n\n\n\n\n\n\n\n\n\n\n\n\n\n\n\n\n\n\n\n\n\n\n\n\n\n\n\n\n\n\n\n\nBande annonce
URL:https://plaza-mons.be/film/on-vous-croit/2025-12-08
ATTACH;FMTTYPE=image/jpeg:https://plaza-mons.be/wp-content/uploads/2025/10/on-vous-croit-poster-1.jpg
END:VEVENT
BEGIN:VEVENT
DTSTART;TZID=Europe/Brussels:20251208T203000
DTEND;TZID=Europe/Brussels:20251208T203000
DTSTAMP:20260425T044654
CREATED:20251104T130838Z
LAST-MODIFIED:20251230T000047Z
UID:99643-1765225800-1765225800@plaza-mons.be
SUMMARY:La voix de Hind Rajab
DESCRIPTION:Super Charlie\n\n\n\n\n\n			\n				Bande annonce\n			\n		 \n\n\n\n\n\n\n\n\n\n\n\n\n\n\n\n\n\n\n\n\n\n\n\n\n\n\n\n\n\n\n\n\n\n\n\n\n\n\n\n\n\n\n\n\n\n\n\n\n\n\n\n\n\nBande annonce
URL:https://plaza-mons.be/film/la-voix-de-hind-rajab/2025-12-08
ATTACH;FMTTYPE=image/jpeg:https://plaza-mons.be/wp-content/uploads/2025/11/la-voix-de-hind-rajab-poster.jpg
END:VEVENT
BEGIN:VEVENT
DTSTART;TZID=Europe/Brussels:20251208T203000
DTEND;TZID=Europe/Brussels:20251208T213000
DTSTAMP:20260425T044654
CREATED:20251128T163226Z
LAST-MODIFIED:20251230T000020Z
UID:99695-1765225800-1765229400@plaza-mons.be
SUMMARY:Les Baronnes
DESCRIPTION:Super Charlie\n\n\n\n\n\n			\n				Bande annonce\n			\n		 \n\n\n\n\n\n\n\n\n\n\n\n\n\n\n\n\n\n\n\n\n\n\n\n\n\n\n\n\n\n\n\n\n\n\n\n\n\n\n\n\n\n\n\n\n\n\n\n\n\n\n\n\n\nBande annonce
URL:https://plaza-mons.be/film/les-baronnes/2025-12-08
ATTACH;FMTTYPE=image/jpeg:https://plaza-mons.be/wp-content/uploads/2025/10/15829-lesbaronnes-cineart-def2.jpg
END:VEVENT
BEGIN:VEVENT
DTSTART;TZID=Europe/Brussels:20251208T203000
DTEND;TZID=Europe/Brussels:20251208T222600
DTSTAMP:20260425T044654
CREATED:20251104T131006Z
LAST-MODIFIED:20260106T000009Z
UID:99650-1765225800-1765232760@plaza-mons.be
SUMMARY:Dossier 137
DESCRIPTION:Super Charlie\n\n\n\n\n\n			\n				Bande annonce\n			\n		 \n\n\n\n\n\n\n\n\n\n\n\n\n\n\n\n\n\n\n\n\n\n\n\n\n\n\n\n\n\n\n\n\n\n\n\n\n\n\n\n\n\n\n\n\n\n\n\n\n\n\n\n\n\nBande annonce
URL:https://plaza-mons.be/film/dossier-137/2025-12-08
ATTACH;FMTTYPE=image/jpeg:https://plaza-mons.be/wp-content/uploads/2025/11/dossier-137-poster.jpg
END:VEVENT
BEGIN:VEVENT
DTSTART;TZID=Europe/Brussels:20251208T203000
DTEND;TZID=Europe/Brussels:20251208T222600
DTSTAMP:20260425T044654
CREATED:20251104T131349Z
LAST-MODIFIED:20251208T000034Z
UID:99655-1765225800-1765232760@plaza-mons.be
SUMMARY:Köln 75
DESCRIPTION:Super Charlie\n\n\n\n\n\n			\n				Bande annonce\n			\n		 \n\n\n\n\n\n\n\n\n\n\n\n\n\n\n\n\n\n\n\n\n\n\n\n\n\n\n\n\n\n\n\n\n\n\n\n\n\n\n\n\n\n\n\n\n\n\n\n\n\n\n\n\n\nBande annonce
URL:https://plaza-mons.be/film/koln-75/2025-12-08
ATTACH;FMTTYPE=image/jpeg:https://plaza-mons.be/wp-content/uploads/2025/11/koln75-poster-def-be-original.jpg
END:VEVENT
END:VCALENDAR