BEGIN:VCALENDAR
VERSION:2.0
PRODID:-//Plaza Arthouse Cinema - ECPv5.14.1//NONSGML v1.0//EN
CALSCALE:GREGORIAN
METHOD:PUBLISH
X-WR-CALNAME:Plaza Arthouse Cinema
X-ORIGINAL-URL:https://plaza-mons.be
X-WR-CALDESC:Events for Plaza Arthouse Cinema
REFRESH-INTERVAL;VALUE=DURATION:PT1H
X-Robots-Tag:noindex
X-PUBLISHED-TTL:PT1H
BEGIN:VTIMEZONE
TZID:Europe/Brussels
BEGIN:DAYLIGHT
TZOFFSETFROM:+0100
TZOFFSETTO:+0200
TZNAME:CEST
DTSTART:20250330T010000
END:DAYLIGHT
BEGIN:STANDARD
TZOFFSETFROM:+0200
TZOFFSETTO:+0100
TZNAME:CET
DTSTART:20251026T010000
END:STANDARD
END:VTIMEZONE
BEGIN:VEVENT
DTSTART;TZID=Europe/Brussels:20251204T150000
DTEND;TZID=Europe/Brussels:20251204T150000
DTSTAMP:20260425T123816
CREATED:20251203T132810Z
LAST-MODIFIED:20251222T000211Z
UID:99675-1764860400-1764860400@plaza-mons.be
SUMMARY:Les rêveurs
DESCRIPTION:Super Charlie\n\n\n\n\n\n			\n				Bande annonce\n			\n		 \n\n\n\n\n\n\n\n\n\n\n\n\n\n\n\n\n\n\n\n\n\n\n\n\n\n\n\n\n\n\n\n\n\n\n\n\n\n\n\n\n\n\n\n\n\n\n\n\n\n\n\n\n\nBande annonce
URL:https://plaza-mons.be/film/les-reveurs/2025-12-04
ATTACH;FMTTYPE=image/jpeg:https://plaza-mons.be/wp-content/uploads/2025/12/les-reveurs-poster-1.jpg
END:VEVENT
BEGIN:VEVENT
DTSTART;TZID=Europe/Brussels:20251204T150000
DTEND;TZID=Europe/Brussels:20251204T163700
DTSTAMP:20260425T123816
CREATED:20251203T133105Z
LAST-MODIFIED:20251223T000422Z
UID:99686-1764860400-1764866220@plaza-mons.be
SUMMARY:Des preuves  d’amour
DESCRIPTION:Super Charlie\n\n\n\n\n\n			\n				Bande annonce\n			\n		 \n\n\n\n\n\n\n\n\n\n\n\n\n\n\n\n\n\n\n\n\n\n\n\n\n\n\n\n\n\n\n\n\n\n\n\n\n\n\n\n\n\n\n\n\n\n\n\n\n\n\n\n\n\nBande annonce
URL:https://plaza-mons.be/film/des-preuves-damour-2/2025-12-04
ATTACH;FMTTYPE=image/jpeg:https://plaza-mons.be/wp-content/uploads/2025/12/des-preuves-damour-poster.jpg
END:VEVENT
BEGIN:VEVENT
DTSTART;TZID=Europe/Brussels:20251204T150000
DTEND;TZID=Europe/Brussels:20251204T165600
DTSTAMP:20260425T123816
CREATED:20251104T131349Z
LAST-MODIFIED:20251208T000034Z
UID:99652-1764860400-1764867360@plaza-mons.be
SUMMARY:Köln 75
DESCRIPTION:Super Charlie\n\n\n\n\n\n			\n				Bande annonce\n			\n		 \n\n\n\n\n\n\n\n\n\n\n\n\n\n\n\n\n\n\n\n\n\n\n\n\n\n\n\n\n\n\n\n\n\n\n\n\n\n\n\n\n\n\n\n\n\n\n\n\n\n\n\n\n\nBande annonce
URL:https://plaza-mons.be/film/koln-75/2025-12-04
ATTACH;FMTTYPE=image/jpeg:https://plaza-mons.be/wp-content/uploads/2025/11/koln75-poster-def-be-original.jpg
END:VEVENT
BEGIN:VEVENT
DTSTART;TZID=Europe/Brussels:20251204T150000
DTEND;TZID=Europe/Brussels:20251204T171900
DTSTAMP:20260425T123816
CREATED:20251028T153233Z
LAST-MODIFIED:20251215T000019Z
UID:99634-1764860400-1764868740@plaza-mons.be
SUMMARY:Les Aigles de la République
DESCRIPTION:Super Charlie\n\n\n\n\n\n			\n				Bande annonce\n			\n		 \n\n\n\n\n\n\n\n\n\n\n\n\n\n\n\n\n\n\n\n\n\n\n\n\n\n\n\n\n\n\n\n\n\n\n\n\n\n\n\n\n\n\n\n\n\n\n\n\n\n\n\n\n\nBande annonce
URL:https://plaza-mons.be/film/les-aigles-de-la-republique/2025-12-04
ATTACH;FMTTYPE=image/jpeg:https://plaza-mons.be/wp-content/uploads/2025/10/les-aigles-de-la-republique-poster.jpg
END:VEVENT
BEGIN:VEVENT
DTSTART;TZID=Europe/Brussels:20251204T180000
DTEND;TZID=Europe/Brussels:20251204T180000
DTSTAMP:20260425T123816
CREATED:20251028T153407Z
LAST-MODIFIED:20251209T000009Z
UID:99748-1764871200-1764871200@plaza-mons.be
SUMMARY:L'inconnu de la Grande Arche
DESCRIPTION:Super Charlie\n\n\n\n\n\n			\n				Bande annonce\n			\n		 \n\n\n\n\n\n\n\n\n\n\n\n\n\n\n\n\n\n\n\n\n\n\n\n\n\n\n\n\n\n\n\n\n\n\n\n\n\n\n\n\n\n\n\n\n\n\n\n\n\n\n\n\n\nBande annonce
URL:https://plaza-mons.be/film/linconnu-de-la-grande-arche/2025-12-04
ATTACH;FMTTYPE=image/webp:https://plaza-mons.be/wp-content/uploads/2025/10/aa.webp
END:VEVENT
BEGIN:VEVENT
DTSTART;TZID=Europe/Brussels:20251204T180000
DTEND;TZID=Europe/Brussels:20251204T190000
DTSTAMP:20260425T123816
CREATED:20251128T163226Z
LAST-MODIFIED:20251230T000018Z
UID:99691-1764871200-1764874800@plaza-mons.be
SUMMARY:Les Baronnes
DESCRIPTION:Super Charlie\n\n\n\n\n\n			\n				Bande annonce\n			\n		 \n\n\n\n\n\n\n\n\n\n\n\n\n\n\n\n\n\n\n\n\n\n\n\n\n\n\n\n\n\n\n\n\n\n\n\n\n\n\n\n\n\n\n\n\n\n\n\n\n\n\n\n\n\nBande annonce
URL:https://plaza-mons.be/film/les-baronnes/2025-12-04
ATTACH;FMTTYPE=image/jpeg:https://plaza-mons.be/wp-content/uploads/2025/10/15829-lesbaronnes-cineart-def2.jpg
END:VEVENT
BEGIN:VEVENT
DTSTART;TZID=Europe/Brussels:20251204T180000
DTEND;TZID=Europe/Brussels:20251204T191800
DTSTAMP:20260425T123816
CREATED:20251028T153054Z
LAST-MODIFIED:20251209T000006Z
UID:99657-1764871200-1764875880@plaza-mons.be
SUMMARY:On vous croit
DESCRIPTION:Super Charlie\n\n\n\n\n\n			\n				Bande annonce\n			\n		 \n\n\n\n\n\n\n\n\n\n\n\n\n\n\n\n\n\n\n\n\n\n\n\n\n\n\n\n\n\n\n\n\n\n\n\n\n\n\n\n\n\n\n\n\n\n\n\n\n\n\n\n\n\nBande annonce
URL:https://plaza-mons.be/film/on-vous-croit/2025-12-04
ATTACH;FMTTYPE=image/jpeg:https://plaza-mons.be/wp-content/uploads/2025/10/on-vous-croit-poster-1.jpg
END:VEVENT
BEGIN:VEVENT
DTSTART;TZID=Europe/Brussels:20251204T183000
DTEND;TZID=Europe/Brussels:20251204T183000
DTSTAMP:20260425T123816
CREATED:20251104T130838Z
LAST-MODIFIED:20251230T000047Z
UID:99640-1764873000-1764873000@plaza-mons.be
SUMMARY:La voix de Hind Rajab
DESCRIPTION:Super Charlie\n\n\n\n\n\n			\n				Bande annonce\n			\n		 \n\n\n\n\n\n\n\n\n\n\n\n\n\n\n\n\n\n\n\n\n\n\n\n\n\n\n\n\n\n\n\n\n\n\n\n\n\n\n\n\n\n\n\n\n\n\n\n\n\n\n\n\n\nBande annonce
URL:https://plaza-mons.be/film/la-voix-de-hind-rajab/2025-12-04
ATTACH;FMTTYPE=image/jpeg:https://plaza-mons.be/wp-content/uploads/2025/11/la-voix-de-hind-rajab-poster.jpg
END:VEVENT
BEGIN:VEVENT
DTSTART;TZID=Europe/Brussels:20251204T203000
DTEND;TZID=Europe/Brussels:20251204T203000
DTSTAMP:20260425T123816
CREATED:20251203T134031Z
LAST-MODIFIED:20251204T000039Z
UID:99563-1764880200-1764880200@plaza-mons.be
SUMMARY:Avant Première: Father Mother Sister Brother   
DESCRIPTION:Super Charlie\n\n\n\n\n\n			\n				Bande annonce\n			\n		 \n\n\n\n\n\n\n\n\n\n\n\n\n\n\n\n\n\n\n\n\n\n\n\n\n\n\n\n\n\n\n\n\n\n\n\n\n\n\n\n\n\n\n\n\n\n\n\n\n\n\n\n\n\nBande annonce
URL:https://plaza-mons.be/film/avant-premiere-father-mother-sister-brother/2025-12-04
CATEGORIES:Avant-première
ATTACH;FMTTYPE=image/jpeg:https://plaza-mons.be/wp-content/uploads/2025/12/fa.jpg
END:VEVENT
BEGIN:VEVENT
DTSTART;TZID=Europe/Brussels:20251204T203000
DTEND;TZID=Europe/Brussels:20251204T213000
DTSTAMP:20260425T123816
CREATED:20251104T130732Z
LAST-MODIFIED:20251209T000014Z
UID:99628-1764880200-1764883800@plaza-mons.be
SUMMARY:Les braises
DESCRIPTION:Super Charlie\n\n\n\n\n\n			\n				Bande annonce\n			\n		 \n\n\n\n\n\n\n\n\n\n\n\n\n\n\n\n\n\n\n\n\n\n\n\n\n\n\n\n\n\n\n\n\n\n\n\n\n\n\n\n\n\n\n\n\n\n\n\n\n\n\n\n\n\nBande annonce
URL:https://plaza-mons.be/film/les-braises/2025-12-04
ATTACH;FMTTYPE=image/jpeg:https://plaza-mons.be/wp-content/uploads/2025/11/les-braises-poster.jpg
END:VEVENT
BEGIN:VEVENT
DTSTART;TZID=Europe/Brussels:20251204T203000
DTEND;TZID=Europe/Brussels:20251204T222200
DTSTAMP:20260425T123816
CREATED:20251203T132945Z
LAST-MODIFIED:20251230T000346Z
UID:99681-1764880200-1764886920@plaza-mons.be
SUMMARY:Relay
DESCRIPTION:Super Charlie\n\n\n\n\n\n			\n				Bande annonce\n			\n		 \n\n\n\n\n\n\n\n\n\n\n\n\n\n\n\n\n\n\n\n\n\n\n\n\n\n\n\n\n\n\n\n\n\n\n\n\n\n\n\n\n\n\n\n\n\n\n\n\n\n\n\n\n\nBande annonce
URL:https://plaza-mons.be/film/relay/2025-12-04
ATTACH;FMTTYPE=image/jpeg:https://plaza-mons.be/wp-content/uploads/2025/12/relay-poster.jpg
END:VEVENT
BEGIN:VEVENT
DTSTART;TZID=Europe/Brussels:20251204T203000
DTEND;TZID=Europe/Brussels:20251204T222600
DTSTAMP:20260425T123816
CREATED:20251104T131006Z
LAST-MODIFIED:20260106T000008Z
UID:99646-1764880200-1764887160@plaza-mons.be
SUMMARY:Dossier 137
DESCRIPTION:Super Charlie\n\n\n\n\n\n			\n				Bande annonce\n			\n		 \n\n\n\n\n\n\n\n\n\n\n\n\n\n\n\n\n\n\n\n\n\n\n\n\n\n\n\n\n\n\n\n\n\n\n\n\n\n\n\n\n\n\n\n\n\n\n\n\n\n\n\n\n\nBande annonce
URL:https://plaza-mons.be/film/dossier-137/2025-12-04
ATTACH;FMTTYPE=image/jpeg:https://plaza-mons.be/wp-content/uploads/2025/11/dossier-137-poster.jpg
END:VEVENT
END:VCALENDAR