BEGIN:VCALENDAR
VERSION:2.0
PRODID:-//Plaza Arthouse Cinema - ECPv5.14.1//NONSGML v1.0//EN
CALSCALE:GREGORIAN
METHOD:PUBLISH
X-WR-CALNAME:Plaza Arthouse Cinema
X-ORIGINAL-URL:https://plaza-mons.be
X-WR-CALDESC:Events for Plaza Arthouse Cinema
REFRESH-INTERVAL;VALUE=DURATION:PT1H
X-Robots-Tag:noindex
X-PUBLISHED-TTL:PT1H
BEGIN:VTIMEZONE
TZID:Europe/Brussels
BEGIN:DAYLIGHT
TZOFFSETFROM:+0100
TZOFFSETTO:+0200
TZNAME:CEST
DTSTART:20250330T010000
END:DAYLIGHT
BEGIN:STANDARD
TZOFFSETFROM:+0200
TZOFFSETTO:+0100
TZNAME:CET
DTSTART:20251026T010000
END:STANDARD
END:VTIMEZONE
BEGIN:VEVENT
DTSTART;TZID=Europe/Brussels:20251130T110000
DTEND;TZID=Europe/Brussels:20251130T113500
DTSTAMP:20260425T035429
CREATED:20251104T131437Z
LAST-MODIFIED:20260104T000016Z
UID:98988-1764500400-1764502500@plaza-mons.be
SUMMARY:Premières neiges
DESCRIPTION:Super Charlie\n\n\n\n\n\n			\n				Bande annonce\n			\n		 \n\n\n\n\n\n\n\n\n\n\n\n\n\n\n\n\n\n\n\n\n\n\n\n\n\n\n\n\n\n\n\n\n\n\n\n\n\n\n\n\n\n\n\n\n\n\n\n\n\n\n\n\n\nBande annonce
URL:https://plaza-mons.be/film/premieres-neiges/2025-11-30
ATTACH;FMTTYPE=image/jpeg:https://plaza-mons.be/wp-content/uploads/2025/11/premieres-neiges-poster.jpg
END:VEVENT
BEGIN:VEVENT
DTSTART;TZID=Europe/Brussels:20251130T110000
DTEND;TZID=Europe/Brussels:20251130T122800
DTSTAMP:20260425T035429
CREATED:20251027T151438Z
LAST-MODIFIED:20251222T000229Z
UID:98236-1764500400-1764505680@plaza-mons.be
SUMMARY:Arco
DESCRIPTION:Super Charlie\n\n\n\n\n\n			\n				Bande annonce\n			\n		 \n\n\n\n\n\n\n\n\n\n\n\n\n\n\n\n\n\n\n\n\n\n\n\n\n\n\n\n\n\n\n\n\n\n\n\n\n\n\n\n\n\n\n\n\n\n\n\n\n\n\n\n\n\nBande annonce\n\n\n\n\n\n\n\nhttps://www.youtube.com/watch?v=sob8PB4DddM&list=PL-G2_HG1UM8j8ZeqI-EZ0bvEItkGDcmpz
URL:https://plaza-mons.be/film/arco/2025-11-30
ATTACH;FMTTYPE=image/jpeg:https://plaza-mons.be/wp-content/uploads/2025/10/arco-poster.jpg
END:VEVENT
BEGIN:VEVENT
DTSTART;TZID=Europe/Brussels:20251130T110000
DTEND;TZID=Europe/Brussels:20251130T124000
DTSTAMP:20260425T035429
CREATED:20251002T134659Z
LAST-MODIFIED:20251128T164204Z
UID:98307-1764500400-1764506400@plaza-mons.be
SUMMARY:One to One :  John & Yoko - Rock & Roll Movie Day
DESCRIPTION:Super Charlie\n\n\n\n\n\n			\n				Bande annonce\n			\n		 \n\n\n\n\n\n\n\n\n\n\n\n\n\n\n\n\n\n\n\n\n\n\n\n\n\n\n\n\n\n\n\n\n\n\n\n\n\n\n\n\n\n\n\n\n\n\n\n\n\n\n\n\n\nBande annonce
URL:https://plaza-mons.be/film/one-to-one-john-yoko-rock-roll-movie-day/2025-11-30
CATEGORIES:Documentaire
ATTACH;FMTTYPE=image/jpeg:https://plaza-mons.be/wp-content/uploads/2025/10/one-to-one-john-yoko-poster.jpg
END:VEVENT
BEGIN:VEVENT
DTSTART;TZID=Europe/Brussels:20251130T110000
DTEND;TZID=Europe/Brussels:20251130T124000
DTSTAMP:20260425T035429
CREATED:20251104T130551Z
LAST-MODIFIED:20251201T000012Z
UID:99615-1764500400-1764506400@plaza-mons.be
SUMMARY:One to one: John & Yoko
DESCRIPTION:Super Charlie\n\n\n\n\n\n			\n				Bande annonce\n			\n		 \n\n\n\n\n\n\n\n\n\n\n\n\n\n\n\n\n\n\n\n\n\n\n\n\n\n\n\n\n\n\n\n\n\n\n\n\n\n\n\n\n\n\n\n\n\n\n\n\n\n\n\n\n\nBande annonce
URL:https://plaza-mons.be/film/one-to-one-john-yoko/2025-11-30
ATTACH;FMTTYPE=image/jpeg:https://plaza-mons.be/wp-content/uploads/2025/10/one-to-one-john-yoko-poster-1.jpg
END:VEVENT
BEGIN:VEVENT
DTSTART;TZID=Europe/Brussels:20251130T110000
DTEND;TZID=Europe/Brussels:20251130T130000
DTSTAMP:20260425T035429
CREATED:20251027T151756Z
LAST-MODIFIED:20251202T000011Z
UID:98257-1764500400-1764507600@plaza-mons.be
SUMMARY:L'étranger
DESCRIPTION:Super Charlie\n\n\n\n\n\n			\n				Bande annonce\n			\n		 \n\n\n\n\n\n\n\n\n\n\n\n\n\n\n\n\n\n\n\n\n\n\n\n\n\n\n\n\n\n\n\n\n\n\n\n\n\n\n\n\n\n\n\n\n\n\n\n\n\n\n\n\n\nBande annonce
URL:https://plaza-mons.be/film/letranger/2025-11-30
ATTACH;FMTTYPE=image/jpeg:https://plaza-mons.be/wp-content/uploads/2025/10/letranger-poster.jpg
END:VEVENT
BEGIN:VEVENT
DTSTART;TZID=Europe/Brussels:20251130T140000
DTEND;TZID=Europe/Brussels:20251130T140000
DTSTAMP:20260425T035429
CREATED:20251028T153407Z
LAST-MODIFIED:20251209T000009Z
UID:98966-1764511200-1764511200@plaza-mons.be
SUMMARY:L'inconnu de la Grande Arche
DESCRIPTION:Super Charlie\n\n\n\n\n\n			\n				Bande annonce\n			\n		 \n\n\n\n\n\n\n\n\n\n\n\n\n\n\n\n\n\n\n\n\n\n\n\n\n\n\n\n\n\n\n\n\n\n\n\n\n\n\n\n\n\n\n\n\n\n\n\n\n\n\n\n\n\nBande annonce
URL:https://plaza-mons.be/film/linconnu-de-la-grande-arche/2025-11-30
ATTACH;FMTTYPE=image/webp:https://plaza-mons.be/wp-content/uploads/2025/10/aa.webp
END:VEVENT
BEGIN:VEVENT
DTSTART;TZID=Europe/Brussels:20251130T140000
DTEND;TZID=Europe/Brussels:20251130T152800
DTSTAMP:20260425T035429
CREATED:20251027T151438Z
LAST-MODIFIED:20251222T000229Z
UID:98366-1764511200-1764516480@plaza-mons.be
SUMMARY:Arco
DESCRIPTION:Super Charlie\n\n\n\n\n\n			\n				Bande annonce\n			\n		 \n\n\n\n\n\n\n\n\n\n\n\n\n\n\n\n\n\n\n\n\n\n\n\n\n\n\n\n\n\n\n\n\n\n\n\n\n\n\n\n\n\n\n\n\n\n\n\n\n\n\n\n\n\nBande annonce\n\n\n\n\n\n\n\nhttps://www.youtube.com/watch?v=sob8PB4DddM&list=PL-G2_HG1UM8j8ZeqI-EZ0bvEItkGDcmpz
URL:https://plaza-mons.be/film/arco/2025-11-30
ATTACH;FMTTYPE=image/jpeg:https://plaza-mons.be/wp-content/uploads/2025/10/arco-poster.jpg
END:VEVENT
BEGIN:VEVENT
DTSTART;TZID=Europe/Brussels:20251130T140000
DTEND;TZID=Europe/Brussels:20251130T155600
DTSTAMP:20260425T035429
CREATED:20251104T131349Z
LAST-MODIFIED:20251208T000034Z
UID:98978-1764511200-1764518160@plaza-mons.be
SUMMARY:Köln 75
DESCRIPTION:Super Charlie\n\n\n\n\n\n			\n				Bande annonce\n			\n		 \n\n\n\n\n\n\n\n\n\n\n\n\n\n\n\n\n\n\n\n\n\n\n\n\n\n\n\n\n\n\n\n\n\n\n\n\n\n\n\n\n\n\n\n\n\n\n\n\n\n\n\n\n\nBande annonce
URL:https://plaza-mons.be/film/koln-75/2025-11-30
ATTACH;FMTTYPE=image/jpeg:https://plaza-mons.be/wp-content/uploads/2025/11/koln75-poster-def-be-original.jpg
END:VEVENT
BEGIN:VEVENT
DTSTART;TZID=Europe/Brussels:20251130T150000
DTEND;TZID=Europe/Brussels:20251130T171900
DTSTAMP:20260425T035429
CREATED:20251028T153233Z
LAST-MODIFIED:20251215T000018Z
UID:98960-1764514800-1764523140@plaza-mons.be
SUMMARY:Les Aigles de la République
DESCRIPTION:Super Charlie\n\n\n\n\n\n			\n				Bande annonce\n			\n		 \n\n\n\n\n\n\n\n\n\n\n\n\n\n\n\n\n\n\n\n\n\n\n\n\n\n\n\n\n\n\n\n\n\n\n\n\n\n\n\n\n\n\n\n\n\n\n\n\n\n\n\n\n\nBande annonce
URL:https://plaza-mons.be/film/les-aigles-de-la-republique/2025-11-30
ATTACH;FMTTYPE=image/jpeg:https://plaza-mons.be/wp-content/uploads/2025/10/les-aigles-de-la-republique-poster.jpg
END:VEVENT
BEGIN:VEVENT
DTSTART;TZID=Europe/Brussels:20251130T160000
DTEND;TZID=Europe/Brussels:20251130T173600
DTSTAMP:20260425T035429
CREATED:20251015T085249Z
LAST-MODIFIED:20251130T000026Z
UID:97730-1764518400-1764524160@plaza-mons.be
SUMMARY:Les baronnes - Avant-première
DESCRIPTION:Super Charlie\n\n\n\n\n\n			\n				Bande annonce\n			\n		 \n\n\n\n\n\n\n\n\n\n\n\n\n\n\n\n\n\n\n\n\n\n\n\n\n\n\n\n\n\n\n\n\n\n\n\n\n\n\n\n\n\n\n\n\n\n\n\n\n\n\n\n\n\nBande annonce
URL:https://plaza-mons.be/film/les-baronnes-avant-premiere/2025-11-30
CATEGORIES:Comédie dramatique
ATTACH;FMTTYPE=image/jpeg:https://plaza-mons.be/wp-content/uploads/2025/10/15829-lesbaronnes-cineart-def2.jpg
END:VEVENT
BEGIN:VEVENT
DTSTART;TZID=Europe/Brussels:20251130T163000
DTEND;TZID=Europe/Brussels:20251130T170500
DTSTAMP:20260425T035429
CREATED:20251104T131437Z
LAST-MODIFIED:20260104T000016Z
UID:98989-1764520200-1764522300@plaza-mons.be
SUMMARY:Premières neiges
DESCRIPTION:Super Charlie\n\n\n\n\n\n			\n				Bande annonce\n			\n		 \n\n\n\n\n\n\n\n\n\n\n\n\n\n\n\n\n\n\n\n\n\n\n\n\n\n\n\n\n\n\n\n\n\n\n\n\n\n\n\n\n\n\n\n\n\n\n\n\n\n\n\n\n\nBande annonce
URL:https://plaza-mons.be/film/premieres-neiges/2025-11-30/2
ATTACH;FMTTYPE=image/jpeg:https://plaza-mons.be/wp-content/uploads/2025/11/premieres-neiges-poster.jpg
END:VEVENT
BEGIN:VEVENT
DTSTART;TZID=Europe/Brussels:20251130T163000
DTEND;TZID=Europe/Brussels:20251130T174800
DTSTAMP:20260425T035429
CREATED:20251028T153054Z
LAST-MODIFIED:20251209T000005Z
UID:98418-1764520200-1764524880@plaza-mons.be
SUMMARY:On vous croit
DESCRIPTION:Super Charlie\n\n\n\n\n\n			\n				Bande annonce\n			\n		 \n\n\n\n\n\n\n\n\n\n\n\n\n\n\n\n\n\n\n\n\n\n\n\n\n\n\n\n\n\n\n\n\n\n\n\n\n\n\n\n\n\n\n\n\n\n\n\n\n\n\n\n\n\nBande annonce
URL:https://plaza-mons.be/film/on-vous-croit/2025-11-30
ATTACH;FMTTYPE=image/jpeg:https://plaza-mons.be/wp-content/uploads/2025/10/on-vous-croit-poster-1.jpg
END:VEVENT
BEGIN:VEVENT
DTSTART;TZID=Europe/Brussels:20251130T174500
DTEND;TZID=Europe/Brussels:20251130T200500
DTSTAMP:20260425T035429
CREATED:20251028T152354Z
LAST-MODIFIED:20251202T000006Z
UID:98947-1764524700-1764533100@plaza-mons.be
SUMMARY:Dune
DESCRIPTION:Super Charlie
URL:https://plaza-mons.be/film/dune/2025-11-30
ATTACH;FMTTYPE=image/jpeg:https://plaza-mons.be/wp-content/uploads/2025/10/dune-poster.jpeg
END:VEVENT
BEGIN:VEVENT
DTSTART;TZID=Europe/Brussels:20251130T180000
DTEND;TZID=Europe/Brussels:20251130T190000
DTSTAMP:20260425T035429
CREATED:20251104T130732Z
LAST-MODIFIED:20251209T000014Z
UID:98972-1764525600-1764529200@plaza-mons.be
SUMMARY:Les braises
DESCRIPTION:Super Charlie\n\n\n\n\n\n			\n				Bande annonce\n			\n		 \n\n\n\n\n\n\n\n\n\n\n\n\n\n\n\n\n\n\n\n\n\n\n\n\n\n\n\n\n\n\n\n\n\n\n\n\n\n\n\n\n\n\n\n\n\n\n\n\n\n\n\n\n\nBande annonce
URL:https://plaza-mons.be/film/les-braises/2025-11-30
ATTACH;FMTTYPE=image/jpeg:https://plaza-mons.be/wp-content/uploads/2025/11/les-braises-poster.jpg
END:VEVENT
BEGIN:VEVENT
DTSTART;TZID=Europe/Brussels:20251130T181500
DTEND;TZID=Europe/Brussels:20251130T201500
DTSTAMP:20260425T035429
CREATED:20251028T152700Z
LAST-MODIFIED:20251208T000009Z
UID:98390-1764526500-1764533700@plaza-mons.be
SUMMARY:La femme la plus riche du monde
DESCRIPTION:Super Charlie\n\n\n\n\n\n			\n				Bande annonce\n			\n		 \n\n\n\n\n\n\n\n\n\n\n\n\n\n\n\n\n\n\n\n\n\n\n\n\n\n\n\n\n\n\n\n\n\n\n\n\n\n\n\n\n\n\n\n\n\n\n\n\n\n\n\n\n\nBande annonce
URL:https://plaza-mons.be/film/98056/2025-11-30
ATTACH;FMTTYPE=image/jpeg:https://plaza-mons.be/wp-content/uploads/2025/10/la-femme-la-plus-riche-du-monde-poster.jpg
END:VEVENT
BEGIN:VEVENT
DTSTART;TZID=Europe/Brussels:20251130T184500
DTEND;TZID=Europe/Brussels:20251130T184500
DTSTAMP:20260425T035429
CREATED:20251104T130838Z
LAST-MODIFIED:20251230T000046Z
UID:98984-1764528300-1764528300@plaza-mons.be
SUMMARY:La voix de Hind Rajab
DESCRIPTION:Super Charlie\n\n\n\n\n\n			\n				Bande annonce\n			\n		 \n\n\n\n\n\n\n\n\n\n\n\n\n\n\n\n\n\n\n\n\n\n\n\n\n\n\n\n\n\n\n\n\n\n\n\n\n\n\n\n\n\n\n\n\n\n\n\n\n\n\n\n\n\nBande annonce
URL:https://plaza-mons.be/film/la-voix-de-hind-rajab/2025-11-30
ATTACH;FMTTYPE=image/jpeg:https://plaza-mons.be/wp-content/uploads/2025/11/la-voix-de-hind-rajab-poster.jpg
END:VEVENT
BEGIN:VEVENT
DTSTART;TZID=Europe/Brussels:20251130T203000
DTEND;TZID=Europe/Brussels:20251130T222600
DTSTAMP:20260425T035429
CREATED:20251028T152554Z
LAST-MODIFIED:20251201T000015Z
UID:98952-1764534600-1764541560@plaza-mons.be
SUMMARY:The Last Viking
DESCRIPTION:Super Charlie\n\n\n\n\n\n			\n				Bande annonce\n			\n		 \n\n\n\n\n\n\n\n\n\n\n\n\n\n\n\n\n\n\n\n\n\n\n\n\n\n\n\n\n\n\n\n\n\n\n\n\n\n\n\n\n\n\n\n\n\n\n\n\n\n\n\n\n\nBande annonce
URL:https://plaza-mons.be/film/the-last-viking/2025-11-30
ATTACH;FMTTYPE=image/jpeg:https://plaza-mons.be/wp-content/uploads/2025/10/the-last-viking-poster.jpg
END:VEVENT
BEGIN:VEVENT
DTSTART;TZID=Europe/Brussels:20251130T203000
DTEND;TZID=Europe/Brussels:20251130T223000
DTSTAMP:20260425T035429
CREATED:20251027T151632Z
LAST-MODIFIED:20251202T000019Z
UID:98941-1764534600-1764541800@plaza-mons.be
SUMMARY:Bugonia
DESCRIPTION:Super Charlie\n\n\n\n\n\n			\n				Bande annonce\n			\n		 \n\n\n\n\n\n\n\n\n\n\n\n\n\n\n\n\n\n\n\n\n\n\n\n\n\n\n\n\n\n\n\n\n\n\n\n\n\n\n\n\n\n\n\n\n\n\n\n\n\n\n\n\n\nBande annonce
URL:https://plaza-mons.be/film/bugonia/2025-11-30
ATTACH;FMTTYPE=image/jpeg:https://plaza-mons.be/wp-content/uploads/2025/10/bugonia-poster.jpg
END:VEVENT
BEGIN:VEVENT
DTSTART;TZID=Europe/Brussels:20251130T204500
DTEND;TZID=Europe/Brussels:20251130T224100
DTSTAMP:20260425T035429
CREATED:20251104T131006Z
LAST-MODIFIED:20260106T000008Z
UID:98993-1764535500-1764542460@plaza-mons.be
SUMMARY:Dossier 137
DESCRIPTION:Super Charlie\n\n\n\n\n\n			\n				Bande annonce\n			\n		 \n\n\n\n\n\n\n\n\n\n\n\n\n\n\n\n\n\n\n\n\n\n\n\n\n\n\n\n\n\n\n\n\n\n\n\n\n\n\n\n\n\n\n\n\n\n\n\n\n\n\n\n\n\nBande annonce
URL:https://plaza-mons.be/film/dossier-137/2025-11-30
ATTACH;FMTTYPE=image/jpeg:https://plaza-mons.be/wp-content/uploads/2025/11/dossier-137-poster.jpg
END:VEVENT
BEGIN:VEVENT
DTSTART;TZID=Europe/Brussels:20251130T204500
DTEND;TZID=Europe/Brussels:20251130T224900
DTSTAMP:20260425T035429
CREATED:20251028T152902Z
LAST-MODIFIED:20251202T000016Z
UID:98305-1764535500-1764542940@plaza-mons.be
SUMMARY:The Smaching Machine
DESCRIPTION:Super Charlie\n\n\n\n\n\n			\n				Bande annonce\n			\n		 \n\n\n\n\n\n\n\n\n\n\n\n\n\n\n\n\n\n\n\n\n\n\n\n\n\n\n\n\n\n\n\n\n\n\n\n\n\n\n\n\n\n\n\n\n\n\n\n\n\n\n\n\n\nBande annonce
URL:https://plaza-mons.be/film/the-smaching-machine/2025-11-30
ATTACH;FMTTYPE=image/jpeg:https://plaza-mons.be/wp-content/uploads/2025/10/the-smashing-machine-poster-1.jpg
END:VEVENT
END:VCALENDAR