BEGIN:VCALENDAR
VERSION:2.0
PRODID:-//Plaza Arthouse Cinema - ECPv5.14.1//NONSGML v1.0//EN
CALSCALE:GREGORIAN
METHOD:PUBLISH
X-WR-CALNAME:Plaza Arthouse Cinema
X-ORIGINAL-URL:https://plaza-mons.be
X-WR-CALDESC:Events for Plaza Arthouse Cinema
REFRESH-INTERVAL;VALUE=DURATION:PT1H
X-Robots-Tag:noindex
X-PUBLISHED-TTL:PT1H
BEGIN:VTIMEZONE
TZID:Europe/Brussels
BEGIN:DAYLIGHT
TZOFFSETFROM:+0100
TZOFFSETTO:+0200
TZNAME:CEST
DTSTART:20250330T010000
END:DAYLIGHT
BEGIN:STANDARD
TZOFFSETFROM:+0200
TZOFFSETTO:+0100
TZNAME:CET
DTSTART:20251026T010000
END:STANDARD
END:VTIMEZONE
BEGIN:VEVENT
DTSTART;TZID=Europe/Brussels:20251112T140000
DTEND;TZID=Europe/Brussels:20251112T151300
DTSTAMP:20260425T121859
CREATED:20251001T122149Z
LAST-MODIFIED:20251117T000055Z
UID:98486-1762956000-1762960380@plaza-mons.be
SUMMARY:L’intérêt d’Adam
DESCRIPTION:Super Charlie\n\n\n\n\n\n			\n				Bande annonce\n			\n		 \n\n\n\n\n\n\n\n\n\n\n\n\n\n\n\n\n\n\n\n\n\n\n\n\n\n\n\n\n\n\n\n\n\n\n\n\n\n\n\n\n\n\n\n\n\n\n\n\n\n\n\n\n\nBande annonce
URL:https://plaza-mons.be/film/linteret-dadam/2025-11-12
CATEGORIES:Drame
ATTACH;FMTTYPE=image/jpeg:https://plaza-mons.be/wp-content/uploads/2025/10/linteret-dadam-poster.jpg
END:VEVENT
BEGIN:VEVENT
DTSTART;TZID=Europe/Brussels:20251112T150000
DTEND;TZID=Europe/Brussels:20251112T170000
DTSTAMP:20260425T121859
CREATED:20251027T151756Z
LAST-MODIFIED:20251202T000010Z
UID:98251-1762959600-1762966800@plaza-mons.be
SUMMARY:L'étranger
DESCRIPTION:Super Charlie\n\n\n\n\n\n			\n				Bande annonce\n			\n		 \n\n\n\n\n\n\n\n\n\n\n\n\n\n\n\n\n\n\n\n\n\n\n\n\n\n\n\n\n\n\n\n\n\n\n\n\n\n\n\n\n\n\n\n\n\n\n\n\n\n\n\n\n\nBande annonce
URL:https://plaza-mons.be/film/letranger/2025-11-12
ATTACH;FMTTYPE=image/jpeg:https://plaza-mons.be/wp-content/uploads/2025/10/letranger-poster.jpg
END:VEVENT
BEGIN:VEVENT
DTSTART;TZID=Europe/Brussels:20251112T150000
DTEND;TZID=Europe/Brussels:20251112T172000
DTSTAMP:20260425T121859
CREATED:20251028T152354Z
LAST-MODIFIED:20251202T000005Z
UID:98541-1762959600-1762968000@plaza-mons.be
SUMMARY:Dune
DESCRIPTION:Super Charlie
URL:https://plaza-mons.be/film/dune/2025-11-12
ATTACH;FMTTYPE=image/jpeg:https://plaza-mons.be/wp-content/uploads/2025/10/dune-poster.jpeg
END:VEVENT
BEGIN:VEVENT
DTSTART;TZID=Europe/Brussels:20251112T160000
DTEND;TZID=Europe/Brussels:20251112T172800
DTSTAMP:20260425T121859
CREATED:20251027T151438Z
LAST-MODIFIED:20251222T000228Z
UID:98359-1762963200-1762968480@plaza-mons.be
SUMMARY:Arco
DESCRIPTION:Super Charlie\n\n\n\n\n\n			\n				Bande annonce\n			\n		 \n\n\n\n\n\n\n\n\n\n\n\n\n\n\n\n\n\n\n\n\n\n\n\n\n\n\n\n\n\n\n\n\n\n\n\n\n\n\n\n\n\n\n\n\n\n\n\n\n\n\n\n\n\nBande annonce\n\n\n\n\n\n\n\nhttps://www.youtube.com/watch?v=sob8PB4DddM&list=PL-G2_HG1UM8j8ZeqI-EZ0bvEItkGDcmpz
URL:https://plaza-mons.be/film/arco/2025-11-12
ATTACH;FMTTYPE=image/jpeg:https://plaza-mons.be/wp-content/uploads/2025/10/arco-poster.jpg
END:VEVENT
BEGIN:VEVENT
DTSTART;TZID=Europe/Brussels:20251112T160000
DTEND;TZID=Europe/Brussels:20251112T180000
DTSTAMP:20260425T121859
CREATED:20251002T135919Z
LAST-MODIFIED:20251124T000210Z
UID:98497-1762963200-1762970400@plaza-mons.be
SUMMARY:Springsteen : Deliver Me From Nowhere
DESCRIPTION:Super Charlie\n\n\n\n\n\n			\n				Bande annonce\n			\n		 \n\n\n\n\n\n\n\n\n\n\n\n\n\n\n\n\n\n\n\n\n\n\n\n\n\n\n\n\n\n\n\n\n\n\n\n\n\n\n\n\n\n\n\n\n\n\n\n\n\n\n\n\n\nBande annonce
URL:https://plaza-mons.be/film/springsteen-deliver-me-from-nowhere/2025-11-12
CATEGORIES:Biopic
ATTACH;FMTTYPE=image/jpeg:https://plaza-mons.be/wp-content/uploads/2025/10/springsteen-deliver-me-from-nowhere-poster.jpg
END:VEVENT
BEGIN:VEVENT
DTSTART;TZID=Europe/Brussels:20251112T180000
DTEND;TZID=Europe/Brussels:20251112T194700
DTSTAMP:20260425T121859
CREATED:20251001T123008Z
LAST-MODIFIED:20251125T000053Z
UID:98347-1762970400-1762976820@plaza-mons.be
SUMMARY:La petite dernière
DESCRIPTION:Super Charlie\n\n\n\n\n\n			\n				Bande annonce\n			\n		 \n\n\n\n\n\n\n\n\n\n\n\n\n\n\n\n\n\n\n\n\n\n\n\n\n\n\n\n\n\n\n\n\n\n\n\n\n\n\n\n\n\n\n\n\n\n\n\n\n\n\n\n\n\nBande annonce
URL:https://plaza-mons.be/film/la-petite-derniere/2025-11-12
CATEGORIES:Drame
ATTACH;FMTTYPE=image/jpeg:https://plaza-mons.be/wp-content/uploads/2025/10/la-petite-derniere-poster.jpg
END:VEVENT
BEGIN:VEVENT
DTSTART;TZID=Europe/Brussels:20251112T180000
DTEND;TZID=Europe/Brussels:20251112T195600
DTSTAMP:20260425T121859
CREATED:20251028T152554Z
LAST-MODIFIED:20251201T000014Z
UID:98550-1762970400-1762977360@plaza-mons.be
SUMMARY:The Last Viking
DESCRIPTION:Super Charlie\n\n\n\n\n\n			\n				Bande annonce\n			\n		 \n\n\n\n\n\n\n\n\n\n\n\n\n\n\n\n\n\n\n\n\n\n\n\n\n\n\n\n\n\n\n\n\n\n\n\n\n\n\n\n\n\n\n\n\n\n\n\n\n\n\n\n\n\nBande annonce
URL:https://plaza-mons.be/film/the-last-viking/2025-11-12
ATTACH;FMTTYPE=image/jpeg:https://plaza-mons.be/wp-content/uploads/2025/10/the-last-viking-poster.jpg
END:VEVENT
BEGIN:VEVENT
DTSTART;TZID=Europe/Brussels:20251112T180000
DTEND;TZID=Europe/Brussels:20251112T200400
DTSTAMP:20260425T121859
CREATED:20251028T152902Z
LAST-MODIFIED:20251202T000014Z
UID:98289-1762970400-1762977840@plaza-mons.be
SUMMARY:The Smaching Machine
DESCRIPTION:Super Charlie\n\n\n\n\n\n			\n				Bande annonce\n			\n		 \n\n\n\n\n\n\n\n\n\n\n\n\n\n\n\n\n\n\n\n\n\n\n\n\n\n\n\n\n\n\n\n\n\n\n\n\n\n\n\n\n\n\n\n\n\n\n\n\n\n\n\n\n\nBande annonce
URL:https://plaza-mons.be/film/the-smaching-machine/2025-11-12
ATTACH;FMTTYPE=image/jpeg:https://plaza-mons.be/wp-content/uploads/2025/10/the-smashing-machine-poster-1.jpg
END:VEVENT
BEGIN:VEVENT
DTSTART;TZID=Europe/Brussels:20251112T183000
DTEND;TZID=Europe/Brussels:20251112T194800
DTSTAMP:20260425T121859
CREATED:20251028T153054Z
LAST-MODIFIED:20251209T000003Z
UID:98409-1762972200-1762976880@plaza-mons.be
SUMMARY:On vous croit
DESCRIPTION:Super Charlie\n\n\n\n\n\n			\n				Bande annonce\n			\n		 \n\n\n\n\n\n\n\n\n\n\n\n\n\n\n\n\n\n\n\n\n\n\n\n\n\n\n\n\n\n\n\n\n\n\n\n\n\n\n\n\n\n\n\n\n\n\n\n\n\n\n\n\n\nBande annonce
URL:https://plaza-mons.be/film/on-vous-croit/2025-11-12
ATTACH;FMTTYPE=image/jpeg:https://plaza-mons.be/wp-content/uploads/2025/10/on-vous-croit-poster-1.jpg
END:VEVENT
BEGIN:VEVENT
DTSTART;TZID=Europe/Brussels:20251112T203000
DTEND;TZID=Europe/Brussels:20251112T223000
DTSTAMP:20260425T121900
CREATED:20251027T151632Z
LAST-MODIFIED:20251202T000018Z
UID:98530-1762979400-1762986600@plaza-mons.be
SUMMARY:Bugonia
DESCRIPTION:Super Charlie\n\n\n\n\n\n			\n				Bande annonce\n			\n		 \n\n\n\n\n\n\n\n\n\n\n\n\n\n\n\n\n\n\n\n\n\n\n\n\n\n\n\n\n\n\n\n\n\n\n\n\n\n\n\n\n\n\n\n\n\n\n\n\n\n\n\n\n\nBande annonce
URL:https://plaza-mons.be/film/bugonia/2025-11-12
ATTACH;FMTTYPE=image/jpeg:https://plaza-mons.be/wp-content/uploads/2025/10/bugonia-poster.jpg
END:VEVENT
BEGIN:VEVENT
DTSTART;TZID=Europe/Brussels:20251112T203000
DTEND;TZID=Europe/Brussels:20251112T223000
DTSTAMP:20260425T121900
CREATED:20251028T152700Z
LAST-MODIFIED:20251208T000007Z
UID:98374-1762979400-1762986600@plaza-mons.be
SUMMARY:La femme la plus riche du monde
DESCRIPTION:Super Charlie\n\n\n\n\n\n			\n				Bande annonce\n			\n		 \n\n\n\n\n\n\n\n\n\n\n\n\n\n\n\n\n\n\n\n\n\n\n\n\n\n\n\n\n\n\n\n\n\n\n\n\n\n\n\n\n\n\n\n\n\n\n\n\n\n\n\n\n\nBande annonce
URL:https://plaza-mons.be/film/98056/2025-11-12
ATTACH;FMTTYPE=image/jpeg:https://plaza-mons.be/wp-content/uploads/2025/10/la-femme-la-plus-riche-du-monde-poster.jpg
END:VEVENT
BEGIN:VEVENT
DTSTART;TZID=Europe/Brussels:20251112T203000
DTEND;TZID=Europe/Brussels:20251112T224600
DTSTAMP:20260425T121900
CREATED:20251001T122851Z
LAST-MODIFIED:20251118T000219Z
UID:98492-1762979400-1762987560@plaza-mons.be
SUMMARY:The Disappearance of Josef Mengele
DESCRIPTION:Super Charlie\n\n\n\n\n\n			\n				Bande annonce\n			\n		 \n\n\n\n\n\n\n\n\n\n\n\n\n\n\n\n\n\n\n\n\n\n\n\n\n\n\n\n\n\n\n\n\n\n\n\n\n\n\n\n\n\n\n\n\n\n\n\n\n\n\n\n\n\nBande annonce
URL:https://plaza-mons.be/film/the-disappearance-of-josef-mengele/2025-11-12
CATEGORIES:Biopic
ATTACH;FMTTYPE=image/jpeg:https://plaza-mons.be/wp-content/uploads/2025/10/the-disappearance-of-josef-mengele-posterfr.jpg
END:VEVENT
BEGIN:VEVENT
DTSTART;TZID=Europe/Brussels:20251112T203000
DTEND;TZID=Europe/Brussels:20251112T224900
DTSTAMP:20260425T121900
CREATED:20251028T153233Z
LAST-MODIFIED:20251215T000011Z
UID:98404-1762979400-1762987740@plaza-mons.be
SUMMARY:Les Aigles de la République
DESCRIPTION:Super Charlie\n\n\n\n\n\n			\n				Bande annonce\n			\n		 \n\n\n\n\n\n\n\n\n\n\n\n\n\n\n\n\n\n\n\n\n\n\n\n\n\n\n\n\n\n\n\n\n\n\n\n\n\n\n\n\n\n\n\n\n\n\n\n\n\n\n\n\n\nBande annonce
URL:https://plaza-mons.be/film/les-aigles-de-la-republique/2025-11-12
ATTACH;FMTTYPE=image/jpeg:https://plaza-mons.be/wp-content/uploads/2025/10/les-aigles-de-la-republique-poster.jpg
END:VEVENT
END:VCALENDAR