BEGIN:VCALENDAR
VERSION:2.0
PRODID:-//Plaza Arthouse Cinema - ECPv5.14.1//NONSGML v1.0//EN
CALSCALE:GREGORIAN
METHOD:PUBLISH
X-WR-CALNAME:Plaza Arthouse Cinema
X-ORIGINAL-URL:https://plaza-mons.be
X-WR-CALDESC:Events for Plaza Arthouse Cinema
REFRESH-INTERVAL;VALUE=DURATION:PT1H
X-Robots-Tag:noindex
X-PUBLISHED-TTL:PT1H
BEGIN:VTIMEZONE
TZID:Europe/Brussels
BEGIN:DAYLIGHT
TZOFFSETFROM:+0100
TZOFFSETTO:+0200
TZNAME:CEST
DTSTART:20250330T010000
END:DAYLIGHT
BEGIN:STANDARD
TZOFFSETFROM:+0200
TZOFFSETTO:+0100
TZNAME:CET
DTSTART:20251026T010000
END:STANDARD
END:VTIMEZONE
BEGIN:VEVENT
DTSTART;TZID=Europe/Brussels:20251110T150000
DTEND;TZID=Europe/Brussels:20251110T164600
DTSTAMP:20260425T190351
CREATED:20250930T112452Z
LAST-MODIFIED:20251109T000041Z
UID:97908-1762786800-1762793160@plaza-mons.be
SUMMARY:Un simple accident
DESCRIPTION:Die my Love\n\n\n\n\n\n			\n				Bande annonce\n			\n		 \n\n\n\n\n\n\n\n\n\n\n\n\n\n\n\n\n\n\n\n\n\n\n\n\n\n\n\n\n\n\n\n\n\n\n\n\n\n\n\n\n\n\n\n\n\n\n\n\n\n\n\n\n\nBande annonce
URL:https://plaza-mons.be/film/un-simple-accident-2/2025-11-10
CATEGORIES:Drame
ATTACH;FMTTYPE=image/jpeg:https://plaza-mons.be/wp-content/uploads/2025/09/un-simple-accident-poster.jpg
END:VEVENT
BEGIN:VEVENT
DTSTART;TZID=Europe/Brussels:20251110T150000
DTEND;TZID=Europe/Brussels:20251110T164600
DTSTAMP:20260425T190351
CREATED:20251001T121317Z
LAST-MODIFIED:20251111T000132Z
UID:97949-1762786800-1762793160@plaza-mons.be
SUMMARY:Nouvelle vague
DESCRIPTION:Die my Love\n\n\n\n\n\n			\n				Bande annonce\n			\n		 \n\n\n\n\n\n\n\n\n\n\n\n\n\n\n\n\n\n\n\n\n\n\n\n\n\n\n\n\n\n\n\n\n\n\n\n\n\n\n\n\n\n\n\n\n\n\n\n\n\n\n\n\n\nBande annonce
URL:https://plaza-mons.be/film/nouvelle-vague/2025-11-10
CATEGORIES:Biopic,Comedie,Drame
ATTACH;FMTTYPE=image/jpeg:https://plaza-mons.be/wp-content/uploads/2025/10/nouvelle-vague-poster.jpg
END:VEVENT
BEGIN:VEVENT
DTSTART;TZID=Europe/Brussels:20251110T150000
DTEND;TZID=Europe/Brussels:20251110T172800
DTSTAMP:20260425T190351
CREATED:20251001T121939Z
LAST-MODIFIED:20251109T000452Z
UID:97941-1762786800-1762795680@plaza-mons.be
SUMMARY:The End
DESCRIPTION:Die my Love\n\n\n\n\n\n			\n				Bande annonce\n			\n		 \n\n\n\n\n\n\n\n\n\n\n\n\n\n\n\n\n\n\n\n\n\n\n\n\n\n\n\n\n\n\n\n\n\n\n\n\n\n\n\n\n\n\n\n\n\n\n\n\n\n\n\n\n\nBande annonce
URL:https://plaza-mons.be/film/the-end/2025-11-10
CATEGORIES:Drame,Musical
ATTACH;FMTTYPE=image/jpeg:https://plaza-mons.be/wp-content/uploads/2025/10/the-end-poster.jpg
END:VEVENT
BEGIN:VEVENT
DTSTART;TZID=Europe/Brussels:20251110T150000
DTEND;TZID=Europe/Brussels:20251110T174200
DTSTAMP:20260425T190351
CREATED:20251001T121715Z
LAST-MODIFIED:20251116T000125Z
UID:97932-1762786800-1762796520@plaza-mons.be
SUMMARY:One Battle After Another (Une Bataille après l’autre)
DESCRIPTION:Die my Love\n\n\n\n\n\n			\n				Bande annonce\n			\n		 \n\n\n\n\n\n\n\n\n\n\n\n\n\n\n\n\n\n\n\n\n\n\n\n\n\n\n\n\n\n\n\n\n\n\n\n\n\n\n\n\n\n\n\n\n\n\n\n\n\n\n\n\n\nBande annonce
URL:https://plaza-mons.be/film/one-battle-after-another-une-bataille-apres-lautre/2025-11-10
CATEGORIES:Action,Drame,Thriller
ATTACH;FMTTYPE=image/jpeg:https://plaza-mons.be/wp-content/uploads/2025/10/be-french-obaa-montage-vert-main-2764x4096-intl-large.jpg
END:VEVENT
BEGIN:VEVENT
DTSTART;TZID=Europe/Brussels:20251110T180000
DTEND;TZID=Europe/Brussels:20251110T200000
DTSTAMP:20260425T190351
CREATED:20251027T151632Z
LAST-MODIFIED:20251202T000018Z
UID:98043-1762797600-1762804800@plaza-mons.be
SUMMARY:Bugonia
DESCRIPTION:Die my Love\n\n\n\n\n\n			\n				Bande annonce\n			\n		 \n\n\n\n\n\n\n\n\n\n\n\n\n\n\n\n\n\n\n\n\n\n\n\n\n\n\n\n\n\n\n\n\n\n\n\n\n\n\n\n\n\n\n\n\n\n\n\n\n\n\n\n\n\nBande annonce
URL:https://plaza-mons.be/film/bugonia/2025-11-10
ATTACH;FMTTYPE=image/jpeg:https://plaza-mons.be/wp-content/uploads/2025/10/bugonia-poster.jpg
END:VEVENT
BEGIN:VEVENT
DTSTART;TZID=Europe/Brussels:20251110T180000
DTEND;TZID=Europe/Brussels:20251110T200000
DTSTAMP:20260425T190351
CREATED:20251027T151756Z
LAST-MODIFIED:20251202T000010Z
UID:98029-1762797600-1762804800@plaza-mons.be
SUMMARY:L'étranger
DESCRIPTION:Die my Love\n\n\n\n\n\n			\n				Bande annonce\n			\n		 \n\n\n\n\n\n\n\n\n\n\n\n\n\n\n\n\n\n\n\n\n\n\n\n\n\n\n\n\n\n\n\n\n\n\n\n\n\n\n\n\n\n\n\n\n\n\n\n\n\n\n\n\n\nBande annonce
URL:https://plaza-mons.be/film/letranger/2025-11-10
ATTACH;FMTTYPE=image/jpeg:https://plaza-mons.be/wp-content/uploads/2025/10/letranger-poster.jpg
END:VEVENT
BEGIN:VEVENT
DTSTART;TZID=Europe/Brussels:20251110T181500
DTEND;TZID=Europe/Brussels:20251110T192800
DTSTAMP:20260425T190351
CREATED:20251001T122149Z
LAST-MODIFIED:20251117T000053Z
UID:97921-1762798500-1762802880@plaza-mons.be
SUMMARY:L’intérêt d’Adam
DESCRIPTION:Die my Love\n\n\n\n\n\n			\n				Bande annonce\n			\n		 \n\n\n\n\n\n\n\n\n\n\n\n\n\n\n\n\n\n\n\n\n\n\n\n\n\n\n\n\n\n\n\n\n\n\n\n\n\n\n\n\n\n\n\n\n\n\n\n\n\n\n\n\n\nBande annonce
URL:https://plaza-mons.be/film/linteret-dadam/2025-11-10
CATEGORIES:Drame
ATTACH;FMTTYPE=image/jpeg:https://plaza-mons.be/wp-content/uploads/2025/10/linteret-dadam-poster.jpg
END:VEVENT
BEGIN:VEVENT
DTSTART;TZID=Europe/Brussels:20251110T181500
DTEND;TZID=Europe/Brussels:20251110T201500
DTSTAMP:20260425T190351
CREATED:20251028T152700Z
LAST-MODIFIED:20251208T000007Z
UID:98061-1762798500-1762805700@plaza-mons.be
SUMMARY:La femme la plus riche du monde
DESCRIPTION:Die my Love\n\n\n\n\n\n			\n				Bande annonce\n			\n		 \n\n\n\n\n\n\n\n\n\n\n\n\n\n\n\n\n\n\n\n\n\n\n\n\n\n\n\n\n\n\n\n\n\n\n\n\n\n\n\n\n\n\n\n\n\n\n\n\n\n\n\n\n\nBande annonce
URL:https://plaza-mons.be/film/98056/2025-11-10
ATTACH;FMTTYPE=image/jpeg:https://plaza-mons.be/wp-content/uploads/2025/10/la-femme-la-plus-riche-du-monde-poster.jpg
END:VEVENT
BEGIN:VEVENT
DTSTART;TZID=Europe/Brussels:20251110T201500
DTEND;TZID=Europe/Brussels:20251110T223100
DTSTAMP:20260425T190351
CREATED:20251001T122851Z
LAST-MODIFIED:20251118T000219Z
UID:97989-1762805700-1762813860@plaza-mons.be
SUMMARY:The Disappearance of Josef Mengele
DESCRIPTION:Die my Love\n\n\n\n\n\n			\n				Bande annonce\n			\n		 \n\n\n\n\n\n\n\n\n\n\n\n\n\n\n\n\n\n\n\n\n\n\n\n\n\n\n\n\n\n\n\n\n\n\n\n\n\n\n\n\n\n\n\n\n\n\n\n\n\n\n\n\n\nBande annonce
URL:https://plaza-mons.be/film/the-disappearance-of-josef-mengele/2025-11-10
CATEGORIES:Biopic
ATTACH;FMTTYPE=image/jpeg:https://plaza-mons.be/wp-content/uploads/2025/10/the-disappearance-of-josef-mengele-posterfr.jpg
END:VEVENT
BEGIN:VEVENT
DTSTART;TZID=Europe/Brussels:20251110T203000
DTEND;TZID=Europe/Brussels:20251110T221700
DTSTAMP:20260425T190351
CREATED:20251001T123008Z
LAST-MODIFIED:20251125T000051Z
UID:98003-1762806600-1762813020@plaza-mons.be
SUMMARY:La petite dernière
DESCRIPTION:Die my Love\n\n\n\n\n\n			\n				Bande annonce\n			\n		 \n\n\n\n\n\n\n\n\n\n\n\n\n\n\n\n\n\n\n\n\n\n\n\n\n\n\n\n\n\n\n\n\n\n\n\n\n\n\n\n\n\n\n\n\n\n\n\n\n\n\n\n\n\nBande annonce
URL:https://plaza-mons.be/film/la-petite-derniere/2025-11-10
CATEGORIES:Drame
ATTACH;FMTTYPE=image/jpeg:https://plaza-mons.be/wp-content/uploads/2025/10/la-petite-derniere-poster.jpg
END:VEVENT
BEGIN:VEVENT
DTSTART;TZID=Europe/Brussels:20251110T203000
DTEND;TZID=Europe/Brussels:20251110T223000
DTSTAMP:20260425T190351
CREATED:20251002T135919Z
LAST-MODIFIED:20251124T000210Z
UID:97977-1762806600-1762813800@plaza-mons.be
SUMMARY:Springsteen : Deliver Me From Nowhere
DESCRIPTION:Die my Love\n\n\n\n\n\n			\n				Bande annonce\n			\n		 \n\n\n\n\n\n\n\n\n\n\n\n\n\n\n\n\n\n\n\n\n\n\n\n\n\n\n\n\n\n\n\n\n\n\n\n\n\n\n\n\n\n\n\n\n\n\n\n\n\n\n\n\n\nBande annonce
URL:https://plaza-mons.be/film/springsteen-deliver-me-from-nowhere/2025-11-10
CATEGORIES:Biopic
ATTACH;FMTTYPE=image/jpeg:https://plaza-mons.be/wp-content/uploads/2025/10/springsteen-deliver-me-from-nowhere-poster.jpg
END:VEVENT
BEGIN:VEVENT
DTSTART;TZID=Europe/Brussels:20251110T204500
DTEND;TZID=Europe/Brussels:20251110T224100
DTSTAMP:20260425T190351
CREATED:20251028T152554Z
LAST-MODIFIED:20251201T000014Z
UID:98054-1762807500-1762814460@plaza-mons.be
SUMMARY:The Last Viking
DESCRIPTION:Die my Love\n\n\n\n\n\n			\n				Bande annonce\n			\n		 \n\n\n\n\n\n\n\n\n\n\n\n\n\n\n\n\n\n\n\n\n\n\n\n\n\n\n\n\n\n\n\n\n\n\n\n\n\n\n\n\n\n\n\n\n\n\n\n\n\n\n\n\n\nBande annonce
URL:https://plaza-mons.be/film/the-last-viking/2025-11-10
ATTACH;FMTTYPE=image/jpeg:https://plaza-mons.be/wp-content/uploads/2025/10/the-last-viking-poster.jpg
END:VEVENT
END:VCALENDAR