BEGIN:VCALENDAR
VERSION:2.0
PRODID:-//Plaza Arthouse Cinema - ECPv5.14.1//NONSGML v1.0//EN
CALSCALE:GREGORIAN
METHOD:PUBLISH
X-WR-CALNAME:Plaza Arthouse Cinema
X-ORIGINAL-URL:https://plaza-mons.be
X-WR-CALDESC:Events for Plaza Arthouse Cinema
REFRESH-INTERVAL;VALUE=DURATION:PT1H
X-Robots-Tag:noindex
X-PUBLISHED-TTL:PT1H
BEGIN:VTIMEZONE
TZID:Europe/Brussels
BEGIN:DAYLIGHT
TZOFFSETFROM:+0100
TZOFFSETTO:+0200
TZNAME:CEST
DTSTART:20250330T010000
END:DAYLIGHT
BEGIN:STANDARD
TZOFFSETFROM:+0200
TZOFFSETTO:+0100
TZNAME:CET
DTSTART:20251026T010000
END:STANDARD
END:VTIMEZONE
BEGIN:VEVENT
DTSTART;TZID=Europe/Brussels:20251102T110000
DTEND;TZID=Europe/Brussels:20251102T114200
DTSTAMP:20260426T013814
CREATED:20250930T114147Z
LAST-MODIFIED:20251123T000027Z
UID:97890-1762081200-1762083720@plaza-mons.be
SUMMARY:Timioche
DESCRIPTION:Die my Love\n\n\n\n\n\n			\n				Bande annonce\n			\n		 \n\n\n\n\n\n\n\n\n\n\n\n\n\n\n\n\n\n\n\n\n\n\n\n\n\n\n\n\n\n\n\n\n\n\n\n\n\n\n\n\n\n\n\n\n\n\n\n\n\n\n\n\n\nBande annonce
URL:https://plaza-mons.be/film/timioche/2025-11-02
CATEGORIES:Animation,Jeune public
ATTACH;FMTTYPE=image/png:https://plaza-mons.be/wp-content/uploads/2025/09/timioche-poster.png
END:VEVENT
BEGIN:VEVENT
DTSTART;TZID=Europe/Brussels:20251102T110000
DTEND;TZID=Europe/Brussels:20251102T121200
DTSTAMP:20260426T013814
CREATED:20250930T115731Z
LAST-MODIFIED:20251123T000013Z
UID:97877-1762081200-1762085520@plaza-mons.be
SUMMARY:Mary Anning
DESCRIPTION:Die my Love\n\n\n\n\n\n			\n				Bande annonce\n			\n		 \n\n\n\n\n\n\n\n\n\n\n\n\n\n\n\n\n\n\n\n\n\n\n\n\n\n\n\n\n\n\n\n\n\n\n\n\n\n\n\n\n\n\n\n\n\n\n\n\n\n\n\n\n\nBande annonce
URL:https://plaza-mons.be/film/mary-anning/2025-11-02
CATEGORIES:Animation,Jeune public
ATTACH;FMTTYPE=image/jpeg:https://plaza-mons.be/wp-content/uploads/2025/09/mary-anning-poster.jpg
END:VEVENT
BEGIN:VEVENT
DTSTART;TZID=Europe/Brussels:20251102T110000
DTEND;TZID=Europe/Brussels:20251102T122800
DTSTAMP:20260426T013814
CREATED:20251027T151438Z
LAST-MODIFIED:20251222T000227Z
UID:98012-1762081200-1762086480@plaza-mons.be
SUMMARY:Arco
DESCRIPTION:Die my Love\n\n\n\n\n\n			\n				Bande annonce\n			\n		 \n\n\n\n\n\n\n\n\n\n\n\n\n\n\n\n\n\n\n\n\n\n\n\n\n\n\n\n\n\n\n\n\n\n\n\n\n\n\n\n\n\n\n\n\n\n\n\n\n\n\n\n\n\nBande annonce\n\n\n\n\n\n\n\nhttps://www.youtube.com/watch?v=sob8PB4DddM&list=PL-G2_HG1UM8j8ZeqI-EZ0bvEItkGDcmpz
URL:https://plaza-mons.be/film/arco/2025-11-02
ATTACH;FMTTYPE=image/jpeg:https://plaza-mons.be/wp-content/uploads/2025/10/arco-poster.jpg
END:VEVENT
BEGIN:VEVENT
DTSTART;TZID=Europe/Brussels:20251102T113000
DTEND;TZID=Europe/Brussels:20251102T130500
DTSTAMP:20260426T013814
CREATED:20251001T122422Z
LAST-MODIFIED:20251111T000009Z
UID:97962-1762083000-1762088700@plaza-mons.be
SUMMARY:Exit 8
DESCRIPTION:Die my Love\n\n\n\n\n\n			\n				Bande annonce\n			\n		 \n\n\n\n\n\n\n\n\n\n\n\n\n\n\n\n\n\n\n\n\n\n\n\n\n\n\n\n\n\n\n\n\n\n\n\n\n\n\n\n\n\n\n\n\n\n\n\n\n\n\n\n\n\nBande annonce
URL:https://plaza-mons.be/film/exit-8/2025-11-02
CATEGORIES:Drame,Thriller
ATTACH;FMTTYPE=image/webp:https://plaza-mons.be/wp-content/uploads/2025/10/exit-8-posterfr.webp
END:VEVENT
BEGIN:VEVENT
DTSTART;TZID=Europe/Brussels:20251102T140000
DTEND;TZID=Europe/Brussels:20251102T144200
DTSTAMP:20260426T013814
CREATED:20250930T114147Z
LAST-MODIFIED:20251123T000027Z
UID:97891-1762092000-1762094520@plaza-mons.be
SUMMARY:Timioche
DESCRIPTION:Die my Love\n\n\n\n\n\n			\n				Bande annonce\n			\n		 \n\n\n\n\n\n\n\n\n\n\n\n\n\n\n\n\n\n\n\n\n\n\n\n\n\n\n\n\n\n\n\n\n\n\n\n\n\n\n\n\n\n\n\n\n\n\n\n\n\n\n\n\n\nBande annonce
URL:https://plaza-mons.be/film/timioche/2025-11-02/3
CATEGORIES:Animation,Jeune public
ATTACH;FMTTYPE=image/png:https://plaza-mons.be/wp-content/uploads/2025/09/timioche-poster.png
END:VEVENT
BEGIN:VEVENT
DTSTART;TZID=Europe/Brussels:20251102T140000
DTEND;TZID=Europe/Brussels:20251102T152800
DTSTAMP:20260426T013814
CREATED:20250930T114409Z
LAST-MODIFIED:20251102T000038Z
UID:97870-1762092000-1762097280@plaza-mons.be
SUMMARY:L’homme qui a  vu l’ours qui a vu  l’homme
DESCRIPTION:Die my Love\n\n\n\n\n\n			\n				Bande annonce\n			\n		 \n\n\n\n\n\n\n\n\n\n\n\n\n\n\n\n\n\n\n\n\n\n\n\n\n\n\n\n\n\n\n\n\n\n\n\n\n\n\n\n\n\n\n\n\n\n\n\n\n\n\n\n\n\nBande annonce
URL:https://plaza-mons.be/film/lhomme-qui-a-vu-lours-qui-a-vu-lhomme/2025-11-02
CATEGORIES:Comedie
ATTACH;FMTTYPE=image/jpeg:https://plaza-mons.be/wp-content/uploads/2025/09/lhomme-qui-a-vu-lours-qui-a-vu-lhomme-i-120x160-hd-original-1.jpg
END:VEVENT
BEGIN:VEVENT
DTSTART;TZID=Europe/Brussels:20251102T140000
DTEND;TZID=Europe/Brussels:20251102T154600
DTSTAMP:20260426T013814
CREATED:20250930T112452Z
LAST-MODIFIED:20251109T000040Z
UID:97902-1762092000-1762098360@plaza-mons.be
SUMMARY:Un simple accident
DESCRIPTION:Die my Love\n\n\n\n\n\n			\n				Bande annonce\n			\n		 \n\n\n\n\n\n\n\n\n\n\n\n\n\n\n\n\n\n\n\n\n\n\n\n\n\n\n\n\n\n\n\n\n\n\n\n\n\n\n\n\n\n\n\n\n\n\n\n\n\n\n\n\n\nBande annonce
URL:https://plaza-mons.be/film/un-simple-accident-2/2025-11-02
CATEGORIES:Drame
ATTACH;FMTTYPE=image/jpeg:https://plaza-mons.be/wp-content/uploads/2025/09/un-simple-accident-poster.jpg
END:VEVENT
BEGIN:VEVENT
DTSTART;TZID=Europe/Brussels:20251102T143000
DTEND;TZID=Europe/Brussels:20251102T155800
DTSTAMP:20260426T013814
CREATED:20251027T151438Z
LAST-MODIFIED:20251222T000227Z
UID:98013-1762093800-1762099080@plaza-mons.be
SUMMARY:Arco
DESCRIPTION:Die my Love\n\n\n\n\n\n			\n				Bande annonce\n			\n		 \n\n\n\n\n\n\n\n\n\n\n\n\n\n\n\n\n\n\n\n\n\n\n\n\n\n\n\n\n\n\n\n\n\n\n\n\n\n\n\n\n\n\n\n\n\n\n\n\n\n\n\n\n\nBande annonce\n\n\n\n\n\n\n\nhttps://www.youtube.com/watch?v=sob8PB4DddM&list=PL-G2_HG1UM8j8ZeqI-EZ0bvEItkGDcmpz
URL:https://plaza-mons.be/film/arco/2025-11-02/2
ATTACH;FMTTYPE=image/jpeg:https://plaza-mons.be/wp-content/uploads/2025/10/arco-poster.jpg
END:VEVENT
BEGIN:VEVENT
DTSTART;TZID=Europe/Brussels:20251102T151500
DTEND;TZID=Europe/Brussels:20251102T172000
DTSTAMP:20260426T013814
CREATED:20250930T111858Z
LAST-MODIFIED:20251103T000007Z
UID:97911-1762096500-1762104000@plaza-mons.be
SUMMARY:Elephant Man
DESCRIPTION:Die my Love
URL:https://plaza-mons.be/film/elephant-man/2025-11-02
CATEGORIES:Horreur
ATTACH;FMTTYPE=image/jpeg:https://plaza-mons.be/wp-content/uploads/2025/09/elephant-man-poster-1.jpg
END:VEVENT
BEGIN:VEVENT
DTSTART;TZID=Europe/Brussels:20251102T160000
DTEND;TZID=Europe/Brussels:20251102T171200
DTSTAMP:20260426T013814
CREATED:20250930T115731Z
LAST-MODIFIED:20251123T000013Z
UID:97878-1762099200-1762103520@plaza-mons.be
SUMMARY:Mary Anning
DESCRIPTION:Die my Love\n\n\n\n\n\n			\n				Bande annonce\n			\n		 \n\n\n\n\n\n\n\n\n\n\n\n\n\n\n\n\n\n\n\n\n\n\n\n\n\n\n\n\n\n\n\n\n\n\n\n\n\n\n\n\n\n\n\n\n\n\n\n\n\n\n\n\n\nBande annonce
URL:https://plaza-mons.be/film/mary-anning/2025-11-02/3
CATEGORIES:Animation,Jeune public
ATTACH;FMTTYPE=image/jpeg:https://plaza-mons.be/wp-content/uploads/2025/09/mary-anning-poster.jpg
END:VEVENT
BEGIN:VEVENT
DTSTART;TZID=Europe/Brussels:20251102T161500
DTEND;TZID=Europe/Brussels:20251102T172800
DTSTAMP:20260426T013814
CREATED:20251001T122149Z
LAST-MODIFIED:20251117T000044Z
UID:97916-1762100100-1762104480@plaza-mons.be
SUMMARY:L’intérêt d’Adam
DESCRIPTION:Die my Love\n\n\n\n\n\n			\n				Bande annonce\n			\n		 \n\n\n\n\n\n\n\n\n\n\n\n\n\n\n\n\n\n\n\n\n\n\n\n\n\n\n\n\n\n\n\n\n\n\n\n\n\n\n\n\n\n\n\n\n\n\n\n\n\n\n\n\n\nBande annonce
URL:https://plaza-mons.be/film/linteret-dadam/2025-11-02
CATEGORIES:Drame
ATTACH;FMTTYPE=image/jpeg:https://plaza-mons.be/wp-content/uploads/2025/10/linteret-dadam-poster.jpg
END:VEVENT
BEGIN:VEVENT
DTSTART;TZID=Europe/Brussels:20251102T170000
DTEND;TZID=Europe/Brussels:20251102T190000
DTSTAMP:20260426T013814
CREATED:20251002T135919Z
LAST-MODIFIED:20251124T000210Z
UID:97972-1762102800-1762110000@plaza-mons.be
SUMMARY:Springsteen : Deliver Me From Nowhere
DESCRIPTION:Die my Love\n\n\n\n\n\n			\n				Bande annonce\n			\n		 \n\n\n\n\n\n\n\n\n\n\n\n\n\n\n\n\n\n\n\n\n\n\n\n\n\n\n\n\n\n\n\n\n\n\n\n\n\n\n\n\n\n\n\n\n\n\n\n\n\n\n\n\n\nBande annonce
URL:https://plaza-mons.be/film/springsteen-deliver-me-from-nowhere/2025-11-02
CATEGORIES:Biopic
ATTACH;FMTTYPE=image/jpeg:https://plaza-mons.be/wp-content/uploads/2025/10/springsteen-deliver-me-from-nowhere-poster.jpg
END:VEVENT
BEGIN:VEVENT
DTSTART;TZID=Europe/Brussels:20251102T174500
DTEND;TZID=Europe/Brussels:20251102T200100
DTSTAMP:20260426T013814
CREATED:20251001T122851Z
LAST-MODIFIED:20251118T000218Z
UID:97981-1762105500-1762113660@plaza-mons.be
SUMMARY:The Disappearance of Josef Mengele
DESCRIPTION:Die my Love\n\n\n\n\n\n			\n				Bande annonce\n			\n		 \n\n\n\n\n\n\n\n\n\n\n\n\n\n\n\n\n\n\n\n\n\n\n\n\n\n\n\n\n\n\n\n\n\n\n\n\n\n\n\n\n\n\n\n\n\n\n\n\n\n\n\n\n\nBande annonce
URL:https://plaza-mons.be/film/the-disappearance-of-josef-mengele/2025-11-02
CATEGORIES:Biopic
ATTACH;FMTTYPE=image/jpeg:https://plaza-mons.be/wp-content/uploads/2025/10/the-disappearance-of-josef-mengele-posterfr.jpg
END:VEVENT
BEGIN:VEVENT
DTSTART;TZID=Europe/Brussels:20251102T180000
DTEND;TZID=Europe/Brussels:20251102T194700
DTSTAMP:20260426T013814
CREATED:20251001T123008Z
LAST-MODIFIED:20251125T000032Z
UID:97995-1762106400-1762112820@plaza-mons.be
SUMMARY:La petite dernière
DESCRIPTION:Die my Love\n\n\n\n\n\n			\n				Bande annonce\n			\n		 \n\n\n\n\n\n\n\n\n\n\n\n\n\n\n\n\n\n\n\n\n\n\n\n\n\n\n\n\n\n\n\n\n\n\n\n\n\n\n\n\n\n\n\n\n\n\n\n\n\n\n\n\n\nBande annonce
URL:https://plaza-mons.be/film/la-petite-derniere/2025-11-02
CATEGORIES:Drame
ATTACH;FMTTYPE=image/jpeg:https://plaza-mons.be/wp-content/uploads/2025/10/la-petite-derniere-poster.jpg
END:VEVENT
BEGIN:VEVENT
DTSTART;TZID=Europe/Brussels:20251102T181500
DTEND;TZID=Europe/Brussels:20251102T201500
DTSTAMP:20260426T013814
CREATED:20251027T151632Z
LAST-MODIFIED:20251202T000018Z
UID:98035-1762107300-1762114500@plaza-mons.be
SUMMARY:Bugonia
DESCRIPTION:Die my Love\n\n\n\n\n\n			\n				Bande annonce\n			\n		 \n\n\n\n\n\n\n\n\n\n\n\n\n\n\n\n\n\n\n\n\n\n\n\n\n\n\n\n\n\n\n\n\n\n\n\n\n\n\n\n\n\n\n\n\n\n\n\n\n\n\n\n\n\nBande annonce
URL:https://plaza-mons.be/film/bugonia/2025-11-02
ATTACH;FMTTYPE=image/jpeg:https://plaza-mons.be/wp-content/uploads/2025/10/bugonia-poster.jpg
END:VEVENT
BEGIN:VEVENT
DTSTART;TZID=Europe/Brussels:20251102T193000
DTEND;TZID=Europe/Brussels:20251102T221200
DTSTAMP:20260426T013814
CREATED:20251001T121715Z
LAST-MODIFIED:20251116T000124Z
UID:97926-1762111800-1762121520@plaza-mons.be
SUMMARY:One Battle After Another (Une Bataille après l’autre)
DESCRIPTION:Die my Love\n\n\n\n\n\n			\n				Bande annonce\n			\n		 \n\n\n\n\n\n\n\n\n\n\n\n\n\n\n\n\n\n\n\n\n\n\n\n\n\n\n\n\n\n\n\n\n\n\n\n\n\n\n\n\n\n\n\n\n\n\n\n\n\n\n\n\n\nBande annonce
URL:https://plaza-mons.be/film/one-battle-after-another-une-bataille-apres-lautre/2025-11-02
CATEGORIES:Action,Drame,Thriller
ATTACH;FMTTYPE=image/jpeg:https://plaza-mons.be/wp-content/uploads/2025/10/be-french-obaa-montage-vert-main-2764x4096-intl-large.jpg
END:VEVENT
BEGIN:VEVENT
DTSTART;TZID=Europe/Brussels:20251102T203000
DTEND;TZID=Europe/Brussels:20251102T223000
DTSTAMP:20260426T013814
CREATED:20251027T151756Z
LAST-MODIFIED:20251202T000009Z
UID:98022-1762115400-1762122600@plaza-mons.be
SUMMARY:L'étranger
DESCRIPTION:Die my Love\n\n\n\n\n\n			\n				Bande annonce\n			\n		 \n\n\n\n\n\n\n\n\n\n\n\n\n\n\n\n\n\n\n\n\n\n\n\n\n\n\n\n\n\n\n\n\n\n\n\n\n\n\n\n\n\n\n\n\n\n\n\n\n\n\n\n\n\nBande annonce
URL:https://plaza-mons.be/film/letranger/2025-11-02
ATTACH;FMTTYPE=image/jpeg:https://plaza-mons.be/wp-content/uploads/2025/10/letranger-poster.jpg
END:VEVENT
BEGIN:VEVENT
DTSTART;TZID=Europe/Brussels:20251102T203000
DTEND;TZID=Europe/Brussels:20251102T223200
DTSTAMP:20260426T013814
CREATED:20250930T112733Z
LAST-MODIFIED:20251104T000008Z
UID:97898-1762115400-1762122720@plaza-mons.be
SUMMARY:La Grande Ambizione
DESCRIPTION:Die my Love\n\n\n\n\n\n			\n				Bande annonce\n			\n		 \n\n\n\n\n\n\n\n\n\n\n\n\n\n\n\n\n\n\n\n\n\n\n\n\n\n\n\n\n\n\n\n\n\n\n\n\n\n\n\n\n\n\n\n\n\n\n\n\n\n\n\n\n\nBande annonce
URL:https://plaza-mons.be/film/la-grande-ambizione/2025-11-02
CATEGORIES:Biopic
ATTACH;FMTTYPE=image/jpeg:https://plaza-mons.be/wp-content/uploads/2025/09/la-grande-ambizione-poster-be-def-original.jpg
END:VEVENT
BEGIN:VEVENT
DTSTART;TZID=Europe/Brussels:20251102T204500
DTEND;TZID=Europe/Brussels:20251102T222700
DTSTAMP:20260426T013814
CREATED:20251001T122619Z
LAST-MODIFIED:20251109T000435Z
UID:97955-1762116300-1762122420@plaza-mons.be
SUMMARY:Together
DESCRIPTION:Die my Love\n\n\n\n\n\n			\n				Bande annonce\n			\n		 \n\n\n\n\n\n\n\n\n\n\n\n\n\n\n\n\n\n\n\n\n\n\n\n\n\n\n\n\n\n\n\n\n\n\n\n\n\n\n\n\n\n\n\n\n\n\n\n\n\n\n\n\n\nBande annonce
URL:https://plaza-mons.be/film/together/2025-11-02
CATEGORIES:Horreur
ATTACH;FMTTYPE=image/png:https://plaza-mons.be/wp-content/uploads/2025/10/together-1.png
END:VEVENT
END:VCALENDAR