BEGIN:VCALENDAR
VERSION:2.0
PRODID:-//Plaza Arthouse Cinema - ECPv5.14.1//NONSGML v1.0//EN
CALSCALE:GREGORIAN
METHOD:PUBLISH
X-WR-CALNAME:Plaza Arthouse Cinema
X-ORIGINAL-URL:https://plaza-mons.be
X-WR-CALDESC:Events for Plaza Arthouse Cinema
REFRESH-INTERVAL;VALUE=DURATION:PT1H
X-Robots-Tag:noindex
X-PUBLISHED-TTL:PT1H
BEGIN:VTIMEZONE
TZID:Europe/Brussels
BEGIN:DAYLIGHT
TZOFFSETFROM:+0100
TZOFFSETTO:+0200
TZNAME:CEST
DTSTART:20250330T010000
END:DAYLIGHT
BEGIN:STANDARD
TZOFFSETFROM:+0200
TZOFFSETTO:+0100
TZNAME:CET
DTSTART:20251026T010000
END:STANDARD
END:VTIMEZONE
BEGIN:VEVENT
DTSTART;TZID=Europe/Brussels:20251031T110000
DTEND;TZID=Europe/Brussels:20251031T114200
DTSTAMP:20260425T224518
CREATED:20250930T114147Z
LAST-MODIFIED:20251123T000026Z
UID:97886-1761908400-1761910920@plaza-mons.be
SUMMARY:Timioche
DESCRIPTION:Die my Love\n\n\n\n\n\n			\n				Bande annonce\n			\n		 \n\n\n\n\n\n\n\n\n\n\n\n\n\n\n\n\n\n\n\n\n\n\n\n\n\n\n\n\n\n\n\n\n\n\n\n\n\n\n\n\n\n\n\n\n\n\n\n\n\n\n\n\n\nBande annonce
URL:https://plaza-mons.be/film/timioche/2025-10-31
CATEGORIES:Animation,Jeune public
ATTACH;FMTTYPE=image/png:https://plaza-mons.be/wp-content/uploads/2025/09/timioche-poster.png
END:VEVENT
BEGIN:VEVENT
DTSTART;TZID=Europe/Brussels:20251031T110000
DTEND;TZID=Europe/Brussels:20251031T121200
DTSTAMP:20260425T224518
CREATED:20250930T115731Z
LAST-MODIFIED:20251123T000013Z
UID:97874-1761908400-1761912720@plaza-mons.be
SUMMARY:Mary Anning
DESCRIPTION:Die my Love\n\n\n\n\n\n			\n				Bande annonce\n			\n		 \n\n\n\n\n\n\n\n\n\n\n\n\n\n\n\n\n\n\n\n\n\n\n\n\n\n\n\n\n\n\n\n\n\n\n\n\n\n\n\n\n\n\n\n\n\n\n\n\n\n\n\n\n\nBande annonce
URL:https://plaza-mons.be/film/mary-anning/2025-10-31
CATEGORIES:Animation,Jeune public
ATTACH;FMTTYPE=image/jpeg:https://plaza-mons.be/wp-content/uploads/2025/09/mary-anning-poster.jpg
END:VEVENT
BEGIN:VEVENT
DTSTART;TZID=Europe/Brussels:20251031T110000
DTEND;TZID=Europe/Brussels:20251031T122800
DTSTAMP:20260425T224518
CREATED:20250930T114409Z
LAST-MODIFIED:20251102T000038Z
UID:97868-1761908400-1761913680@plaza-mons.be
SUMMARY:L’homme qui a  vu l’ours qui a vu  l’homme
DESCRIPTION:Die my Love\n\n\n\n\n\n			\n				Bande annonce\n			\n		 \n\n\n\n\n\n\n\n\n\n\n\n\n\n\n\n\n\n\n\n\n\n\n\n\n\n\n\n\n\n\n\n\n\n\n\n\n\n\n\n\n\n\n\n\n\n\n\n\n\n\n\n\n\nBande annonce
URL:https://plaza-mons.be/film/lhomme-qui-a-vu-lours-qui-a-vu-lhomme/2025-10-31
CATEGORIES:Comedie
ATTACH;FMTTYPE=image/jpeg:https://plaza-mons.be/wp-content/uploads/2025/09/lhomme-qui-a-vu-lours-qui-a-vu-lhomme-i-120x160-hd-original-1.jpg
END:VEVENT
BEGIN:VEVENT
DTSTART;TZID=Europe/Brussels:20251031T110000
DTEND;TZID=Europe/Brussels:20251031T122800
DTSTAMP:20260425T224518
CREATED:20251027T151438Z
LAST-MODIFIED:20251222T000226Z
UID:98008-1761908400-1761913680@plaza-mons.be
SUMMARY:Arco
DESCRIPTION:Die my Love\n\n\n\n\n\n			\n				Bande annonce\n			\n		 \n\n\n\n\n\n\n\n\n\n\n\n\n\n\n\n\n\n\n\n\n\n\n\n\n\n\n\n\n\n\n\n\n\n\n\n\n\n\n\n\n\n\n\n\n\n\n\n\n\n\n\n\n\nBande annonce\n\n\n\n\n\n\n\nhttps://www.youtube.com/watch?v=sob8PB4DddM&list=PL-G2_HG1UM8j8ZeqI-EZ0bvEItkGDcmpz
URL:https://plaza-mons.be/film/arco/2025-10-31
ATTACH;FMTTYPE=image/jpeg:https://plaza-mons.be/wp-content/uploads/2025/10/arco-poster.jpg
END:VEVENT
BEGIN:VEVENT
DTSTART;TZID=Europe/Brussels:20251031T140000
DTEND;TZID=Europe/Brussels:20251031T144200
DTSTAMP:20260425T224518
CREATED:20250930T114147Z
LAST-MODIFIED:20251123T000026Z
UID:97887-1761919200-1761921720@plaza-mons.be
SUMMARY:Timioche
DESCRIPTION:Die my Love\n\n\n\n\n\n			\n				Bande annonce\n			\n		 \n\n\n\n\n\n\n\n\n\n\n\n\n\n\n\n\n\n\n\n\n\n\n\n\n\n\n\n\n\n\n\n\n\n\n\n\n\n\n\n\n\n\n\n\n\n\n\n\n\n\n\n\n\nBande annonce
URL:https://plaza-mons.be/film/timioche/2025-10-31/3
CATEGORIES:Animation,Jeune public
ATTACH;FMTTYPE=image/png:https://plaza-mons.be/wp-content/uploads/2025/09/timioche-poster.png
END:VEVENT
BEGIN:VEVENT
DTSTART;TZID=Europe/Brussels:20251031T140000
DTEND;TZID=Europe/Brussels:20251031T151300
DTSTAMP:20260425T224518
CREATED:20251001T122149Z
LAST-MODIFIED:20251117T000042Z
UID:97915-1761919200-1761923580@plaza-mons.be
SUMMARY:L’intérêt d’Adam
DESCRIPTION:Die my Love\n\n\n\n\n\n			\n				Bande annonce\n			\n		 \n\n\n\n\n\n\n\n\n\n\n\n\n\n\n\n\n\n\n\n\n\n\n\n\n\n\n\n\n\n\n\n\n\n\n\n\n\n\n\n\n\n\n\n\n\n\n\n\n\n\n\n\n\nBande annonce
URL:https://plaza-mons.be/film/linteret-dadam/2025-10-31
CATEGORIES:Drame
ATTACH;FMTTYPE=image/jpeg:https://plaza-mons.be/wp-content/uploads/2025/10/linteret-dadam-poster.jpg
END:VEVENT
BEGIN:VEVENT
DTSTART;TZID=Europe/Brussels:20251031T140000
DTEND;TZID=Europe/Brussels:20251031T153000
DTSTAMP:20260425T224518
CREATED:20250930T113200Z
LAST-MODIFIED:20251104T000011Z
UID:97864-1761919200-1761924600@plaza-mons.be
SUMMARY:La pleine conscience  du bonheur\, un voyage  avec le Dalaï-Lama  (Wisdom of Happiness)
DESCRIPTION:Die my Love\n\n\n\n\n\n			\n				Bande annonce\n			\n		 \n\n\n\n\n\n\n\n\n\n\n\n\n\n\n\n\n\n\n\n\n\n\n\n\n\n\n\n\n\n\n\n\n\n\n\n\n\n\n\n\n\n\n\n\n\n\n\n\n\n\n\n\n\nBande annonce
URL:https://plaza-mons.be/film/la-pleine-conscience-du-bonheur-un-voyage-avec-le-dalai-lama-wisdom-of-happiness/2025-10-31
ATTACH;FMTTYPE=image/jpeg:https://plaza-mons.be/wp-content/uploads/2025/09/la-pleine-conscience-du-bonheur-poster.jpg
END:VEVENT
BEGIN:VEVENT
DTSTART;TZID=Europe/Brussels:20251031T150000
DTEND;TZID=Europe/Brussels:20251031T162800
DTSTAMP:20260425T224518
CREATED:20251027T151438Z
LAST-MODIFIED:20251222T000226Z
UID:98009-1761922800-1761928080@plaza-mons.be
SUMMARY:Arco
DESCRIPTION:Die my Love\n\n\n\n\n\n			\n				Bande annonce\n			\n		 \n\n\n\n\n\n\n\n\n\n\n\n\n\n\n\n\n\n\n\n\n\n\n\n\n\n\n\n\n\n\n\n\n\n\n\n\n\n\n\n\n\n\n\n\n\n\n\n\n\n\n\n\n\nBande annonce\n\n\n\n\n\n\n\nhttps://www.youtube.com/watch?v=sob8PB4DddM&list=PL-G2_HG1UM8j8ZeqI-EZ0bvEItkGDcmpz
URL:https://plaza-mons.be/film/arco/2025-10-31/2
ATTACH;FMTTYPE=image/jpeg:https://plaza-mons.be/wp-content/uploads/2025/10/arco-poster.jpg
END:VEVENT
BEGIN:VEVENT
DTSTART;TZID=Europe/Brussels:20251031T153000
DTEND;TZID=Europe/Brussels:20251031T174600
DTSTAMP:20260425T224518
CREATED:20251001T122851Z
LAST-MODIFIED:20251118T000217Z
UID:97979-1761924600-1761932760@plaza-mons.be
SUMMARY:The Disappearance of Josef Mengele
DESCRIPTION:Die my Love\n\n\n\n\n\n			\n				Bande annonce\n			\n		 \n\n\n\n\n\n\n\n\n\n\n\n\n\n\n\n\n\n\n\n\n\n\n\n\n\n\n\n\n\n\n\n\n\n\n\n\n\n\n\n\n\n\n\n\n\n\n\n\n\n\n\n\n\nBande annonce
URL:https://plaza-mons.be/film/the-disappearance-of-josef-mengele/2025-10-31
CATEGORIES:Biopic
ATTACH;FMTTYPE=image/jpeg:https://plaza-mons.be/wp-content/uploads/2025/10/the-disappearance-of-josef-mengele-posterfr.jpg
END:VEVENT
BEGIN:VEVENT
DTSTART;TZID=Europe/Brussels:20251031T160000
DTEND;TZID=Europe/Brussels:20251031T171200
DTSTAMP:20260425T224518
CREATED:20250930T115731Z
LAST-MODIFIED:20251123T000013Z
UID:97875-1761926400-1761930720@plaza-mons.be
SUMMARY:Mary Anning
DESCRIPTION:Die my Love\n\n\n\n\n\n			\n				Bande annonce\n			\n		 \n\n\n\n\n\n\n\n\n\n\n\n\n\n\n\n\n\n\n\n\n\n\n\n\n\n\n\n\n\n\n\n\n\n\n\n\n\n\n\n\n\n\n\n\n\n\n\n\n\n\n\n\n\nBande annonce
URL:https://plaza-mons.be/film/mary-anning/2025-10-31/3
CATEGORIES:Animation,Jeune public
ATTACH;FMTTYPE=image/jpeg:https://plaza-mons.be/wp-content/uploads/2025/09/mary-anning-poster.jpg
END:VEVENT
BEGIN:VEVENT
DTSTART;TZID=Europe/Brussels:20251031T160000
DTEND;TZID=Europe/Brussels:20251031T180200
DTSTAMP:20260425T224518
CREATED:20250930T112733Z
LAST-MODIFIED:20251104T000008Z
UID:97896-1761926400-1761933720@plaza-mons.be
SUMMARY:La Grande Ambizione
DESCRIPTION:Die my Love\n\n\n\n\n\n			\n				Bande annonce\n			\n		 \n\n\n\n\n\n\n\n\n\n\n\n\n\n\n\n\n\n\n\n\n\n\n\n\n\n\n\n\n\n\n\n\n\n\n\n\n\n\n\n\n\n\n\n\n\n\n\n\n\n\n\n\n\nBande annonce
URL:https://plaza-mons.be/film/la-grande-ambizione/2025-10-31
CATEGORIES:Biopic
ATTACH;FMTTYPE=image/jpeg:https://plaza-mons.be/wp-content/uploads/2025/09/la-grande-ambizione-poster-be-def-original.jpg
END:VEVENT
BEGIN:VEVENT
DTSTART;TZID=Europe/Brussels:20251031T170000
DTEND;TZID=Europe/Brussels:20251031T190000
DTSTAMP:20260425T224518
CREATED:20251002T135919Z
LAST-MODIFIED:20251124T000210Z
UID:97970-1761930000-1761937200@plaza-mons.be
SUMMARY:Springsteen : Deliver Me From Nowhere
DESCRIPTION:Die my Love\n\n\n\n\n\n			\n				Bande annonce\n			\n		 \n\n\n\n\n\n\n\n\n\n\n\n\n\n\n\n\n\n\n\n\n\n\n\n\n\n\n\n\n\n\n\n\n\n\n\n\n\n\n\n\n\n\n\n\n\n\n\n\n\n\n\n\n\nBande annonce
URL:https://plaza-mons.be/film/springsteen-deliver-me-from-nowhere/2025-10-31
CATEGORIES:Biopic
ATTACH;FMTTYPE=image/jpeg:https://plaza-mons.be/wp-content/uploads/2025/10/springsteen-deliver-me-from-nowhere-poster.jpg
END:VEVENT
BEGIN:VEVENT
DTSTART;TZID=Europe/Brussels:20251031T180000
DTEND;TZID=Europe/Brussels:20251031T200000
DTSTAMP:20260425T224518
CREATED:20251027T151756Z
LAST-MODIFIED:20251202T000009Z
UID:98020-1761933600-1761940800@plaza-mons.be
SUMMARY:L'étranger
DESCRIPTION:Die my Love\n\n\n\n\n\n			\n				Bande annonce\n			\n		 \n\n\n\n\n\n\n\n\n\n\n\n\n\n\n\n\n\n\n\n\n\n\n\n\n\n\n\n\n\n\n\n\n\n\n\n\n\n\n\n\n\n\n\n\n\n\n\n\n\n\n\n\n\nBande annonce
URL:https://plaza-mons.be/film/letranger/2025-10-31
ATTACH;FMTTYPE=image/jpeg:https://plaza-mons.be/wp-content/uploads/2025/10/letranger-poster.jpg
END:VEVENT
BEGIN:VEVENT
DTSTART;TZID=Europe/Brussels:20251031T181500
DTEND;TZID=Europe/Brussels:20251031T202000
DTSTAMP:20260425T224518
CREATED:20250930T111858Z
LAST-MODIFIED:20251103T000007Z
UID:97910-1761934500-1761942000@plaza-mons.be
SUMMARY:Elephant Man
DESCRIPTION:Die my Love
URL:https://plaza-mons.be/film/elephant-man/2025-10-31
CATEGORIES:Horreur
ATTACH;FMTTYPE=image/jpeg:https://plaza-mons.be/wp-content/uploads/2025/09/elephant-man-poster-1.jpg
END:VEVENT
BEGIN:VEVENT
DTSTART;TZID=Europe/Brussels:20251031T183000
DTEND;TZID=Europe/Brussels:20251031T203000
DTSTAMP:20260425T224518
CREATED:20251027T151632Z
LAST-MODIFIED:20251202T000018Z
UID:98033-1761935400-1761942600@plaza-mons.be
SUMMARY:Bugonia
DESCRIPTION:Die my Love\n\n\n\n\n\n			\n				Bande annonce\n			\n		 \n\n\n\n\n\n\n\n\n\n\n\n\n\n\n\n\n\n\n\n\n\n\n\n\n\n\n\n\n\n\n\n\n\n\n\n\n\n\n\n\n\n\n\n\n\n\n\n\n\n\n\n\n\nBande annonce
URL:https://plaza-mons.be/film/bugonia/2025-10-31
ATTACH;FMTTYPE=image/jpeg:https://plaza-mons.be/wp-content/uploads/2025/10/bugonia-poster.jpg
END:VEVENT
BEGIN:VEVENT
DTSTART;TZID=Europe/Brussels:20251031T194500
DTEND;TZID=Europe/Brussels:20251031T222700
DTSTAMP:20260425T224518
CREATED:20251001T121715Z
LAST-MODIFIED:20251116T000124Z
UID:97924-1761939900-1761949620@plaza-mons.be
SUMMARY:One Battle After Another (Une Bataille après l’autre)
DESCRIPTION:Die my Love\n\n\n\n\n\n			\n				Bande annonce\n			\n		 \n\n\n\n\n\n\n\n\n\n\n\n\n\n\n\n\n\n\n\n\n\n\n\n\n\n\n\n\n\n\n\n\n\n\n\n\n\n\n\n\n\n\n\n\n\n\n\n\n\n\n\n\n\nBande annonce
URL:https://plaza-mons.be/film/one-battle-after-another-une-bataille-apres-lautre/2025-10-31
CATEGORIES:Action,Drame,Thriller
ATTACH;FMTTYPE=image/jpeg:https://plaza-mons.be/wp-content/uploads/2025/10/be-french-obaa-montage-vert-main-2764x4096-intl-large.jpg
END:VEVENT
BEGIN:VEVENT
DTSTART;TZID=Europe/Brussels:20251031T203000
DTEND;TZID=Europe/Brussels:20251031T221700
DTSTAMP:20260425T224518
CREATED:20251001T123008Z
LAST-MODIFIED:20251125T000026Z
UID:97993-1761942600-1761949020@plaza-mons.be
SUMMARY:La petite dernière
DESCRIPTION:Die my Love\n\n\n\n\n\n			\n				Bande annonce\n			\n		 \n\n\n\n\n\n\n\n\n\n\n\n\n\n\n\n\n\n\n\n\n\n\n\n\n\n\n\n\n\n\n\n\n\n\n\n\n\n\n\n\n\n\n\n\n\n\n\n\n\n\n\n\n\nBande annonce
URL:https://plaza-mons.be/film/la-petite-derniere/2025-10-31
CATEGORIES:Drame
ATTACH;FMTTYPE=image/jpeg:https://plaza-mons.be/wp-content/uploads/2025/10/la-petite-derniere-poster.jpg
END:VEVENT
BEGIN:VEVENT
DTSTART;TZID=Europe/Brussels:20251031T204500
DTEND;TZID=Europe/Brussels:20251031T222000
DTSTAMP:20260425T224518
CREATED:20251001T122422Z
LAST-MODIFIED:20251111T000009Z
UID:97960-1761943500-1761949200@plaza-mons.be
SUMMARY:Exit 8
DESCRIPTION:Die my Love\n\n\n\n\n\n			\n				Bande annonce\n			\n		 \n\n\n\n\n\n\n\n\n\n\n\n\n\n\n\n\n\n\n\n\n\n\n\n\n\n\n\n\n\n\n\n\n\n\n\n\n\n\n\n\n\n\n\n\n\n\n\n\n\n\n\n\n\nBande annonce
URL:https://plaza-mons.be/film/exit-8/2025-10-31
CATEGORIES:Drame,Thriller
ATTACH;FMTTYPE=image/webp:https://plaza-mons.be/wp-content/uploads/2025/10/exit-8-posterfr.webp
END:VEVENT
BEGIN:VEVENT
DTSTART;TZID=Europe/Brussels:20251031T210000
DTEND;TZID=Europe/Brussels:20251031T224200
DTSTAMP:20260425T224518
CREATED:20251001T122619Z
LAST-MODIFIED:20251109T000435Z
UID:97953-1761944400-1761950520@plaza-mons.be
SUMMARY:Together
DESCRIPTION:Die my Love\n\n\n\n\n\n			\n				Bande annonce\n			\n		 \n\n\n\n\n\n\n\n\n\n\n\n\n\n\n\n\n\n\n\n\n\n\n\n\n\n\n\n\n\n\n\n\n\n\n\n\n\n\n\n\n\n\n\n\n\n\n\n\n\n\n\n\n\nBande annonce
URL:https://plaza-mons.be/film/together/2025-10-31
CATEGORIES:Horreur
ATTACH;FMTTYPE=image/png:https://plaza-mons.be/wp-content/uploads/2025/10/together-1.png
END:VEVENT
END:VCALENDAR