BEGIN:VCALENDAR
VERSION:2.0
PRODID:-//Plaza Arthouse Cinema - ECPv5.14.1//NONSGML v1.0//EN
CALSCALE:GREGORIAN
METHOD:PUBLISH
X-WR-CALNAME:Plaza Arthouse Cinema
X-ORIGINAL-URL:https://plaza-mons.be
X-WR-CALDESC:Events for Plaza Arthouse Cinema
REFRESH-INTERVAL;VALUE=DURATION:PT1H
X-Robots-Tag:noindex
X-PUBLISHED-TTL:PT1H
BEGIN:VTIMEZONE
TZID:Europe/Brussels
BEGIN:DAYLIGHT
TZOFFSETFROM:+0100
TZOFFSETTO:+0200
TZNAME:CEST
DTSTART:20250330T010000
END:DAYLIGHT
BEGIN:STANDARD
TZOFFSETFROM:+0200
TZOFFSETTO:+0100
TZNAME:CET
DTSTART:20251026T010000
END:STANDARD
END:VTIMEZONE
BEGIN:VEVENT
DTSTART;TZID=Europe/Brussels:20251029T110000
DTEND;TZID=Europe/Brussels:20251029T114200
DTSTAMP:20260426T013833
CREATED:20250930T114147Z
LAST-MODIFIED:20251123T000025Z
UID:97882-1761735600-1761738120@plaza-mons.be
SUMMARY:Timioche
DESCRIPTION:Die my Love\n\n\n\n\n\n			\n				Bande annonce\n			\n		 \n\n\n\n\n\n\n\n\n\n\n\n\n\n\n\n\n\n\n\n\n\n\n\n\n\n\n\n\n\n\n\n\n\n\n\n\n\n\n\n\n\n\n\n\n\n\n\n\n\n\n\n\n\nBande annonce
URL:https://plaza-mons.be/film/timioche/2025-10-29
CATEGORIES:Animation,Jeune public
ATTACH;FMTTYPE=image/png:https://plaza-mons.be/wp-content/uploads/2025/09/timioche-poster.png
END:VEVENT
BEGIN:VEVENT
DTSTART;TZID=Europe/Brussels:20251029T110000
DTEND;TZID=Europe/Brussels:20251029T121200
DTSTAMP:20260426T013833
CREATED:20250930T115731Z
LAST-MODIFIED:20251123T000012Z
UID:97871-1761735600-1761739920@plaza-mons.be
SUMMARY:Mary Anning
DESCRIPTION:Die my Love\n\n\n\n\n\n			\n				Bande annonce\n			\n		 \n\n\n\n\n\n\n\n\n\n\n\n\n\n\n\n\n\n\n\n\n\n\n\n\n\n\n\n\n\n\n\n\n\n\n\n\n\n\n\n\n\n\n\n\n\n\n\n\n\n\n\n\n\nBande annonce
URL:https://plaza-mons.be/film/mary-anning/2025-10-29
CATEGORIES:Animation,Jeune public
ATTACH;FMTTYPE=image/jpeg:https://plaza-mons.be/wp-content/uploads/2025/09/mary-anning-poster.jpg
END:VEVENT
BEGIN:VEVENT
DTSTART;TZID=Europe/Brussels:20251029T110000
DTEND;TZID=Europe/Brussels:20251029T122800
DTSTAMP:20260426T013833
CREATED:20251027T151438Z
LAST-MODIFIED:20251222T000220Z
UID:98004-1761735600-1761740880@plaza-mons.be
SUMMARY:Arco
DESCRIPTION:Die my Love\n\n\n\n\n\n			\n				Bande annonce\n			\n		 \n\n\n\n\n\n\n\n\n\n\n\n\n\n\n\n\n\n\n\n\n\n\n\n\n\n\n\n\n\n\n\n\n\n\n\n\n\n\n\n\n\n\n\n\n\n\n\n\n\n\n\n\n\nBande annonce\n\n\n\n\n\n\n\nhttps://www.youtube.com/watch?v=sob8PB4DddM&list=PL-G2_HG1UM8j8ZeqI-EZ0bvEItkGDcmpz
URL:https://plaza-mons.be/film/arco/2025-10-29
ATTACH;FMTTYPE=image/jpeg:https://plaza-mons.be/wp-content/uploads/2025/10/arco-poster.jpg
END:VEVENT
BEGIN:VEVENT
DTSTART;TZID=Europe/Brussels:20251029T110000
DTEND;TZID=Europe/Brussels:20251029T123000
DTSTAMP:20260426T013833
CREATED:20250930T113200Z
LAST-MODIFIED:20251104T000011Z
UID:97862-1761735600-1761741000@plaza-mons.be
SUMMARY:La pleine conscience  du bonheur\, un voyage  avec le Dalaï-Lama  (Wisdom of Happiness)
DESCRIPTION:Die my Love\n\n\n\n\n\n			\n				Bande annonce\n			\n		 \n\n\n\n\n\n\n\n\n\n\n\n\n\n\n\n\n\n\n\n\n\n\n\n\n\n\n\n\n\n\n\n\n\n\n\n\n\n\n\n\n\n\n\n\n\n\n\n\n\n\n\n\n\nBande annonce
URL:https://plaza-mons.be/film/la-pleine-conscience-du-bonheur-un-voyage-avec-le-dalai-lama-wisdom-of-happiness/2025-10-29
ATTACH;FMTTYPE=image/jpeg:https://plaza-mons.be/wp-content/uploads/2025/09/la-pleine-conscience-du-bonheur-poster.jpg
END:VEVENT
BEGIN:VEVENT
DTSTART;TZID=Europe/Brussels:20251029T140000
DTEND;TZID=Europe/Brussels:20251029T144200
DTSTAMP:20260426T013833
CREATED:20250930T114147Z
LAST-MODIFIED:20251123T000025Z
UID:97883-1761746400-1761748920@plaza-mons.be
SUMMARY:Timioche
DESCRIPTION:Die my Love\n\n\n\n\n\n			\n				Bande annonce\n			\n		 \n\n\n\n\n\n\n\n\n\n\n\n\n\n\n\n\n\n\n\n\n\n\n\n\n\n\n\n\n\n\n\n\n\n\n\n\n\n\n\n\n\n\n\n\n\n\n\n\n\n\n\n\n\nBande annonce
URL:https://plaza-mons.be/film/timioche/2025-10-29/3
CATEGORIES:Animation,Jeune public
ATTACH;FMTTYPE=image/png:https://plaza-mons.be/wp-content/uploads/2025/09/timioche-poster.png
END:VEVENT
BEGIN:VEVENT
DTSTART;TZID=Europe/Brussels:20251029T140000
DTEND;TZID=Europe/Brussels:20251029T151300
DTSTAMP:20260426T013833
CREATED:20251001T122149Z
LAST-MODIFIED:20251117T000039Z
UID:97913-1761746400-1761750780@plaza-mons.be
SUMMARY:L’intérêt d’Adam
DESCRIPTION:Die my Love\n\n\n\n\n\n			\n				Bande annonce\n			\n		 \n\n\n\n\n\n\n\n\n\n\n\n\n\n\n\n\n\n\n\n\n\n\n\n\n\n\n\n\n\n\n\n\n\n\n\n\n\n\n\n\n\n\n\n\n\n\n\n\n\n\n\n\n\nBande annonce
URL:https://plaza-mons.be/film/linteret-dadam/2025-10-29
CATEGORIES:Drame
ATTACH;FMTTYPE=image/jpeg:https://plaza-mons.be/wp-content/uploads/2025/10/linteret-dadam-poster.jpg
END:VEVENT
BEGIN:VEVENT
DTSTART;TZID=Europe/Brussels:20251029T140000
DTEND;TZID=Europe/Brussels:20251029T152800
DTSTAMP:20260426T013833
CREATED:20250930T114409Z
LAST-MODIFIED:20251102T000038Z
UID:97867-1761746400-1761751680@plaza-mons.be
SUMMARY:L’homme qui a  vu l’ours qui a vu  l’homme
DESCRIPTION:Die my Love\n\n\n\n\n\n			\n				Bande annonce\n			\n		 \n\n\n\n\n\n\n\n\n\n\n\n\n\n\n\n\n\n\n\n\n\n\n\n\n\n\n\n\n\n\n\n\n\n\n\n\n\n\n\n\n\n\n\n\n\n\n\n\n\n\n\n\n\nBande annonce
URL:https://plaza-mons.be/film/lhomme-qui-a-vu-lours-qui-a-vu-lhomme/2025-10-29
CATEGORIES:Comedie
ATTACH;FMTTYPE=image/jpeg:https://plaza-mons.be/wp-content/uploads/2025/09/lhomme-qui-a-vu-lours-qui-a-vu-lhomme-i-120x160-hd-original-1.jpg
END:VEVENT
BEGIN:VEVENT
DTSTART;TZID=Europe/Brussels:20251029T143000
DTEND;TZID=Europe/Brussels:20251029T155800
DTSTAMP:20260426T013833
CREATED:20251027T151438Z
LAST-MODIFIED:20251222T000225Z
UID:98005-1761748200-1761753480@plaza-mons.be
SUMMARY:Arco
DESCRIPTION:Die my Love\n\n\n\n\n\n			\n				Bande annonce\n			\n		 \n\n\n\n\n\n\n\n\n\n\n\n\n\n\n\n\n\n\n\n\n\n\n\n\n\n\n\n\n\n\n\n\n\n\n\n\n\n\n\n\n\n\n\n\n\n\n\n\n\n\n\n\n\nBande annonce\n\n\n\n\n\n\n\nhttps://www.youtube.com/watch?v=sob8PB4DddM&list=PL-G2_HG1UM8j8ZeqI-EZ0bvEItkGDcmpz
URL:https://plaza-mons.be/film/arco/2025-10-29/2
ATTACH;FMTTYPE=image/jpeg:https://plaza-mons.be/wp-content/uploads/2025/10/arco-poster.jpg
END:VEVENT
BEGIN:VEVENT
DTSTART;TZID=Europe/Brussels:20251029T151500
DTEND;TZID=Europe/Brussels:20251029T171700
DTSTAMP:20260426T013833
CREATED:20250930T112733Z
LAST-MODIFIED:20251104T000008Z
UID:97894-1761750900-1761758220@plaza-mons.be
SUMMARY:La Grande Ambizione
DESCRIPTION:Die my Love\n\n\n\n\n\n			\n				Bande annonce\n			\n		 \n\n\n\n\n\n\n\n\n\n\n\n\n\n\n\n\n\n\n\n\n\n\n\n\n\n\n\n\n\n\n\n\n\n\n\n\n\n\n\n\n\n\n\n\n\n\n\n\n\n\n\n\n\nBande annonce
URL:https://plaza-mons.be/film/la-grande-ambizione/2025-10-29
CATEGORIES:Biopic
ATTACH;FMTTYPE=image/jpeg:https://plaza-mons.be/wp-content/uploads/2025/09/la-grande-ambizione-poster-be-def-original.jpg
END:VEVENT
BEGIN:VEVENT
DTSTART;TZID=Europe/Brussels:20251029T160000
DTEND;TZID=Europe/Brussels:20251029T174600
DTSTAMP:20260426T013833
CREATED:20251001T121317Z
LAST-MODIFIED:20251111T000104Z
UID:97942-1761753600-1761759960@plaza-mons.be
SUMMARY:Nouvelle vague
DESCRIPTION:Die my Love\n\n\n\n\n\n			\n				Bande annonce\n			\n		 \n\n\n\n\n\n\n\n\n\n\n\n\n\n\n\n\n\n\n\n\n\n\n\n\n\n\n\n\n\n\n\n\n\n\n\n\n\n\n\n\n\n\n\n\n\n\n\n\n\n\n\n\n\nBande annonce
URL:https://plaza-mons.be/film/nouvelle-vague/2025-10-29
CATEGORIES:Biopic,Comedie,Drame
ATTACH;FMTTYPE=image/jpeg:https://plaza-mons.be/wp-content/uploads/2025/10/nouvelle-vague-poster.jpg
END:VEVENT
BEGIN:VEVENT
DTSTART;TZID=Europe/Brussels:20251029T160000
DTEND;TZID=Europe/Brussels:20251029T180500
DTSTAMP:20260426T013833
CREATED:20250930T111858Z
LAST-MODIFIED:20251103T000007Z
UID:97909-1761753600-1761761100@plaza-mons.be
SUMMARY:Elephant Man
DESCRIPTION:Die my Love
URL:https://plaza-mons.be/film/elephant-man/2025-10-29
CATEGORIES:Horreur
ATTACH;FMTTYPE=image/jpeg:https://plaza-mons.be/wp-content/uploads/2025/09/elephant-man-poster-1.jpg
END:VEVENT
BEGIN:VEVENT
DTSTART;TZID=Europe/Brussels:20251029T170000
DTEND;TZID=Europe/Brussels:20251029T190000
DTSTAMP:20260426T013833
CREATED:20251002T135919Z
LAST-MODIFIED:20251124T000209Z
UID:97968-1761757200-1761764400@plaza-mons.be
SUMMARY:Springsteen : Deliver Me From Nowhere
DESCRIPTION:Die my Love\n\n\n\n\n\n			\n				Bande annonce\n			\n		 \n\n\n\n\n\n\n\n\n\n\n\n\n\n\n\n\n\n\n\n\n\n\n\n\n\n\n\n\n\n\n\n\n\n\n\n\n\n\n\n\n\n\n\n\n\n\n\n\n\n\n\n\n\nBande annonce
URL:https://plaza-mons.be/film/springsteen-deliver-me-from-nowhere/2025-10-29
CATEGORIES:Biopic
ATTACH;FMTTYPE=image/jpeg:https://plaza-mons.be/wp-content/uploads/2025/10/springsteen-deliver-me-from-nowhere-poster.jpg
END:VEVENT
BEGIN:VEVENT
DTSTART;TZID=Europe/Brussels:20251029T174500
DTEND;TZID=Europe/Brussels:20251029T200100
DTSTAMP:20260426T013833
CREATED:20251001T122851Z
LAST-MODIFIED:20251118T000217Z
UID:97978-1761759900-1761768060@plaza-mons.be
SUMMARY:The Disappearance of Josef Mengele
DESCRIPTION:Die my Love\n\n\n\n\n\n			\n				Bande annonce\n			\n		 \n\n\n\n\n\n\n\n\n\n\n\n\n\n\n\n\n\n\n\n\n\n\n\n\n\n\n\n\n\n\n\n\n\n\n\n\n\n\n\n\n\n\n\n\n\n\n\n\n\n\n\n\n\nBande annonce
URL:https://plaza-mons.be/film/the-disappearance-of-josef-mengele/2025-10-29
CATEGORIES:Biopic
ATTACH;FMTTYPE=image/jpeg:https://plaza-mons.be/wp-content/uploads/2025/10/the-disappearance-of-josef-mengele-posterfr.jpg
END:VEVENT
BEGIN:VEVENT
DTSTART;TZID=Europe/Brussels:20251029T181500
DTEND;TZID=Europe/Brussels:20251029T200200
DTSTAMP:20260426T013833
CREATED:20251001T123008Z
LAST-MODIFIED:20251125T000020Z
UID:97991-1761761700-1761768120@plaza-mons.be
SUMMARY:La petite dernière
DESCRIPTION:Die my Love\n\n\n\n\n\n			\n				Bande annonce\n			\n		 \n\n\n\n\n\n\n\n\n\n\n\n\n\n\n\n\n\n\n\n\n\n\n\n\n\n\n\n\n\n\n\n\n\n\n\n\n\n\n\n\n\n\n\n\n\n\n\n\n\n\n\n\n\nBande annonce
URL:https://plaza-mons.be/film/la-petite-derniere/2025-10-29
CATEGORIES:Drame
ATTACH;FMTTYPE=image/jpeg:https://plaza-mons.be/wp-content/uploads/2025/10/la-petite-derniere-poster.jpg
END:VEVENT
BEGIN:VEVENT
DTSTART;TZID=Europe/Brussels:20251029T183000
DTEND;TZID=Europe/Brussels:20251029T201200
DTSTAMP:20260426T013833
CREATED:20251001T122619Z
LAST-MODIFIED:20251109T000435Z
UID:97951-1761762600-1761768720@plaza-mons.be
SUMMARY:Together
DESCRIPTION:Die my Love\n\n\n\n\n\n			\n				Bande annonce\n			\n		 \n\n\n\n\n\n\n\n\n\n\n\n\n\n\n\n\n\n\n\n\n\n\n\n\n\n\n\n\n\n\n\n\n\n\n\n\n\n\n\n\n\n\n\n\n\n\n\n\n\n\n\n\n\nBande annonce
URL:https://plaza-mons.be/film/together/2025-10-29
CATEGORIES:Horreur
ATTACH;FMTTYPE=image/png:https://plaza-mons.be/wp-content/uploads/2025/10/together-1.png
END:VEVENT
BEGIN:VEVENT
DTSTART;TZID=Europe/Brussels:20251029T193000
DTEND;TZID=Europe/Brussels:20251029T221200
DTSTAMP:20260426T013833
CREATED:20251001T121715Z
LAST-MODIFIED:20251116T000124Z
UID:97922-1761766200-1761775920@plaza-mons.be
SUMMARY:One Battle After Another (Une Bataille après l’autre)
DESCRIPTION:Die my Love\n\n\n\n\n\n			\n				Bande annonce\n			\n		 \n\n\n\n\n\n\n\n\n\n\n\n\n\n\n\n\n\n\n\n\n\n\n\n\n\n\n\n\n\n\n\n\n\n\n\n\n\n\n\n\n\n\n\n\n\n\n\n\n\n\n\n\n\nBande annonce
URL:https://plaza-mons.be/film/one-battle-after-another-une-bataille-apres-lautre/2025-10-29
CATEGORIES:Action,Drame,Thriller
ATTACH;FMTTYPE=image/jpeg:https://plaza-mons.be/wp-content/uploads/2025/10/be-french-obaa-montage-vert-main-2764x4096-intl-large.jpg
END:VEVENT
BEGIN:VEVENT
DTSTART;TZID=Europe/Brussels:20251029T203000
DTEND;TZID=Europe/Brussels:20251029T223000
DTSTAMP:20260426T013833
CREATED:20251027T151756Z
LAST-MODIFIED:20251202T000007Z
UID:98018-1761769800-1761777000@plaza-mons.be
SUMMARY:L'étranger
DESCRIPTION:Die my Love\n\n\n\n\n\n			\n				Bande annonce\n			\n		 \n\n\n\n\n\n\n\n\n\n\n\n\n\n\n\n\n\n\n\n\n\n\n\n\n\n\n\n\n\n\n\n\n\n\n\n\n\n\n\n\n\n\n\n\n\n\n\n\n\n\n\n\n\nBande annonce
URL:https://plaza-mons.be/film/letranger/2025-10-29
ATTACH;FMTTYPE=image/jpeg:https://plaza-mons.be/wp-content/uploads/2025/10/letranger-poster.jpg
END:VEVENT
BEGIN:VEVENT
DTSTART;TZID=Europe/Brussels:20251029T204500
DTEND;TZID=Europe/Brussels:20251029T222000
DTSTAMP:20260426T013833
CREATED:20251001T122422Z
LAST-MODIFIED:20251111T000009Z
UID:97959-1761770700-1761776400@plaza-mons.be
SUMMARY:Exit 8
DESCRIPTION:Die my Love\n\n\n\n\n\n			\n				Bande annonce\n			\n		 \n\n\n\n\n\n\n\n\n\n\n\n\n\n\n\n\n\n\n\n\n\n\n\n\n\n\n\n\n\n\n\n\n\n\n\n\n\n\n\n\n\n\n\n\n\n\n\n\n\n\n\n\n\nBande annonce
URL:https://plaza-mons.be/film/exit-8/2025-10-29
CATEGORIES:Drame,Thriller
ATTACH;FMTTYPE=image/webp:https://plaza-mons.be/wp-content/uploads/2025/10/exit-8-posterfr.webp
END:VEVENT
BEGIN:VEVENT
DTSTART;TZID=Europe/Brussels:20251029T204500
DTEND;TZID=Europe/Brussels:20251029T224500
DTSTAMP:20260426T013833
CREATED:20251028T152240Z
LAST-MODIFIED:20251029T000637Z
UID:97764-1761770700-1761777900@plaza-mons.be
SUMMARY:Bugonia -  Cineville Specials
DESCRIPTION:Die my Love\n\n\n\n\n\n			\n				Bande annonce\n			\n		 \n\n\n\n\n\n\n\n\n\n\n\n\n\n\n\n\n\n\n\n\n\n\n\n\n\n\n\n\n\n\n\n\n\n\n\n\n\n\n\n\n\n\n\n\n\n\n\n\n\n\n\n\n\nBande annonce
URL:https://plaza-mons.be/film/bugonia-cineville-specials/2025-10-29
CATEGORIES:Avant-première,Comedie,Horreur,Science Fiction
ATTACH;FMTTYPE=image/jpeg:https://plaza-mons.be/wp-content/uploads/2025/10/bugonia-poster.jpg
END:VEVENT
END:VCALENDAR