BEGIN:VCALENDAR
VERSION:2.0
PRODID:-//Plaza Arthouse Cinema - ECPv5.14.1//NONSGML v1.0//EN
CALSCALE:GREGORIAN
METHOD:PUBLISH
X-WR-CALNAME:Plaza Arthouse Cinema
X-ORIGINAL-URL:https://plaza-mons.be
X-WR-CALDESC:Events for Plaza Arthouse Cinema
REFRESH-INTERVAL;VALUE=DURATION:PT1H
X-Robots-Tag:noindex
X-PUBLISHED-TTL:PT1H
BEGIN:VTIMEZONE
TZID:Europe/Brussels
BEGIN:DAYLIGHT
TZOFFSETFROM:+0100
TZOFFSETTO:+0200
TZNAME:CEST
DTSTART:20250330T010000
END:DAYLIGHT
BEGIN:STANDARD
TZOFFSETFROM:+0200
TZOFFSETTO:+0100
TZNAME:CET
DTSTART:20251026T010000
END:STANDARD
END:VTIMEZONE
BEGIN:VEVENT
DTSTART;TZID=Europe/Brussels:20251018T110000
DTEND;TZID=Europe/Brussels:20251018T114200
DTSTAMP:20260425T190248
CREATED:20250930T114147Z
LAST-MODIFIED:20251123T000023Z
UID:96296-1760785200-1760787720@plaza-mons.be
SUMMARY:Timioche
DESCRIPTION:Die my Love\n\n\n\n\n\n			\n				Bande annonce\n			\n		 \n\n\n\n\n\n\n\n\n\n\n\n\n\n\n\n\n\n\n\n\n\n\n\n\n\n\n\n\n\n\n\n\n\n\n\n\n\n\n\n\n\n\n\n\n\n\n\n\n\n\n\n\n\nBande annonce
URL:https://plaza-mons.be/film/timioche/2025-10-18
CATEGORIES:Animation,Jeune public
ATTACH;FMTTYPE=image/png:https://plaza-mons.be/wp-content/uploads/2025/09/timioche-poster.png
END:VEVENT
BEGIN:VEVENT
DTSTART;TZID=Europe/Brussels:20251018T110000
DTEND;TZID=Europe/Brussels:20251018T121200
DTSTAMP:20260425T190248
CREATED:20250930T115731Z
LAST-MODIFIED:20251123T000009Z
UID:96271-1760785200-1760789520@plaza-mons.be
SUMMARY:Mary Anning
DESCRIPTION:Die my Love\n\n\n\n\n\n			\n				Bande annonce\n			\n		 \n\n\n\n\n\n\n\n\n\n\n\n\n\n\n\n\n\n\n\n\n\n\n\n\n\n\n\n\n\n\n\n\n\n\n\n\n\n\n\n\n\n\n\n\n\n\n\n\n\n\n\n\n\nBande annonce
URL:https://plaza-mons.be/film/mary-anning/2025-10-18
CATEGORIES:Animation,Jeune public
ATTACH;FMTTYPE=image/jpeg:https://plaza-mons.be/wp-content/uploads/2025/09/mary-anning-poster.jpg
END:VEVENT
BEGIN:VEVENT
DTSTART;TZID=Europe/Brussels:20251018T110000
DTEND;TZID=Europe/Brussels:20251018T122800
DTSTAMP:20260425T190248
CREATED:20250930T114409Z
LAST-MODIFIED:20251102T000037Z
UID:96326-1760785200-1760790480@plaza-mons.be
SUMMARY:L’homme qui a  vu l’ours qui a vu  l’homme
DESCRIPTION:Die my Love\n\n\n\n\n\n			\n				Bande annonce\n			\n		 \n\n\n\n\n\n\n\n\n\n\n\n\n\n\n\n\n\n\n\n\n\n\n\n\n\n\n\n\n\n\n\n\n\n\n\n\n\n\n\n\n\n\n\n\n\n\n\n\n\n\n\n\n\nBande annonce
URL:https://plaza-mons.be/film/lhomme-qui-a-vu-lours-qui-a-vu-lhomme/2025-10-18
CATEGORIES:Comedie
ATTACH;FMTTYPE=image/jpeg:https://plaza-mons.be/wp-content/uploads/2025/09/lhomme-qui-a-vu-lours-qui-a-vu-lhomme-i-120x160-hd-original-1.jpg
END:VEVENT
BEGIN:VEVENT
DTSTART;TZID=Europe/Brussels:20251018T110000
DTEND;TZID=Europe/Brussels:20251018T123000
DTSTAMP:20260425T190248
CREATED:20250930T113200Z
LAST-MODIFIED:20251104T000010Z
UID:96370-1760785200-1760790600@plaza-mons.be
SUMMARY:La pleine conscience  du bonheur\, un voyage  avec le Dalaï-Lama  (Wisdom of Happiness)
DESCRIPTION:Die my Love\n\n\n\n\n\n			\n				Bande annonce\n			\n		 \n\n\n\n\n\n\n\n\n\n\n\n\n\n\n\n\n\n\n\n\n\n\n\n\n\n\n\n\n\n\n\n\n\n\n\n\n\n\n\n\n\n\n\n\n\n\n\n\n\n\n\n\n\nBande annonce
URL:https://plaza-mons.be/film/la-pleine-conscience-du-bonheur-un-voyage-avec-le-dalai-lama-wisdom-of-happiness/2025-10-18
ATTACH;FMTTYPE=image/jpeg:https://plaza-mons.be/wp-content/uploads/2025/09/la-pleine-conscience-du-bonheur-poster.jpg
END:VEVENT
BEGIN:VEVENT
DTSTART;TZID=Europe/Brussels:20251018T140000
DTEND;TZID=Europe/Brussels:20251018T154400
DTSTAMP:20260425T190248
CREATED:20251001T121116Z
LAST-MODIFIED:20251028T000029Z
UID:96357-1760796000-1760802240@plaza-mons.be
SUMMARY:The Rule of Jenny Pen
DESCRIPTION:Die my Love\n\n\n\n\n\n			\n				Bande annonce\n			\n		 \n\n\n\n\n\n\n\n\n\n\n\n\n\n\n\n\n\n\n\n\n\n\n\n\n\n\n\n\n\n\n\n\n\n\n\n\n\n\n\n\n\n\n\n\n\n\n\n\n\n\n\n\n\nBande annonce
URL:https://plaza-mons.be/film/the-rule-of-jenny-pen/2025-10-18
ATTACH;FMTTYPE=image/png:https://plaza-mons.be/wp-content/uploads/2025/10/the-rule-of-jenny-pen-poster.png
END:VEVENT
BEGIN:VEVENT
DTSTART;TZID=Europe/Brussels:20251018T140000
DTEND;TZID=Europe/Brussels:20251018T154600
DTSTAMP:20260425T190249
CREATED:20250930T112452Z
LAST-MODIFIED:20251109T000040Z
UID:96257-1760796000-1760802360@plaza-mons.be
SUMMARY:Un simple accident
DESCRIPTION:Die my Love\n\n\n\n\n\n			\n				Bande annonce\n			\n		 \n\n\n\n\n\n\n\n\n\n\n\n\n\n\n\n\n\n\n\n\n\n\n\n\n\n\n\n\n\n\n\n\n\n\n\n\n\n\n\n\n\n\n\n\n\n\n\n\n\n\n\n\n\nBande annonce
URL:https://plaza-mons.be/film/un-simple-accident-2/2025-10-18
CATEGORIES:Drame
ATTACH;FMTTYPE=image/jpeg:https://plaza-mons.be/wp-content/uploads/2025/09/un-simple-accident-poster.jpg
END:VEVENT
BEGIN:VEVENT
DTSTART;TZID=Europe/Brussels:20251018T140000
DTEND;TZID=Europe/Brussels:20251018T154600
DTSTAMP:20260425T190249
CREATED:20251001T121317Z
LAST-MODIFIED:20251111T000030Z
UID:96383-1760796000-1760802360@plaza-mons.be
SUMMARY:Nouvelle vague
DESCRIPTION:Die my Love\n\n\n\n\n\n			\n				Bande annonce\n			\n		 \n\n\n\n\n\n\n\n\n\n\n\n\n\n\n\n\n\n\n\n\n\n\n\n\n\n\n\n\n\n\n\n\n\n\n\n\n\n\n\n\n\n\n\n\n\n\n\n\n\n\n\n\n\nBande annonce
URL:https://plaza-mons.be/film/nouvelle-vague/2025-10-18
CATEGORIES:Biopic,Comedie,Drame
ATTACH;FMTTYPE=image/jpeg:https://plaza-mons.be/wp-content/uploads/2025/10/nouvelle-vague-poster.jpg
END:VEVENT
BEGIN:VEVENT
DTSTART;TZID=Europe/Brussels:20251018T150000
DTEND;TZID=Europe/Brussels:20251018T161300
DTSTAMP:20260425T190249
CREATED:20251001T122149Z
LAST-MODIFIED:20251117T000018Z
UID:96423-1760799600-1760803980@plaza-mons.be
SUMMARY:L’intérêt d’Adam
DESCRIPTION:Die my Love\n\n\n\n\n\n			\n				Bande annonce\n			\n		 \n\n\n\n\n\n\n\n\n\n\n\n\n\n\n\n\n\n\n\n\n\n\n\n\n\n\n\n\n\n\n\n\n\n\n\n\n\n\n\n\n\n\n\n\n\n\n\n\n\n\n\n\n\nBande annonce
URL:https://plaza-mons.be/film/linteret-dadam/2025-10-18
CATEGORIES:Drame
ATTACH;FMTTYPE=image/jpeg:https://plaza-mons.be/wp-content/uploads/2025/10/linteret-dadam-poster.jpg
END:VEVENT
BEGIN:VEVENT
DTSTART;TZID=Europe/Brussels:20251018T170000
DTEND;TZID=Europe/Brussels:20251018T190300
DTSTAMP:20260425T190249
CREATED:20251002T134206Z
LAST-MODIFIED:20251018T000119Z
UID:96049-1760806800-1760814180@plaza-mons.be
SUMMARY:Almost Famous - Rock & Roll Movie Day
DESCRIPTION:Die my Love\n\n\n\n\n\n			\n				Bande annonce\n			\n		 \n\n\n\n\n\n\n\n\n\n\n\n\n\n\n\n\n\n\n\n\n\n\n\n\n\n\n\n\n\n\n\n\n\n\n\n\n\n\n\n\n\n\n\n\n\n\n\n\n\n\n\n\n\nBande annonce
URL:https://plaza-mons.be/film/almost-famous-rock-roll-movie-day/2025-10-18
CATEGORIES:Avant-première,Classic 21,Rock & roll movie day
ATTACH;FMTTYPE=image/jpeg:https://plaza-mons.be/wp-content/uploads/2025/10/almost-famous-rock-roll-movie-day.jpg
END:VEVENT
BEGIN:VEVENT
DTSTART;TZID=Europe/Brussels:20251018T171500
DTEND;TZID=Europe/Brussels:20251018T191700
DTSTAMP:20260425T190249
CREATED:20251002T134345Z
LAST-MODIFIED:20251018T000120Z
UID:96050-1760807700-1760815020@plaza-mons.be
SUMMARY:Oasis :  Supersonic - Rock & Roll Movie Day
DESCRIPTION:Die my Love\n\n\n\n\n\n			\n				Bande annonce\n			\n		 \n\n\n\n\n\n\n\n\n\n\n\n\n\n\n\n\n\n\n\n\n\n\n\n\n\n\n\n\n\n\n\n\n\n\n\n\n\n\n\n\n\n\n\n\n\n\n\n\n\n\n\n\n\nBande annonce
URL:https://plaza-mons.be/film/oasis-supersonic-rock-roll-movie-day/2025-10-18
CATEGORIES:Avant-première,Biopic,Classic 21,Rock & roll movie day
ATTACH;FMTTYPE=image/jpeg:https://plaza-mons.be/wp-content/uploads/2025/10/oasisi-supersonic-poster.jpg
END:VEVENT
BEGIN:VEVENT
DTSTART;TZID=Europe/Brussels:20251018T173000
DTEND;TZID=Europe/Brussels:20251018T191000
DTSTAMP:20260425T190249
CREATED:20251002T134659Z
LAST-MODIFIED:20251128T164136Z
UID:96051-1760808600-1760814600@plaza-mons.be
SUMMARY:One to One :  John & Yoko - Rock & Roll Movie Day
DESCRIPTION:Die my Love\n\n\n\n\n\n			\n				Bande annonce\n			\n		 \n\n\n\n\n\n\n\n\n\n\n\n\n\n\n\n\n\n\n\n\n\n\n\n\n\n\n\n\n\n\n\n\n\n\n\n\n\n\n\n\n\n\n\n\n\n\n\n\n\n\n\n\n\nBande annonce
URL:https://plaza-mons.be/film/one-to-one-john-yoko-rock-roll-movie-day/2025-10-18
CATEGORIES:Documentaire
ATTACH;FMTTYPE=image/jpeg:https://plaza-mons.be/wp-content/uploads/2025/10/one-to-one-john-yoko-poster.jpg
END:VEVENT
BEGIN:VEVENT
DTSTART;TZID=Europe/Brussels:20251018T174500
DTEND;TZID=Europe/Brussels:20251018T192200
DTSTAMP:20260425T190249
CREATED:20251002T135041Z
LAST-MODIFIED:20251018T000120Z
UID:96052-1760809500-1760815320@plaza-mons.be
SUMMARY:20.000 jours sur  Terre - Rock & Roll Movie Day
DESCRIPTION:Die my Love\n\n\n\n\n\n			\n				Bande annonce\n			\n		 \n\n\n\n\n\n\n\n\n\n\n\n\n\n\n\n\n\n\n\n\n\n\n\n\n\n\n\n\n\n\n\n\n\n\n\n\n\n\n\n\n\n\n\n\n\n\n\n\n\n\n\n\n\nBande annonce
URL:https://plaza-mons.be/film/96052/2025-10-18
CATEGORIES:Avant-première,Classic 21,Documentaire,Rock & roll movie day
ATTACH;FMTTYPE=image/webp:https://plaza-mons.be/wp-content/uploads/2025/10/20000-jours-sur-terre-poster.webp
END:VEVENT
BEGIN:VEVENT
DTSTART;TZID=Europe/Brussels:20251018T201500
DTEND;TZID=Europe/Brussels:20251018T223000
DTSTAMP:20260425T190249
CREATED:20251002T135222Z
LAST-MODIFIED:20251018T000121Z
UID:96053-1760818500-1760826600@plaza-mons.be
SUMMARY:Better Man - Rock & Roll Movie Day
DESCRIPTION:Die my Love\n\n\n\n\n\n			\n				Bande annonce\n			\n		 \n\n\n\n\n\n\n\n\n\n\n\n\n\n\n\n\n\n\n\n\n\n\n\n\n\n\n\n\n\n\n\n\n\n\n\n\n\n\n\n\n\n\n\n\n\n\n\n\n\n\n\n\n\nBande annonce
URL:https://plaza-mons.be/film/better-man-rock-roll-movie-day/2025-10-18
CATEGORIES:Avant-première,Biopic,Classic 21,Rock & roll movie day
ATTACH;FMTTYPE=image/jpeg:https://plaza-mons.be/wp-content/uploads/2025/10/better-man-poster.jpg
END:VEVENT
BEGIN:VEVENT
DTSTART;TZID=Europe/Brussels:20251018T203000
DTEND;TZID=Europe/Brussels:20251018T225500
DTSTAMP:20260425T190249
CREATED:20251002T135337Z
LAST-MODIFIED:20251018T000121Z
UID:96054-1760819400-1760828100@plaza-mons.be
SUMMARY:A Complete  Unknown - Rock & Roll Movie Day
DESCRIPTION:Die my Love\n\n\n\n\n\n			\n				Bande annonce\n			\n		 \n\n\n\n\n\n\n\n\n\n\n\n\n\n\n\n\n\n\n\n\n\n\n\n\n\n\n\n\n\n\n\n\n\n\n\n\n\n\n\n\n\n\n\n\n\n\n\n\n\n\n\n\n\nBande annonce
URL:https://plaza-mons.be/film/a-complete-unknown-rock-roll-movie-day/2025-10-18
CATEGORIES:Avant-première,Biopic,Classic 21,Rock & roll movie day
ATTACH;FMTTYPE=image/jpeg:https://plaza-mons.be/wp-content/uploads/2025/10/a-complete-unknown-poster.jpg
END:VEVENT
BEGIN:VEVENT
DTSTART;TZID=Europe/Brussels:20251018T204500
DTEND;TZID=Europe/Brussels:20251018T224700
DTSTAMP:20260425T190249
CREATED:20251002T135451Z
LAST-MODIFIED:20251018T000121Z
UID:96055-1760820300-1760827620@plaza-mons.be
SUMMARY:Becoming  Led Zeppelin - Rock & Roll Movie Day
DESCRIPTION:Die my Love\n\n\n\n\n\n			\n				Bande annonce\n			\n		 \n\n\n\n\n\n\n\n\n\n\n\n\n\n\n\n\n\n\n\n\n\n\n\n\n\n\n\n\n\n\n\n\n\n\n\n\n\n\n\n\n\n\n\n\n\n\n\n\n\n\n\n\n\nBande annonce
URL:https://plaza-mons.be/film/becoming-led-zeppelin-rock-roll-movie-day/2025-10-18
CATEGORIES:Avant-première,Classic 21,Documentaire,Rock & roll movie day
ATTACH;FMTTYPE=image/jpeg:https://plaza-mons.be/wp-content/uploads/2025/10/becoming-led-zeppelin-poster.jpg
END:VEVENT
BEGIN:VEVENT
DTSTART;TZID=Europe/Brussels:20251018T211500
DTEND;TZID=Europe/Brussels:20251018T231700
DTSTAMP:20260425T190249
CREATED:20251002T135744Z
LAST-MODIFIED:20251018T000122Z
UID:96056-1760822100-1760829420@plaza-mons.be
SUMMARY:The Rocky  Horror Picture  Show - Rock & Roll Movie Day
DESCRIPTION:Die my Love\n\n\n\n\n\n			\n				Bande annonce\n			\n		 \n\n\n\n\n\n\n\n\n\n\n\n\n\n\n\n\n\n\n\n\n\n\n\n\n\n\n\n\n\n\n\n\n\n\n\n\n\n\n\n\n\n\n\n\n\n\n\n\n\n\n\n\n\nBande annonce
URL:https://plaza-mons.be/film/the-rocky-horror-picture-show-rock-roll-movie-day/2025-10-18
CATEGORIES:Avant-première,Classic 21,Horreur,Rock & roll movie day
ATTACH;FMTTYPE=image/jpeg:https://plaza-mons.be/wp-content/uploads/2025/10/the-rocky-horror-picture-show-poster50black.jpg
END:VEVENT
END:VCALENDAR