BEGIN:VCALENDAR
VERSION:2.0
PRODID:-//Plaza Arthouse Cinema - ECPv5.14.1//NONSGML v1.0//EN
CALSCALE:GREGORIAN
METHOD:PUBLISH
X-WR-CALNAME:Plaza Arthouse Cinema
X-ORIGINAL-URL:https://plaza-mons.be
X-WR-CALDESC:Events for Plaza Arthouse Cinema
REFRESH-INTERVAL;VALUE=DURATION:PT1H
X-Robots-Tag:noindex
X-PUBLISHED-TTL:PT1H
BEGIN:VTIMEZONE
TZID:Europe/Brussels
BEGIN:DAYLIGHT
TZOFFSETFROM:+0100
TZOFFSETTO:+0200
TZNAME:CEST
DTSTART:20250330T010000
END:DAYLIGHT
BEGIN:STANDARD
TZOFFSETFROM:+0200
TZOFFSETTO:+0100
TZNAME:CET
DTSTART:20251026T010000
END:STANDARD
END:VTIMEZONE
BEGIN:VEVENT
DTSTART;TZID=Europe/Brussels:20251012T110000
DTEND;TZID=Europe/Brussels:20251012T114200
DTSTAMP:20260425T222016
CREATED:20250930T114147Z
LAST-MODIFIED:20251123T000023Z
UID:96293-1760266800-1760269320@plaza-mons.be
SUMMARY:Timioche
DESCRIPTION:Die my Love\n\n\n\n\n\n			\n				Bande annonce\n			\n		 \n\n\n\n\n\n\n\n\n\n\n\n\n\n\n\n\n\n\n\n\n\n\n\n\n\n\n\n\n\n\n\n\n\n\n\n\n\n\n\n\n\n\n\n\n\n\n\n\n\n\n\n\n\nBande annonce
URL:https://plaza-mons.be/film/timioche/2025-10-12
CATEGORIES:Animation,Jeune public
ATTACH;FMTTYPE=image/png:https://plaza-mons.be/wp-content/uploads/2025/09/timioche-poster.png
END:VEVENT
BEGIN:VEVENT
DTSTART;TZID=Europe/Brussels:20251012T110000
DTEND;TZID=Europe/Brussels:20251012T121200
DTSTAMP:20260425T222016
CREATED:20250930T115731Z
LAST-MODIFIED:20251123T000009Z
UID:96269-1760266800-1760271120@plaza-mons.be
SUMMARY:Mary Anning
DESCRIPTION:Die my Love\n\n\n\n\n\n			\n				Bande annonce\n			\n		 \n\n\n\n\n\n\n\n\n\n\n\n\n\n\n\n\n\n\n\n\n\n\n\n\n\n\n\n\n\n\n\n\n\n\n\n\n\n\n\n\n\n\n\n\n\n\n\n\n\n\n\n\n\nBande annonce
URL:https://plaza-mons.be/film/mary-anning/2025-10-12
CATEGORIES:Animation,Jeune public
ATTACH;FMTTYPE=image/jpeg:https://plaza-mons.be/wp-content/uploads/2025/09/mary-anning-poster.jpg
END:VEVENT
BEGIN:VEVENT
DTSTART;TZID=Europe/Brussels:20251012T110000
DTEND;TZID=Europe/Brussels:20251012T123500
DTSTAMP:20260425T222016
CREATED:20250904T093843Z
LAST-MODIFIED:20251021T000336Z
UID:96105-1760266800-1760272500@plaza-mons.be
SUMMARY:Classe moyenne
DESCRIPTION:Die my Love\n\n\n\n\n\n			\n				Bande annonce\n			\n		 \n\n\n\n\n\n\n\n\n\n\n\n\n\n\n\n\n\n\n\n\n\n\n\n\n\n\n\n\n\n\n\n\n\n\n\n\n\n\n\n\n\n\n\n\n\n\n\n\n\n\n\n\n\nBande annonce
URL:https://plaza-mons.be/film/classe-moyenne/2025-10-12
ATTACH;FMTTYPE=image/jpeg:https://plaza-mons.be/wp-content/uploads/2025/09/classe-moyenne-poster.jpg
END:VEVENT
BEGIN:VEVENT
DTSTART;TZID=Europe/Brussels:20251012T110000
DTEND;TZID=Europe/Brussels:20251012T125500
DTSTAMP:20260425T222016
CREATED:20250904T092744Z
LAST-MODIFIED:20251014T143632Z
UID:96087-1760266800-1760273700@plaza-mons.be
SUMMARY:Sirāt
DESCRIPTION:Die my Love\n\n\n\n\n\n			\n				Bande annonce\n			\n		 \n\n\n\n\n\n\n\n\n\n\n\n\n\n\n\n\n\n\n\n\n\n\n\n\n\n\n\n\n\n\n\n\n\n\n\n\n\n\n\n\n\n\n\n\n\n\n\n\n\n\n\n\n\nBande annonce
URL:https://plaza-mons.be/film/sirat/2025-10-12
CATEGORIES:Drame,Thriller
ATTACH;FMTTYPE=image/jpeg:https://plaza-mons.be/wp-content/uploads/2025/09/sirat-poster.jpg
END:VEVENT
BEGIN:VEVENT
DTSTART;TZID=Europe/Brussels:20251012T140000
DTEND;TZID=Europe/Brussels:20251012T152800
DTSTAMP:20260425T222016
CREATED:20250930T114409Z
LAST-MODIFIED:20251102T000036Z
UID:96320-1760277600-1760282880@plaza-mons.be
SUMMARY:L’homme qui a  vu l’ours qui a vu  l’homme
DESCRIPTION:Die my Love\n\n\n\n\n\n			\n				Bande annonce\n			\n		 \n\n\n\n\n\n\n\n\n\n\n\n\n\n\n\n\n\n\n\n\n\n\n\n\n\n\n\n\n\n\n\n\n\n\n\n\n\n\n\n\n\n\n\n\n\n\n\n\n\n\n\n\n\nBande annonce
URL:https://plaza-mons.be/film/lhomme-qui-a-vu-lours-qui-a-vu-lhomme/2025-10-12
CATEGORIES:Comedie
ATTACH;FMTTYPE=image/jpeg:https://plaza-mons.be/wp-content/uploads/2025/09/lhomme-qui-a-vu-lours-qui-a-vu-lhomme-i-120x160-hd-original-1.jpg
END:VEVENT
BEGIN:VEVENT
DTSTART;TZID=Europe/Brussels:20251012T140000
DTEND;TZID=Europe/Brussels:20251012T153100
DTSTAMP:20260425T222016
CREATED:20250904T094038Z
LAST-MODIFIED:20251013T000101Z
UID:96073-1760277600-1760283060@plaza-mons.be
SUMMARY:A feu doux (Familiar Touch)
DESCRIPTION:Die my Love\n\n\n\n\n\n			\n				Bande annonce\n			\n		 \n\n\n\n\n\n\n\n\n\n\n\n\n\n\n\n\n\n\n\n\n\n\n\n\n\n\n\n\n\n\n\n\n\n\n\n\n\n\n\n\n\n\n\n\n\n\n\n\n\n\n\n\n\nBande annonce
URL:https://plaza-mons.be/film/a-feu-doux-familiar-touch/2025-10-12
CATEGORIES:Drame
ATTACH;FMTTYPE=image/jpeg:https://plaza-mons.be/wp-content/uploads/2025/09/a-feu-doux-poster.jpg
END:VEVENT
BEGIN:VEVENT
DTSTART;TZID=Europe/Brussels:20251012T150000
DTEND;TZID=Europe/Brussels:20251012T170200
DTSTAMP:20260425T222016
CREATED:20250930T112733Z
LAST-MODIFIED:20251104T000005Z
UID:96339-1760281200-1760288520@plaza-mons.be
SUMMARY:La Grande Ambizione
DESCRIPTION:Die my Love\n\n\n\n\n\n			\n				Bande annonce\n			\n		 \n\n\n\n\n\n\n\n\n\n\n\n\n\n\n\n\n\n\n\n\n\n\n\n\n\n\n\n\n\n\n\n\n\n\n\n\n\n\n\n\n\n\n\n\n\n\n\n\n\n\n\n\n\nBande annonce
URL:https://plaza-mons.be/film/la-grande-ambizione/2025-10-12
CATEGORIES:Biopic
ATTACH;FMTTYPE=image/jpeg:https://plaza-mons.be/wp-content/uploads/2025/09/la-grande-ambizione-poster-be-def-original.jpg
END:VEVENT
BEGIN:VEVENT
DTSTART;TZID=Europe/Brussels:20251012T150000
DTEND;TZID=Europe/Brussels:20251012T170500
DTSTAMP:20260425T222016
CREATED:20250930T111858Z
LAST-MODIFIED:20251103T000006Z
UID:96201-1760281200-1760288700@plaza-mons.be
SUMMARY:Elephant Man
DESCRIPTION:Die my Love
URL:https://plaza-mons.be/film/elephant-man/2025-10-12
CATEGORIES:Horreur
ATTACH;FMTTYPE=image/jpeg:https://plaza-mons.be/wp-content/uploads/2025/09/elephant-man-poster-1.jpg
END:VEVENT
BEGIN:VEVENT
DTSTART;TZID=Europe/Brussels:20251012T160000
DTEND;TZID=Europe/Brussels:20251012T164200
DTSTAMP:20260425T222016
CREATED:20250930T114147Z
LAST-MODIFIED:20251123T000023Z
UID:96294-1760284800-1760287320@plaza-mons.be
SUMMARY:Timioche
DESCRIPTION:Die my Love\n\n\n\n\n\n			\n				Bande annonce\n			\n		 \n\n\n\n\n\n\n\n\n\n\n\n\n\n\n\n\n\n\n\n\n\n\n\n\n\n\n\n\n\n\n\n\n\n\n\n\n\n\n\n\n\n\n\n\n\n\n\n\n\n\n\n\n\nBande annonce
URL:https://plaza-mons.be/film/timioche/2025-10-12/2
CATEGORIES:Animation,Jeune public
ATTACH;FMTTYPE=image/png:https://plaza-mons.be/wp-content/uploads/2025/09/timioche-poster.png
END:VEVENT
BEGIN:VEVENT
DTSTART;TZID=Europe/Brussels:20251012T160000
DTEND;TZID=Europe/Brussels:20251012T174400
DTSTAMP:20260425T222016
CREATED:20251001T121116Z
LAST-MODIFIED:20251028T000027Z
UID:96353-1760284800-1760291040@plaza-mons.be
SUMMARY:The Rule of Jenny Pen
DESCRIPTION:Die my Love\n\n\n\n\n\n			\n				Bande annonce\n			\n		 \n\n\n\n\n\n\n\n\n\n\n\n\n\n\n\n\n\n\n\n\n\n\n\n\n\n\n\n\n\n\n\n\n\n\n\n\n\n\n\n\n\n\n\n\n\n\n\n\n\n\n\n\n\nBande annonce
URL:https://plaza-mons.be/film/the-rule-of-jenny-pen/2025-10-12
ATTACH;FMTTYPE=image/png:https://plaza-mons.be/wp-content/uploads/2025/10/the-rule-of-jenny-pen-poster.png
END:VEVENT
BEGIN:VEVENT
DTSTART;TZID=Europe/Brussels:20251012T173000
DTEND;TZID=Europe/Brussels:20251012T191800
DTSTAMP:20260425T222016
CREATED:20250904T102225Z
LAST-MODIFIED:20251013T000353Z
UID:96190-1760290200-1760296680@plaza-mons.be
SUMMARY:Put Your Soul on Your Hand and Walk
DESCRIPTION:Die my Love\n\n\n\n\n\n			\n				Bande annonce\n			\n		 \n\n\n\n\n\n\n\n\n\n\n\n\n\n\n\n\n\n\n\n\n\n\n\n\n\n\n\n\n\n\n\n\n\n\n\n\n\n\n\n\n\n\n\n\n\n\n\n\n\n\n\n\n\nBande annonce
URL:https://plaza-mons.be/film/put-your-soul-on-your-hand-and-walk-2/2025-10-12
CATEGORIES:Documentaire,Drame
ATTACH;FMTTYPE=image/jpeg:https://plaza-mons.be/wp-content/uploads/2025/09/put-your-soul-poster.jpg
END:VEVENT
BEGIN:VEVENT
DTSTART;TZID=Europe/Brussels:20251012T180000
DTEND;TZID=Europe/Brussels:20251012T194600
DTSTAMP:20260425T222016
CREATED:20250904T094630Z
LAST-MODIFIED:20251021T000422Z
UID:96144-1760292000-1760298360@plaza-mons.be
SUMMARY:La Guerre des Rose  (The Roses)
DESCRIPTION:Die my Love\n\n\n\n\n\n			\n				Bande annonce\n			\n		 \n\n\n\n\n\n\n\n\n\n\n\n\n\n\n\n\n\n\n\n\n\n\n\n\n\n\n\n\n\n\n\n\n\n\n\n\n\n\n\n\n\n\n\n\n\n\n\n\n\n\n\n\n\nBande annonce
URL:https://plaza-mons.be/film/la-guerre-des-rose-the-roses/2025-10-12
CATEGORIES:Comédie dramatique
ATTACH;FMTTYPE=image/jpeg:https://plaza-mons.be/wp-content/uploads/2025/09/the-roses-poster.jpg
END:VEVENT
BEGIN:VEVENT
DTSTART;TZID=Europe/Brussels:20251012T180000
DTEND;TZID=Europe/Brussels:20251012T194700
DTSTAMP:20260425T222016
CREATED:20250930T112302Z
LAST-MODIFIED:20251028T000442Z
UID:96224-1760292000-1760298420@plaza-mons.be
SUMMARY:Rembrandt
DESCRIPTION:Die my Love\n\n\n\n\n\n			\n				Bande annonce\n			\n		 \n\n\n\n\n\n\n\n\n\n\n\n\n\n\n\n\n\n\n\n\n\n\n\n\n\n\n\n\n\n\n\n\n\n\n\n\n\n\n\n\n\n\n\n\n\n\n\n\n\n\n\n\n\nBande annonce
URL:https://plaza-mons.be/film/rembrandt/2025-10-12
CATEGORIES:Drame
ATTACH;FMTTYPE=image/jpeg:https://plaza-mons.be/wp-content/uploads/2025/09/rembrandt-poster.jpg
END:VEVENT
BEGIN:VEVENT
DTSTART;TZID=Europe/Brussels:20251012T181500
DTEND;TZID=Europe/Brussels:20251012T200100
DTSTAMP:20260425T222016
CREATED:20250930T112452Z
LAST-MODIFIED:20251109T000039Z
UID:96251-1760292900-1760299260@plaza-mons.be
SUMMARY:Un simple accident
DESCRIPTION:Die my Love\n\n\n\n\n\n			\n				Bande annonce\n			\n		 \n\n\n\n\n\n\n\n\n\n\n\n\n\n\n\n\n\n\n\n\n\n\n\n\n\n\n\n\n\n\n\n\n\n\n\n\n\n\n\n\n\n\n\n\n\n\n\n\n\n\n\n\n\nBande annonce
URL:https://plaza-mons.be/film/un-simple-accident-2/2025-10-12
CATEGORIES:Drame
ATTACH;FMTTYPE=image/jpeg:https://plaza-mons.be/wp-content/uploads/2025/09/un-simple-accident-poster.jpg
END:VEVENT
BEGIN:VEVENT
DTSTART;TZID=Europe/Brussels:20251012T203000
DTEND;TZID=Europe/Brussels:20251012T220500
DTSTAMP:20260425T222016
CREATED:20250904T093843Z
LAST-MODIFIED:20251021T000340Z
UID:96106-1760301000-1760306700@plaza-mons.be
SUMMARY:Classe moyenne
DESCRIPTION:Die my Love\n\n\n\n\n\n			\n				Bande annonce\n			\n		 \n\n\n\n\n\n\n\n\n\n\n\n\n\n\n\n\n\n\n\n\n\n\n\n\n\n\n\n\n\n\n\n\n\n\n\n\n\n\n\n\n\n\n\n\n\n\n\n\n\n\n\n\n\nBande annonce
URL:https://plaza-mons.be/film/classe-moyenne/2025-10-12/2
ATTACH;FMTTYPE=image/jpeg:https://plaza-mons.be/wp-content/uploads/2025/09/classe-moyenne-poster.jpg
END:VEVENT
BEGIN:VEVENT
DTSTART;TZID=Europe/Brussels:20251012T203000
DTEND;TZID=Europe/Brussels:20251012T223200
DTSTAMP:20260425T222016
CREATED:20250930T112733Z
LAST-MODIFIED:20251104T000005Z
UID:96340-1760301000-1760308320@plaza-mons.be
SUMMARY:La Grande Ambizione
DESCRIPTION:Die my Love\n\n\n\n\n\n			\n				Bande annonce\n			\n		 \n\n\n\n\n\n\n\n\n\n\n\n\n\n\n\n\n\n\n\n\n\n\n\n\n\n\n\n\n\n\n\n\n\n\n\n\n\n\n\n\n\n\n\n\n\n\n\n\n\n\n\n\n\nBande annonce
URL:https://plaza-mons.be/film/la-grande-ambizione/2025-10-12/2
CATEGORIES:Biopic
ATTACH;FMTTYPE=image/jpeg:https://plaza-mons.be/wp-content/uploads/2025/09/la-grande-ambizione-poster-be-def-original.jpg
END:VEVENT
BEGIN:VEVENT
DTSTART;TZID=Europe/Brussels:20251012T203000
DTEND;TZID=Europe/Brussels:20251012T223900
DTSTAMP:20260425T222016
CREATED:20250904T093229Z
LAST-MODIFIED:20251013T000122Z
UID:96126-1760301000-1760308740@plaza-mons.be
SUMMARY:Eden
DESCRIPTION:Die my Love\n\n\n\n\n\n			\n				Bande annonce\n			\n		 \n\n\n\n\n\n\n\n\n\n\n\n\n\n\n\n\n\n\n\n\n\n\n\n\n\n\n\n\n\n\n\n\n\n\n\n\n\n\n\n\n\n\n\n\n\n\n\n\n\n\n\n\n\nBande annonce\n\n\n\n\n\n\n\nhttps://www.youtube.com/watch?v=S2a3ReuhRdU
URL:https://plaza-mons.be/film/eden/2025-10-12
CATEGORIES:Thriller
ATTACH;FMTTYPE=image/jpeg:https://plaza-mons.be/wp-content/uploads/2025/09/eden-vf-original.jpg
END:VEVENT
BEGIN:VEVENT
DTSTART;TZID=Europe/Brussels:20251012T204500
DTEND;TZID=Europe/Brussels:20251012T223700
DTSTAMP:20260425T222016
CREATED:20250904T094858Z
LAST-MODIFIED:20251021T000523Z
UID:96163-1760301900-1760308620@plaza-mons.be
SUMMARY:Les tourmentés
DESCRIPTION:Die my Love\n\n\n\n\n\n			\n				Bande annonce\n			\n		 \n\n\n\n\n\n\n\n\n\n\n\n\n\n\n\n\n\n\n\n\n\n\n\n\n\n\n\n\n\n\n\n\n\n\n\n\n\n\n\n\n\n\n\n\n\n\n\n\n\n\n\n\n\nBande annonce
URL:https://plaza-mons.be/film/les-tourmentes/2025-10-12
CATEGORIES:Drame,Thriller
ATTACH;FMTTYPE=image/jpeg:https://plaza-mons.be/wp-content/uploads/2025/09/les-tourmentes-poster.jpg
END:VEVENT
END:VCALENDAR